EGM2008 (Image Service)
View In :
ArcGIS JavaScript
ArcGIS.com
Current Version : 10.81
Description :
Service Description :
Copyright Text :
Spatial Reference :
102100
Single Fused Map Cache : true
Capabilities : Image,TilesOnly,Tilemap
Tile Info :
- Height : 256
- Width : 256
- DPI : 96
- Levels of Detail : (# Levels : 7)
- Level ID : 0 [Start Tile, End Tile]
Resolution : 156543.033928
Scale : 5.91657527591555E8
- Level ID : 1 [Start Tile, End Tile]
Resolution : 78271.5169639999
Scale : 2.95828763795777E8
- Level ID : 2 [Start Tile, End Tile]
Resolution : 39135.7584820001
Scale : 1.47914381897889E8
- Level ID : 3 [Start Tile, End Tile]
Resolution : 19567.8792409999
Scale : 7.3957190948944E7
- Level ID : 4 [Start Tile, End Tile]
Resolution : 9783.93962049996
Scale : 3.6978595474472E7
- Level ID : 5 [Start Tile, End Tile]
Resolution : 4891.96981024998
Scale : 1.8489297737236E7
- Level ID : 6 [Start Tile, End Tile]
Resolution : 2445.98490512499
Scale : 9244648.868618
- Format : LERC
- Compression Quality : 0
- LERC Error : 0.05
- Origin :
X: -2.0037508342787E7
Y: 2.0037508342787E7
- Spatial Reference :
102100
Extent :
XMin : -2.0037508342787E7
YMin : -3.024215736696229E7
XMax : 2.0037508342780832E7
YMax : 3.024215736696846E7
Spatial Reference :
102100
Initial Extent :
XMin : -2.0037508342787E7
YMin : -3.024215736696229E7
XMax : 2.0037508342780832E7
YMax : 3.024215736696846E7
Spatial Reference :
102100
Full Extent :
XMin : -2.0037508342787E7
YMin : -3.024215736696229E7
XMax : 2.0037508342780832E7
YMax : 3.024215736696846E7
Spatial Reference :
102100
Band Count : 1
Service Data Type : esriImageServiceDataTypeElevation
Cache Type : Elevation
Dataset Format : Cache/LERC
Compression Type : LERC
Pixel Type : F32
Pixel Size X : 2445.98490512499
Pixel Size Y : 2445.98490512499
Min Pixel Size : 2445.98490512499
Max Pixel Size : 156543.033928
Block Width : 256
Block Height : 256
Min Scale : 5.91657527591555E8
Max Scale : 9244648.868618
Export Tiles Allowed : false
Max Export Tiles Count : 100000
Cache Type : Elevation
Document Info :
- Title : EGM2008
- Author : Tam_3D
- Comments :
- Subject : Earth Gravity Model 2008 (EGM08): EGM08 is an interpreted grid of the spherical harmonics model of the earth's gravitational potential.
Data was compiled from https://earth-info.nga.mil/#tab_wgs84-data
- Category :
- Keywords : EGM08, EGM2008, Earth Gravity Model 2008, TiledElevationService