Services Directory
Login
Home
>
Ortho2024_TilePackage_b2
JSON
|
WMTS
|
API Reference
Ortho2024_TilePackage_b2
(Map Service)
View In:
ArcGIS JavaScript
ArcGIS.com
WMTS
Current Version:
10.81
Service Description:
Map Name:
Layers
Legend
All Layers and Tables
Layers:
Ortho2024_TilePackage_b.tpkx
(0)
SDE.DOMGIS.ORTHO2024
(1)
Boundary
(2)
Footprint
(3)
Image
(4)
Description:
Copyright Text:
Spatial Reference:
26910
Single Fused Map Cache:
true
Capabilities:
Map,TilesOnly,Tilemap
Tile Info:
Height:
256
Width:
256
DPI:
96
Levels of Detail:
(# Levels: 11)
Level ID:
0 [
Start Tile
,
End Tile
]
Resolution: 69.8501397002794
Scale: 264000.0
Level ID:
1 [
Start Tile
,
End Tile
]
Resolution: 33.86673440013547
Scale: 128000.0
Level ID:
2 [
Start Tile
,
End Tile
]
Resolution: 16.933367200067735
Scale: 64000.0
Level ID:
3 [
Start Tile
,
End Tile
]
Resolution: 8.466683600033868
Scale: 32000.0
Level ID:
4 [
Start Tile
,
End Tile
]
Resolution: 4.233341800016934
Scale: 16000.0
Level ID:
5 [
Start Tile
,
End Tile
]
Resolution: 2.116670900008467
Scale: 8000.0
Level ID:
6 [
Start Tile
,
End Tile
]
Resolution: 1.0583354500042335
Scale: 4000.0
Level ID:
7 [
Start Tile
,
End Tile
]
Resolution: 0.5291677250021167
Scale: 2000.0
Level ID:
8 [
Start Tile
,
End Tile
]
Resolution: 0.26458386250105836
Scale: 1000.0
Level ID:
9 [
Start Tile
,
End Tile
]
Resolution: 0.13229193125052918
Scale: 500.0
Level ID:
10 [
Start Tile
,
End Tile
]
Resolution: 0.06614596562526459
Scale: 250.0
Format:
MIXED
Compression Quality:
75
Origin:
X: -5120900.0
Y: 9998100.0
Spatial Reference:
26910
Initial Extent:
XMin: 541001.1153999995
YMin: 5438999.369999999
XMax: 557001.1150000002
YMax: 5467999.3686
Spatial Reference:
26910
Full Extent:
XMin: 541001.1153999995
YMin: 5438999.369999999
XMax: 557001.1150000002
YMax: 5467999.3686
Spatial Reference:
26910
Min Scale:
0.0
Max Scale:
0.0
Min LOD:
1
Max LOD:
9
Units:
esriMeters
Supported Image Format Types:
MIXED
Export Tiles Allowed:
false
Max Export Tiles Count:
100000
Resampling:
true
Document Info:
Title:
Ortho2024_TilePackage_b2
Author:
vsidhu_MissionDistrict
Comments:
Subject:
ortho 2024
Category:
Keywords:
ortho