Services Directory
Login
Home
>
OatlandsCached
JSON
|
WMTS
|
API Reference
OatlandsCached
(Map Service)
View In:
ArcGIS JavaScript
ArcGIS.com
WMTS
Current Version:
10.81
Service Description:
Map Name:
Map8
Legend
All Layers and Tables
Layers:
OatlandsCached
(0)
Tables:
Description:
Copyright Text:
Spatial Reference:
102100
Single Fused Map Cache:
true
Capabilities:
Map,TilesOnly
Tile Info:
Height:
256
Width:
256
DPI:
96
Levels of Detail:
(# Levels: 22)
Level ID:
0 [
Start Tile
,
End Tile
]
Resolution: 66145.9656252646
Scale: 2.5E8
Level ID:
1 [
Start Tile
,
End Tile
]
Resolution: 33072.9828126323
Scale: 1.25E8
Level ID:
2 [
Start Tile
,
End Tile
]
Resolution: 16933.367200067736
Scale: 6.4E7
Level ID:
3 [
Start Tile
,
End Tile
]
Resolution: 8466.683600033868
Scale: 3.2E7
Level ID:
4 [
Start Tile
,
End Tile
]
Resolution: 4233.341800016934
Scale: 1.6E7
Level ID:
5 [
Start Tile
,
End Tile
]
Resolution: 2116.670900008467
Scale: 8000000.0
Level ID:
6 [
Start Tile
,
End Tile
]
Resolution: 1058.3354500042335
Scale: 4000000.0
Level ID:
7 [
Start Tile
,
End Tile
]
Resolution: 529.1677250021168
Scale: 2000000.0
Level ID:
8 [
Start Tile
,
End Tile
]
Resolution: 264.5838625010584
Scale: 1000000.0
Level ID:
9 [
Start Tile
,
End Tile
]
Resolution: 132.2919312505292
Scale: 500000.0
Level ID:
10 [
Start Tile
,
End Tile
]
Resolution: 66.1459656252646
Scale: 250000.0
Level ID:
11 [
Start Tile
,
End Tile
]
Resolution: 33.0729828126323
Scale: 125000.0
Level ID:
12 [
Start Tile
,
End Tile
]
Resolution: 16.933367200067735
Scale: 64000.0
Level ID:
13 [
Start Tile
,
End Tile
]
Resolution: 8.466683600033868
Scale: 32000.0
Level ID:
14 [
Start Tile
,
End Tile
]
Resolution: 4.233341800016934
Scale: 16000.0
Level ID:
15 [
Start Tile
,
End Tile
]
Resolution: 2.116670900008467
Scale: 8000.0
Level ID:
16 [
Start Tile
,
End Tile
]
Resolution: 1.0583354500042335
Scale: 4000.0
Level ID:
17 [
Start Tile
,
End Tile
]
Resolution: 0.5291677250021167
Scale: 2000.0
Level ID:
18 [
Start Tile
,
End Tile
]
Resolution: 0.26458386250105836
Scale: 1000.0
Level ID:
19 [
Start Tile
,
End Tile
]
Resolution: 0.13229193125052918
Scale: 500.0
Level ID:
20 [
Start Tile
,
End Tile
]
Resolution: 0.06614596562526459
Scale: 250.0
Level ID:
21 [
Start Tile
,
End Tile
]
Resolution: 0.033072982812632296
Scale: 125.0
Format:
MIXED
Compression Quality:
100
Origin:
X: -2.00377E7
Y: 3.02411E7
Spatial Reference:
102100
Initial Extent:
XMin: -8640441.113620248
YMin: 4727392.692259862
XMax: -8640086.223978177
YMax: 4727671.619875009
Spatial Reference:
102100
Full Extent:
XMin: -8640424.98227288
YMin: 4727405.370787824
XMax: -8640102.355325542
YMax: 4727658.941347048
Spatial Reference:
102100
Min Scale:
2.5E8
Max Scale:
125.0
Min LOD:
0
Max LOD:
21
Units:
esriMeters
Supported Image Format Types:
MIXED
Export Tiles Allowed:
false
Max Export Tiles Count:
100000
Document Info:
Title:
Oatlands Drone Imagery
Author:
amason_IVT
Comments:
Subject:
Oatlands Drone Imagery
Category:
Keywords:
Oatlands