S2_mosaic_2425_BAT_RGBAlpha_EPSG_3031 (Map Service)
View In:
ArcGIS JavaScript
ArcGIS.com
WMTS
Current Version: 10.81
Service Description: Abstract
Sentinel-2 mosaic, covering the British Antarctic Territory, generated from cloud-free pixels of Sentinel-2 images, acquired during the 2024-2025 Antarctic season, displayed as True-Colour synthesis. Mosaic has a spatial resolution of 10m.
Lineage
Mosaic was generated by averaging cloud-free pixels of Sentinel-2 images, acquired from 2024-11-01 to 2025-04-01, using Google Earth Engine C
OPERNICUS/S2_HARMONIZED and
GOOGLE/CLOUD_SCORE_PLUS/V1/S2_HARMONIZED datasets. 0.75 threshold was applied for filtering cloudy pixels. After the export of the tiled mosaic, tiles were converted to 8-bit RGB rasters, using Red, Green, and Blue (B04, B03, B02), bands and Alpha-layer and stretched between 2 and 98 percentiles of pixels values.
Google Earth Engine reference
script.
Input data reference
Copernicus Sentinel-2 data 2024-2025 processed by Google Earth Engine.
Map Name: Layers
Legend
All Layers and Tables
Layers:
Description: Abstract
Sentinel-2 mosaic, covering the British Antarctic Territory, generated from cloud-free pixels of Sentinel-2 images, acquired during the 2024-2025 Antarctic season, displayed as True-Colour synthesis. Mosaic has a spatial resolution of 10m.
Lineage
Mosaic was generated by averaging cloud-free pixels of Sentinel-2 images, acquired from 2024-11-01 to 2025-04-01, using Google Earth Engine C
OPERNICUS/S2_HARMONIZED and
GOOGLE/CLOUD_SCORE_PLUS/V1/S2_HARMONIZED datasets. 0.75 threshold was applied for filtering cloudy pixels. After the export of the tiled mosaic, tiles were converted to 8-bit RGB rasters, using Red, Green, and Blue (B04, B03, B02), bands and Alpha-layer and stretched between 2 and 98 percentiles of pixels values.
Google Earth Engine reference
script.
Input data reference
Copernicus Sentinel-2 data 2024-2025 processed by Google Earth Engine.
Copyright Text: British Antarctic Survey
Spatial Reference: 3031
Single Fused Map Cache: true
Capabilities: Map,TilesOnly,Tilemap
Tile Info:
- Height: 256
- Width: 256
- DPI: 96
- Levels of Detail: (# Levels: 24)
- Level ID: 0 [Start Tile, End Tile]
Resolution: 239343.40193181095
Scale: 9.046049836792854E8
- Level ID: 1 [Start Tile, End Tile]
Resolution: 119671.70096590547
Scale: 4.523024918396427E8
- Level ID: 2 [Start Tile, End Tile]
Resolution: 59835.85048295274
Scale: 2.2615124591982135E8
- Level ID: 3 [Start Tile, End Tile]
Resolution: 29917.92524147637
Scale: 1.1307562295991068E8
- Level ID: 4 [Start Tile, End Tile]
Resolution: 14958.962620738184
Scale: 5.653781147995534E7
- Level ID: 5 [Start Tile, End Tile]
Resolution: 7479.481310369092
Scale: 2.826890573997767E7
- Level ID: 6 [Start Tile, End Tile]
Resolution: 3739.740655184546
Scale: 1.4134452869988834E7
- Level ID: 7 [Start Tile, End Tile]
Resolution: 1869.870327592273
Scale: 7067226.434994417
- Level ID: 8 [Start Tile, End Tile]
Resolution: 934.9351637961365
Scale: 3533613.2174972086
- Level ID: 9 [Start Tile, End Tile]
Resolution: 467.46758189806826
Scale: 1766806.6087486043
- Level ID: 10 [Start Tile, End Tile]
Resolution: 233.73379094903413
Scale: 883403.3043743022
- Level ID: 11 [Start Tile, End Tile]
Resolution: 116.86689547451707
Scale: 441701.6521871511
- Level ID: 12 [Start Tile, End Tile]
Resolution: 58.43344773725853
Scale: 220850.82609357554
- Level ID: 13 [Start Tile, End Tile]
Resolution: 29.216723868629266
Scale: 110425.41304678777
- Level ID: 14 [Start Tile, End Tile]
Resolution: 14.608361934314633
Scale: 55212.706523393885
- Level ID: 15 [Start Tile, End Tile]
Resolution: 7.304180967157317
Scale: 27606.353261696942
- Level ID: 16 [Start Tile, End Tile]
Resolution: 3.6520904835786583
Scale: 13803.176630848471
- Level ID: 17 [Start Tile, End Tile]
Resolution: 1.8260452417893291
Scale: 6901.588315424236
- Level ID: 18 [Start Tile, End Tile]
Resolution: 0.9130226208946646
Scale: 3450.794157712118
- Level ID: 19 [Start Tile, End Tile]
Resolution: 0.4565113104473323
Scale: 1725.397078856059
- Level ID: 20 [Start Tile, End Tile]
Resolution: 0.22825565522366614
Scale: 862.6985394280294
- Level ID: 21 [Start Tile, End Tile]
Resolution: 0.11412782761183307
Scale: 431.3492697140147
- Level ID: 22 [Start Tile, End Tile]
Resolution: 0.057063913805916536
Scale: 215.67463485700736
- Level ID: 23 [Start Tile, End Tile]
Resolution: 0.028531956902958268
Scale: 107.83731742850368
- Format: MIXED
- Compression Quality: 75
- Origin:
X: -3.06359554472718E7
Y: 3.06359554472718E7
- Spatial Reference:
3031
Initial Extent: XMin: -3238353.0789552284
YMin: 134324.7921520127
XMax: -263317.2789552286
YMax: 3091958.2921520127
Spatial Reference:
3031
Full Extent: XMin: -3238353.0789552284
YMin: 134324.7921520127
XMax: -263317.2789552286
YMax: 3091958.2921520127
Spatial Reference:
3031
Min Scale: 0.0
Max Scale: 0.0
Min LOD: 5
Max LOD: 15
Units: esriMeters
Supported Image Format Types: MIXED
Export Tiles Allowed: false
Max Export Tiles Count: 100000
Resampling: true
Document Info: - Title: Sentinel-2 Mosaic 24/25 of BAT RGBAlpha EPSG:3031
- Author: aliska_BAS
- Comments:
- Subject: Sentinel-2 mosaic of the BAT for the 2024-2025 antarctic season
- Category:
- Keywords: Sentinel-2, Antarctica, satellite, imagery