OS_Open_Raster (Map Service)
View In:
ArcGIS JavaScript
ArcGIS.com
WMTS
Current Version: 10.81
Service Description: OS Open Raster stack of GB for use as base mapping from national scale through to street level data.
The currency of the data is: - GB Overview Maps - 12/2014
- MiniScale - 01/2024
- OS 250K Raster - 06/2024
- Vector Map District Raster - 05/2024
- Open Map Local Raster - 10/2024
The coverage of the map service is GB.
The map projection is British National Grid.
The service is appropriate for viewing down to a scale of approximately 1:2,500.
Updated: 29/10/2024
Map Name: Ordnance Survey Open Raster
Legend
All Layers and Tables
Layers:
Tables:
Description: OS Open Raster stack of GB for use as base mapping from national scale through to street level data.
The currency of the data is: - GB Overview Maps - 12/2014
- MiniScale - 01/2024
- OS 250K Raster - 06/2024
- Vector Map District Raster - 05/2024
- Open Map Local Raster - 10/2024
The coverage of the map service is GB.
The map projection is British National Grid.
The service is appropriate for viewing down to a scale of approximately 1:2,500.
Updated: 29/10/2024
Copyright Text: Contains OS data © Crown Copyright and database right 2022
Spatial Reference: 27700
Single Fused Map Cache: true
Capabilities: Map,TilesOnly
Tile Info:
- Height: 256
- Width: 256
- DPI: 96
- Levels of Detail: (# Levels: 19)
- Level ID: 0 [Start Tile, End Tile]
Resolution: 132291.9312505292
Scale: 5.0E8
- Level ID: 1 [Start Tile, End Tile]
Resolution: 66145.9656252646
Scale: 2.5E8
- Level ID: 2 [Start Tile, End Tile]
Resolution: 26458.386250105836
Scale: 1.0E8
- Level ID: 3 [Start Tile, End Tile]
Resolution: 19843.789687579378
Scale: 7.5E7
- Level ID: 4 [Start Tile, End Tile]
Resolution: 13229.193125052918
Scale: 5.0E7
- Level ID: 5 [Start Tile, End Tile]
Resolution: 6614.596562526459
Scale: 2.5E7
- Level ID: 6 [Start Tile, End Tile]
Resolution: 2645.8386250105837
Scale: 1.0E7
- Level ID: 7 [Start Tile, End Tile]
Resolution: 1322.9193125052918
Scale: 5000000.0
- Level ID: 8 [Start Tile, End Tile]
Resolution: 661.4596562526459
Scale: 2500000.0
- Level ID: 9 [Start Tile, End Tile]
Resolution: 264.5838625010584
Scale: 1000000.0
- Level ID: 10 [Start Tile, End Tile]
Resolution: 132.2919312505292
Scale: 500000.0
- Level ID: 11 [Start Tile, End Tile]
Resolution: 66.1459656252646
Scale: 250000.0
- Level ID: 12 [Start Tile, End Tile]
Resolution: 26.458386250105836
Scale: 100000.0
- Level ID: 13 [Start Tile, End Tile]
Resolution: 19.843789687579378
Scale: 75000.0
- Level ID: 14 [Start Tile, End Tile]
Resolution: 13.229193125052918
Scale: 50000.0
- Level ID: 15 [Start Tile, End Tile]
Resolution: 6.614596562526459
Scale: 25000.0
- Level ID: 16 [Start Tile, End Tile]
Resolution: 2.6458386250105836
Scale: 10000.0
- Level ID: 17 [Start Tile, End Tile]
Resolution: 1.3229193125052918
Scale: 5000.0
- Level ID: 18 [Start Tile, End Tile]
Resolution: 0.6614596562526459
Scale: 2500.0
- Format: PNG32
- Compression Quality: 0
- Origin:
X: -5781523.99792
Y: 4883853.592505
- Spatial Reference:
27700
Initial Extent: XMin: -649750.0
YMin: -150250.0
XMax: 1350250.0
YMax: 1449750.0
Spatial Reference:
27700
Full Extent: XMin: -649750.0
YMin: -150250.0
XMax: 1350250.0
YMax: 1449750.0
Spatial Reference:
27700
Min Scale: 5.0E8
Max Scale: 2500.0
Min LOD: 0
Max LOD: 18
Units: esriMeters
Supported Image Format Types: PNG32
Export Tiles Allowed: true
Max Export Tiles Count: 100000
Document Info: - Title: OS Open Raster Tile Layer
- Author: EsriUKContent
- Comments:
- Subject: OS Open Raster stack of GB for use as base mapping from national scale through to street level data.
- Category:
- Keywords: OS, OpenData, Raster, base map, Great Britain, user_basemap, basemap, partner_basemap, Esri UK