Global_airline_routes (Map Service)
View In:
ArcGIS JavaScript
ArcGIS.com
WMTS
Current Version: 10.81
Service Description: This layer visualizes over 60,000 commercial flight paths. The data was obtained from
openflights.org, and was last updated in June 2014.
The site states, "The third-party that OpenFlights uses for route data ceased providing updates in June 2014. The current data is of historical value only. As of June 2014, the OpenFlights/Airline Route Mapper Route Database contains 67,663 routes between 3,321 airports on 548 airlines spanning the globe. Creating and maintaining this database has required and continues to require an immense amount of work. We need your support to keep this database up-to-date."
Routes were created using the
XY-to-line tool in ArcGIS Pro, inspired by
Kenneth Field's work, and following a modified methodology from Michael Markieta (www.spatialanalysis.ca/2011/global-connectivity-mapping-out-flight-routes).
Some cleanup was required in the original data, including adding missing location data for several airports and some missing IATA codes. Before performing the point to line conversion, the key to preserving attributes in the original data is a combination of the
INDEX and MATCH functions in Microsoft Excel.
Example function: =INDEX(Airlines!$B$2:$B$6200,MATCH(Routes!$A2,Airlines!$D$2:Airlines!$D$6200,0))
Map Name: Map
Legend
All Layers and Tables
Layers:
Tables:
Description: This layer visualizes over 60,000 commercial flight paths. The data was obtained from
openflights.org, and was last updated in June 2014.
The site states, "The third-party that OpenFlights uses for route data ceased providing updates in June 2014. The current data is of historical value only. As of June 2014, the OpenFlights/Airline Route Mapper Route Database contains 67,663 routes between 3,321 airports on 548 airlines spanning the globe. Creating and maintaining this database has required and continues to require an immense amount of work. We need your support to keep this database up-to-date."
Routes were created using the
XY-to-line tool in ArcGIS Pro, inspired by
Kenneth Field's work, and following a modified methodology from Michael Markieta (www.spatialanalysis.ca/2011/global-connectivity-mapping-out-flight-routes).
Some cleanup was required in the original data, including adding missing location data for several airports and some missing IATA codes. Before performing the point to line conversion, the key to preserving attributes in the original data is a combination of the
INDEX and MATCH functions in Microsoft Excel.
Example function: =INDEX(Airlines!$B$2:$B$6200,MATCH(Routes!$A2,Airlines!$D$2:Airlines!$D$6200,0))
Copyright Text: openflights.org
Spatial Reference: 102100
Single Fused Map Cache: true
Capabilities: Map,TilesOnly,Tilemap
Tile Info:
- Height: 256
- Width: 256
- DPI: 96
- Levels of Detail: (# Levels: 24)
- Level ID: 0 [Start Tile, End Tile]
Resolution: 156543.033928
Scale: 5.91657527591555E8
- Level ID: 1 [Start Tile, End Tile]
Resolution: 78271.5169639999
Scale: 2.95828763795777E8
- Level ID: 2 [Start Tile, End Tile]
Resolution: 39135.7584820001
Scale: 1.47914381897889E8
- Level ID: 3 [Start Tile, End Tile]
Resolution: 19567.8792409999
Scale: 7.3957190948944E7
- Level ID: 4 [Start Tile, End Tile]
Resolution: 9783.93962049996
Scale: 3.6978595474472E7
- Level ID: 5 [Start Tile, End Tile]
Resolution: 4891.96981024998
Scale: 1.8489297737236E7
- Level ID: 6 [Start Tile, End Tile]
Resolution: 2445.98490512499
Scale: 9244648.868618
- Level ID: 7 [Start Tile, End Tile]
Resolution: 1222.99245256249
Scale: 4622324.434309
- Level ID: 8 [Start Tile, End Tile]
Resolution: 611.49622628138
Scale: 2311162.217155
- Level ID: 9 [Start Tile, End Tile]
Resolution: 305.748113140558
Scale: 1155581.108577
- Level ID: 10 [Start Tile, End Tile]
Resolution: 152.874056570411
Scale: 577790.554289
- Level ID: 11 [Start Tile, End Tile]
Resolution: 76.4370282850732
Scale: 288895.277144
- Level ID: 12 [Start Tile, End Tile]
Resolution: 38.2185141425366
Scale: 144447.638572
- Level ID: 13 [Start Tile, End Tile]
Resolution: 19.1092570712683
Scale: 72223.819286
- Level ID: 14 [Start Tile, End Tile]
Resolution: 9.55462853563415
Scale: 36111.909643
- Level ID: 15 [Start Tile, End Tile]
Resolution: 4.77731426794937
Scale: 18055.954822
- Level ID: 16 [Start Tile, End Tile]
Resolution: 2.38865713397468
Scale: 9027.977411
- Level ID: 17 [Start Tile, End Tile]
Resolution: 1.19432856685505
Scale: 4513.988705
- Level ID: 18 [Start Tile, End Tile]
Resolution: 0.597164283559817
Scale: 2256.994353
- Level ID: 19 [Start Tile, End Tile]
Resolution: 0.298582141647617
Scale: 1128.497176
- Level ID: 20 [Start Tile, End Tile]
Resolution: 0.14929107082380833
Scale: 564.248588
- Level ID: 21 [Start Tile, End Tile]
Resolution: 0.07464553541190416
Scale: 282.124294
- Level ID: 22 [Start Tile, End Tile]
Resolution: 0.03732276770595208
Scale: 141.062147
- Level ID: 23 [Start Tile, End Tile]
Resolution: 0.01866138385297604
Scale: 70.5310735
- Format: PNG
- Compression Quality: 0
- Origin:
X: -2.0037508342787E7
Y: 2.0037508342787E7
- Spatial Reference:
102100
Initial Extent: XMin: -2.6671399275884014E7
YMin: -2.7735595118260216E7
XMax: 3.032648632165129E7
YMax: 2.8120701926534753E7
Spatial Reference:
102100
Full Extent: XMin: -2.0037507067161843E7
YMin: -8798302.585085392
XMax: 2.0037507067161843E7
YMax: 2.7697649890679743E7
Spatial Reference:
102100
Min Scale: 5.91657527591555E8
Max Scale: 1.8489297737236E7
Min LOD: 0
Max LOD: 5
Units: esriMeters
Supported Image Format Types: PNG
Export Tiles Allowed: false
Max Export Tiles Count: 100000
Document Info: - Title: Global Airline Routes
- Author: StoryMaps
- Comments:
- Subject: A visualization of global airline routes, based on data from OpenFlights.org.
- Category:
- Keywords: anthropocene, airlines, networks, ArcGIS, Service Definition, .sd