Kwel_en_infiltratie_huidig (Map Service)
View In:
ArcGIS JavaScript
ArcGIS.com
WMTS
Current Version: 10.81
Service Description:
Schaalniveaus: 1:12.288.000 - 1:6.000
Schaalniveaus: 1:3.000 - 1:187,5 resampled
Uittredend grondwater heet kwel. Kwel beperkt zich doorgaans tot diepe polders en de lage randen van heuvels, duinen en plateaus. Het stroomt daar naartoe vanuit hoger gelegen gebieden, waar het water in de grond infiltreert. Infiltratie is het indringen van water in de grond. Hoogteverschillen en de bodemopbouw zorgen voor een wisselwerking tussen kwel en infiltratie. Door menselijk ingrijpen kan de 'flux' tussen kwel en infiltratie veranderen. Bijvoorbeeld door grondwaterwinningen of door maatregelen langs dijken ivm zogeheten dijkskwel bij een hoge rivierwaterstand. Kwel kan nadelig zijn voor de kwaliteit van oppervlakte, bijvoorbeeld door zout of nutriënten. Kwel kan ook van zeer goede kwaliteit zijn, zoals het water dat aan de rand van de Veluwe uittreedt.
Deze kaart toont waar en in welke mate kwel en infiltratie plaatsvindt. De kaartlaag '2050WH' toont aan dat rondom de huidige kwelgebieden de grootste toename plaatsvindt. De kaart is gebaseerd op de uitkomsten van het Nationaal Water Model. Dit model geeft op landelijk niveau een beeld van de huidige situatie en verwachte ontwikkeling. Specifieke lokale factoren kunnen veel invloed hebben op grondwaterstanden en zijn niet meegenomen in deze modellering. Voor meer toelichting op deze kaartlaag: ga naar de Story Map via de banner rechtsonder op de Klimaateffectatlas.
Deze kaart is opgenomen in de Klimaateffectatlas. De
Klimaateffectatlas brengt landelijke klimaatdata bij elkaar en geeft een eerste indruk van de toekomstige dreigingen van overstromingen, wateroverlast, droogte en hitte. Voor de gegevens in de Klimaateffectatlas worden de KNMI'14-klimaatscenario's gebruikt.
Het beschikbaar stellen van de informatie uit de Klimaateffectatlas gebeurt in samenwerking met
Climate Adaptation Services (CAS). CAS heeft ook een aantal
StoryMaps gemaakt die meer informatie over de vier thema's overstromingen, wateroverlast, hitte en droogte tonen.
Naast deze kaartlaag stellen we een
webmap beschikbaar met alle overstromingsdata uit de Klimaateffectatlas. Een overzicht van alle beschikbare lagen uit de Klimaateffectatlas is te vinden via de groep
Klimaateffectatlas.
Deze kaartlaag wordt aangeboden vanuit Esri Nederland Content. Esri Nederland Content biedt landsdekkende data en services aan die gebruikt kunnen worden in het ArcGIS-platform. Het content-team actualiseert het aanbod en voegt geregeld nieuwe content toe. Door content van Esri Nederland te combineren met andere gegevens creëert u snel en eenvoudig nieuwe informatieproducten. Meer informatie over het content aanbod is te vinden via:
esri.nl/content. Heeft u vragen of opmerkingen dan horen wij dat graag via
content@esri.nl. Blijf op de hoogte van het laatste content-nieuws via de
Esri Nederland Content Hub.
Map Name: Kwel en infiltratie - huidig
Legend
All Layers and Tables
Layers:
Tables:
Description:
Schaalniveaus: 1:12.288.000 - 1:6.000
Schaalniveaus: 1:3.000 - 1:187,5 resampled
Uittredend grondwater heet kwel. Kwel beperkt zich doorgaans tot diepe polders en de lage randen van heuvels, duinen en plateaus. Het stroomt daar naartoe vanuit hoger gelegen gebieden, waar het water in de grond infiltreert. Infiltratie is het indringen van water in de grond. Hoogteverschillen en de bodemopbouw zorgen voor een wisselwerking tussen kwel en infiltratie. Door menselijk ingrijpen kan de 'flux' tussen kwel en infiltratie veranderen. Bijvoorbeeld door grondwaterwinningen of door maatregelen langs dijken ivm zogeheten dijkskwel bij een hoge rivierwaterstand. Kwel kan nadelig zijn voor de kwaliteit van oppervlakte, bijvoorbeeld door zout of nutriënten. Kwel kan ook van zeer goede kwaliteit zijn, zoals het water dat aan de rand van de Veluwe uittreedt.
Deze kaart toont waar en in welke mate kwel en infiltratie plaatsvindt. De kaartlaag '2050WH' toont aan dat rondom de huidige kwelgebieden de grootste toename plaatsvindt. De kaart is gebaseerd op de uitkomsten van het Nationaal Water Model. Dit model geeft op landelijk niveau een beeld van de huidige situatie en verwachte ontwikkeling. Specifieke lokale factoren kunnen veel invloed hebben op grondwaterstanden en zijn niet meegenomen in deze modellering. Voor meer toelichting op deze kaartlaag: ga naar de Story Map via de banner rechtsonder op de Klimaateffectatlas.
Deze kaart is opgenomen in de Klimaateffectatlas. De
Klimaateffectatlas brengt landelijke klimaatdata bij elkaar en geeft een eerste indruk van de toekomstige dreigingen van overstromingen, wateroverlast, droogte en hitte. Voor de gegevens in de Klimaateffectatlas worden de KNMI'14-klimaatscenario's gebruikt.
Het beschikbaar stellen van de informatie uit de Klimaateffectatlas gebeurt in samenwerking met
Climate Adaptation Services (CAS). CAS heeft ook een aantal
StoryMaps gemaakt die meer informatie over de vier thema's overstromingen, wateroverlast, hitte en droogte tonen.
Naast deze kaartlaag stellen we een
webmap beschikbaar met alle overstromingsdata uit de Klimaateffectatlas. Een overzicht van alle beschikbare lagen uit de Klimaateffectatlas is te vinden via de groep
Klimaateffectatlas.
Deze kaartlaag wordt aangeboden vanuit Esri Nederland Content. Esri Nederland Content biedt landsdekkende data en services aan die gebruikt kunnen worden in het ArcGIS-platform. Het content-team actualiseert het aanbod en voegt geregeld nieuwe content toe. Door content van Esri Nederland te combineren met andere gegevens creëert u snel en eenvoudig nieuwe informatieproducten. Meer informatie over het content aanbod is te vinden via:
esri.nl/content. Heeft u vragen of opmerkingen dan horen wij dat graag via
content@esri.nl. Blijf op de hoogte van het laatste content-nieuws via de
Esri Nederland Content Hub.
Copyright Text: Esri Nederland, Klimaateffectatlas
Spatial Reference: 28992
Single Fused Map Cache: true
Capabilities: Map,TilesOnly
Tile Info:
- Height: 256
- Width: 256
- DPI: 96
- Levels of Detail: (# Levels: 17)
- Level ID: 0 [Start Tile, End Tile]
Resolution: 3251.206502413005
Scale: 1.2288E7
- Level ID: 1 [Start Tile, End Tile]
Resolution: 1625.6032512065026
Scale: 6144000.0
- Level ID: 2 [Start Tile, End Tile]
Resolution: 812.8016256032513
Scale: 3072000.0
- Level ID: 3 [Start Tile, End Tile]
Resolution: 406.40081280162565
Scale: 1536000.0
- Level ID: 4 [Start Tile, End Tile]
Resolution: 203.20040640081282
Scale: 768000.0
- Level ID: 5 [Start Tile, End Tile]
Resolution: 101.60020320040641
Scale: 384000.0
- Level ID: 6 [Start Tile, End Tile]
Resolution: 50.800101600203206
Scale: 192000.0
- Level ID: 7 [Start Tile, End Tile]
Resolution: 25.400050800101603
Scale: 96000.0
- Level ID: 8 [Start Tile, End Tile]
Resolution: 12.700025400050801
Scale: 48000.0
- Level ID: 9 [Start Tile, End Tile]
Resolution: 6.350012700025401
Scale: 24000.0
- Level ID: 10 [Start Tile, End Tile]
Resolution: 3.1750063500127004
Scale: 12000.0
- Level ID: 11 [Start Tile, End Tile]
Resolution: 1.5875031750063502
Scale: 6000.0
- Level ID: 12 [Start Tile, End Tile]
Resolution: 0.7937515875031751
Scale: 3000.0
- Level ID: 13 [Start Tile, End Tile]
Resolution: 0.39687579375158755
Scale: 1500.0
- Level ID: 14 [Start Tile, End Tile]
Resolution: 0.19843789687579377
Scale: 750.0
- Level ID: 15 [Start Tile, End Tile]
Resolution: 0.09921894843789689
Scale: 375.0
- Level ID: 16 [Start Tile, End Tile]
Resolution: 0.04960947421894844
Scale: 187.5
- Format: PNG
- Compression Quality: 0
- Origin:
X: -285401.92
Y: 903401.92
- Spatial Reference:
28992
Initial Extent: XMin: -15000.000000000013
YMin: 283750.0
XMax: 315000.0
YMax: 641250.0
Spatial Reference:
28992
Full Extent: XMin: 0.0
YMin: 300000.0
XMax: 300000.0
YMax: 625000.0
Spatial Reference:
28992
Min Scale: 1.2288E7
Max Scale: 187.5
Min LOD: 0
Max LOD: 16
Units: esriMeters
Supported Image Format Types: PNG
Export Tiles Allowed: false
Max Export Tiles Count: 100000
Resampling: true
Document Info: - Title: Kwel en infiltratie - huidig
- Author: Esri_NL_Content
- Comments:
- Subject: Deze kaartlaag geeft de huidige Kwel en Infiltratie uit de Klimaateffectatlas weer. Uittredend grondwater heet kwel en infiltratie is het indringen van water in de grond. Door menselijk ingrijpen kan de 'flux' tussen kwel en infiltratie veranderen. Deze kaart toont waar en in welke mate kwel en infiltratie plaatsvindt.
- Category:
- Keywords: Klimaateffectatlas, KEA, water, wateroverlast, KNMI, klimaat, klimaatscenario, klimaatscenario's, scenario, scenario's, IPCC, Esri, Nederland, Content, Holland, Netherlands, CAS, Climate, Adaptation, Service, Wageningen, Universiteit, Deltares, KWR, Tauw, Hogeschool, van, Amsterdam, HKV, TNO, Atlas, Natuurlijk, Kapitaal, Rijkswaterstaat, RWS, Deltaprogramma, Ruimtelijke, Adaptatie, hazards, landscape, natuurlijke ramp, risico, landschap, rivier, rivieren, climate, weather, weer, kans, 2020, 2050, klimaateffecten, uittredend, grondwater, kwel, stroom, grond, infiltreert, infiltratie, indringen, flux, grondwaterwinningen, dijkskwel, oppervlakte, Nationaal Water Model, kwelgebieden, huidig, natural