Historische_tijdreis_2023 (Map Service)
View In:
ArcGIS JavaScript
ArcGIS.com
WMTS
Current Version: 10.81
Service Description: Deze tiled service ontsluit historische topografische data voor de periode t/m 2023. De service kan gebruikt worden voor een breed scala aan toepassingen, waaronder historische analyses.
Voor de collectie van tiled services zijn meerdere historische kaartschalen gebruikt. De collectie beslaat de periode 1815-heden en bevat meerdere edities van de volgende kaartseries:
- Kleinschalig: Postroutekaart 1810, Algemene Kaart Nederland en Gemeentekaart
- Semi-kleinschalig: Kraijenhoffkaart
- Mid-schalig: Topografische Militaire Kaart, RD050 (1:50.000)
- Grootschalig: Bonnebladen en RD025 (1:25.000)
De services zijn opgebouwd uit meerdere kaartschalen en tonen gegevens conform het Nederlands tiling schema op de schalen 1:12.288.000 (level 0) t/m 1:6.000 (level 11). De projectie van de tiled services is het Rijksdriehoeksstelsel.
Deze en andere historische kaartlagen kunt u terug vinden in onze groepen Historische kaarten en Cultureel Erfgoed.
De service van een specifiek jaar laat de historische topografische data zien die tot op dat jaar beschikbaar waren. Met name voor de services in de jaren 1800-1900 kan dit betekenen dat er gedurende meerdere jaren geen verschil in de kaart waarneembaar is. Dit komt omdat er voor die gebieden dan geen nieuwe kaarten zijn gemaakt. Een service toont altijd de meest recente gegevens voor het gekozen jaartal.
Deze kaartlaag wordt aangeboden vanuit Esri Nederland Content. Esri Nederland Content biedt landsdekkende data en services aan die gebruikt kunnen worden in het ArcGIS platform. Het content-team actualiseert het aanbod en voegt geregeld nieuwe content toe. Door content van Esri Nederland te combineren met andere gegevens creëert u snel en eenvoudig nieuwe informatieproducten. Meer informatie over het content aanbod is te vinden via: esri.nl/content. Heeft u vragen of opmerkingen dan horen wij dat graag via content@esri.nl. Volg ons op GeoNet om op de hoogte te blijven van al het Esri Nederland Content-nieuws.
Map Name: Layers
Legend
All Layers and Tables
Layers:
Description: Deze tiled service ontsluit historische topografische data voor de periode t/m 2023. De service kan gebruikt worden voor een breed scala aan toepassingen, waaronder historische analyses.
Voor de collectie van tiled services zijn meerdere historische kaartschalen gebruikt. De collectie beslaat de periode 1815-heden en bevat meerdere edities van de volgende kaartseries:
- Kleinschalig: Postroutekaart 1810, Algemene Kaart Nederland en Gemeentekaart
- Semi-kleinschalig: Kraijenhoffkaart
- Mid-schalig: Topografische Militaire Kaart, RD050 (1:50.000)
- Grootschalig: Bonnebladen en RD025 (1:25.000)
De services zijn opgebouwd uit meerdere kaartschalen en tonen gegevens conform het Nederlands tiling schema op de schalen 1:12.288.000 (level 0) t/m 1:6.000 (level 11). De projectie van de tiled services is het Rijksdriehoeksstelsel.
Deze en andere historische kaartlagen kunt u terug vinden in onze groepen Historische kaarten en Cultureel Erfgoed.
De service van een specifiek jaar laat de historische topografische data zien die tot op dat jaar beschikbaar waren. Met name voor de services in de jaren 1800-1900 kan dit betekenen dat er gedurende meerdere jaren geen verschil in de kaart waarneembaar is. Dit komt omdat er voor die gebieden dan geen nieuwe kaarten zijn gemaakt. Een service toont altijd de meest recente gegevens voor het gekozen jaartal.
Deze kaartlaag wordt aangeboden vanuit Esri Nederland Content. Esri Nederland Content biedt landsdekkende data en services aan die gebruikt kunnen worden in het ArcGIS platform. Het content-team actualiseert het aanbod en voegt geregeld nieuwe content toe. Door content van Esri Nederland te combineren met andere gegevens creëert u snel en eenvoudig nieuwe informatieproducten. Meer informatie over het content aanbod is te vinden via: esri.nl/content. Heeft u vragen of opmerkingen dan horen wij dat graag via content@esri.nl. Volg ons op GeoNet om op de hoogte te blijven van al het Esri Nederland Content-nieuws.
Copyright Text: Esri Nederland; Kadaster; Gemeentekaart (t/m 1:768.000), TOP250 (t/m 1:192.000), TOP50 (t/m 1:48.000), TOP25 (t/m 1:6.000)
Spatial Reference: 28992
Single Fused Map Cache: true
Capabilities: Map,TilesOnly,Tilemap
Tile Info:
- Height: 256
- Width: 256
- DPI: 96
- Levels of Detail: (# Levels: 12)
- Level ID: 0 [Start Tile, End Tile]
Resolution: 3251.206502413005
Scale: 1.2288E7
- Level ID: 1 [Start Tile, End Tile]
Resolution: 1625.6032512065026
Scale: 6144000.0
- Level ID: 2 [Start Tile, End Tile]
Resolution: 812.8016256032513
Scale: 3072000.0
- Level ID: 3 [Start Tile, End Tile]
Resolution: 406.40081280162565
Scale: 1536000.0
- Level ID: 4 [Start Tile, End Tile]
Resolution: 203.20040640081282
Scale: 768000.0
- Level ID: 5 [Start Tile, End Tile]
Resolution: 101.60020320040641
Scale: 384000.0
- Level ID: 6 [Start Tile, End Tile]
Resolution: 50.800101600203206
Scale: 192000.0
- Level ID: 7 [Start Tile, End Tile]
Resolution: 25.400050800101603
Scale: 96000.0
- Level ID: 8 [Start Tile, End Tile]
Resolution: 12.700025400050801
Scale: 48000.0
- Level ID: 9 [Start Tile, End Tile]
Resolution: 6.350012700025401
Scale: 24000.0
- Level ID: 10 [Start Tile, End Tile]
Resolution: 3.1750063500127004
Scale: 12000.0
- Level ID: 11 [Start Tile, End Tile]
Resolution: 1.5875031750063502
Scale: 6000.0
- Format: MIXED
- Compression Quality: 75
- Origin:
X: -3.05155E7
Y: 3.1112399999999993E7
- Spatial Reference:
28992
Initial Extent: XMin: -139515.088986988
YMin: 281586.041637906
XMax: 422293.39462998
YMax: 647671.893809611
Spatial Reference:
28992
Full Extent: XMin: -139515.088986988
YMin: 281586.041637906
XMax: 422293.39462998
YMax: 647671.893809611
Spatial Reference:
28992
Min Scale: 0.0
Max Scale: 5000.0
Min LOD: 0
Max LOD: 11
Units: esriMeters
Supported Image Format Types: MIXED
Export Tiles Allowed: false
Max Export Tiles Count: 100000
Resampling: true
Document Info: - Title: Historische topografische data 2023
- Author: Esri_NL_Content
- Comments:
- Subject: Deze tiled service ontsluit historische topografische data - periode t/m 2023
- Category:
- Keywords: Historische tijdreis, 2023, Algemene Kaart Nederland, Bonnebladen, Carte Generale, Choro-Topografische Kaart, Chromo-Topografische Kaart, Gemeentekaart, Gemeenten, Historische kaart, Kadaster, Kraijenhoff, Nederland, Netherlands, Postroutekaart, Provincie, RD025, RD050, TMK, Topografie, Topografische Dienst, Topografische Militaire Kaart, geschiedenis, historie, historisch, Esri, Content, Holland, RD, Rijksdriehoeksstelsel, ondergrondkaart, achtergrondkaart, topografische kaart, topo, background map, topographic map, historical, historische, historic