Elevation_3D_RD (Image Service)
View In :
ArcGIS JavaScript
ArcGIS.com
Current Version : 10.81
Description : Actualiteit: zie afbeelding
Deze hoogtelaag is gebaseerd op het AHN4 maaiveld-product. Door deze laag toe te voegen aan een webscene, wordt deze laag automatisch gebruikt als basishoogte. Het coördinaatsysteem van deze laag is RD New.
Deze laag maakt onderdeel uit van een uitgebreide collectie van 3D-kaarten die gebruikt kunnen worden als basis voor uw eigen 3D-informatieproducten. Het is mogelijk om deze laag toe te voegen in een scene in ArcGIS Pro, in de ArcGIS Online-scene viewer en in ArcGIS Earth. Vervolgens kunt u eigen informatie aan de kaart toevoegen en als scene opslaan in ArcGIS Online.
Een overzicht van alle beschikbare 3D Content is te vinden in de groep 3D

Afbeelding: jaar van inwinning AHN4. Groen: 2022, geel: 2021, oranje: 2020.
Deze laag wordt aangeboden vanuit Esri Nederland Content. Esri Nederland Content biedt landsdekkende data en services aan die gebruikt kunnen worden in het ArcGIS platform. Het content-team actualiseert het aanbod en voegt geregeld nieuwe content toe. Door content van Esri Nederland te combineren met andere gegevens creëert u snel en eenvoudig nieuwe informatieproducten. Meer informatie over het content aanbod is te vinden via: esri.nl/content. Heeft u vragen of opmerkingen dan horen wij dat graag via content@esri.nl. Blijf op de hoogte van het laatste content-nieuws via de Esri Nederland Content Hub.
Service Description : T3D_Elevation_RD_cache
Copyright Text : Esri Nederland, AHN
Spatial Reference : 28992
Single Fused Map Cache : true
Capabilities : Image,TilesOnly
Tile Info :
- Height : 256
- Width : 256
- DPI : 96
- Levels of Detail : (# Levels : 14)
- Level ID : 0 [Start Tile, End Tile]
Resolution : 3251.206502413005
Scale : 1.2288E7
- Level ID : 1 [Start Tile, End Tile]
Resolution : 1625.6032512065026
Scale : 6144000.0
- Level ID : 2 [Start Tile, End Tile]
Resolution : 812.8016256032513
Scale : 3072000.0
- Level ID : 3 [Start Tile, End Tile]
Resolution : 406.40081280162565
Scale : 1536000.0
- Level ID : 4 [Start Tile, End Tile]
Resolution : 203.20040640081282
Scale : 768000.0
- Level ID : 5 [Start Tile, End Tile]
Resolution : 101.60020320040641
Scale : 384000.0
- Level ID : 6 [Start Tile, End Tile]
Resolution : 50.800101600203206
Scale : 192000.0
- Level ID : 7 [Start Tile, End Tile]
Resolution : 25.400050800101603
Scale : 96000.0
- Level ID : 8 [Start Tile, End Tile]
Resolution : 12.700025400050801
Scale : 48000.0
- Level ID : 9 [Start Tile, End Tile]
Resolution : 6.350012700025401
Scale : 24000.0
- Level ID : 10 [Start Tile, End Tile]
Resolution : 3.1750063500127004
Scale : 12000.0
- Level ID : 11 [Start Tile, End Tile]
Resolution : 1.5875031750063502
Scale : 6000.0
- Level ID : 12 [Start Tile, End Tile]
Resolution : 0.7937515875031751
Scale : 3000.0
- Level ID : 13 [Start Tile, End Tile]
Resolution : 0.39687579375158755
Scale : 1500.0
- Format : LERC
- Compression Quality : 0
- LERC Error : 0.1
- Origin :
X: -285401.92
Y: 903401.92
- Spatial Reference :
28992
Extent : XMin : 9999.877053594158
YMin : 306249.9006959614
XMax : 278999.9088036577
YMax : 618749.9006959614
Spatial Reference :
28992
Initial Extent :
XMin : 9999.877053594158
YMin : 306249.9006959614
XMax : 278999.9088036577
YMax : 621876.5006015052
Spatial Reference : 28992
Full Extent :
XMin : 9999.877053594158
YMin : 306249.9006959614
XMax : 278999.9088036577
YMax : 621876.5006015052
Spatial Reference :
28992
Band Count : 1
Service Data Type : esriImageServiceDataTypeElevation
Cache Type : Elevation
Dataset Format : Cache/LERC
Compression Type : LERC
Pixel Type : F32
Pixel Size X : 0.39687579375158755
Pixel Size Y : 0.39687579375158755
Min Pixel Size : 0.39687579375158755
Max Pixel Size : 3251.206502413005
Block Width : 256
Block Height : 256
Min Scale : 1.2288E7
Max Scale : 1500.0
Export Tiles Allowed : false
Max Export Tiles Count : 100000
Cache Type : Elevation
Document Info : - Title : Elevation 3D (RD)
- Author : Esri_NL_Content
- Comments :
- Subject : Deze hoogtelaag is gebaseerd op het AHN en kan gebruikt worden in webscenes als terrein.
- Category :
- Keywords : Elevation, 3D, Hoogte, Ground, AHN3, maaiveld, AHN, Terrein, Hoogtebestand, Actueel, Nederland, AHN2, Terreinbestand, Maaiveld, urban, Esri, Content, NL, NLD, Holland, Netherlands, open, data, dataset, datasets, open data, hoog, hoogte, RD, RD New, Rijksdriehoeksstelsel, AHN4