AucklandInfraredImagery2024 (Map Service)
View In:
ArcGIS JavaScript
ArcGIS.com
WMTS
Current Version: 10.81
Service Description: Available cached scale levels.9 - 20 (1:1,155,581 - 1:564)
Resampling is being used for levels that aren't cached. Levels 21 - 23 (1:282 - 1:71)
Aerial Imagery 24-25 Color Infrared covers aerial images for the Auckland Region in color infrared. Infrared aerial photography involves capturing images using infrared light, which is outside the visible spectrum. This type of photography is useful for a variety of applications, including environmental monitoring, agriculture, and land management. Infrared imagery can reveal details not visible to the naked eye, such as vegetation health, water stress, and temperature variations, making it valuable for assessing plant vitality, detecting heat sources, identifying areas of moisture, and infrastructure conditions, making it invaluable for environmental monitoring and urban planning.
Data Acquisition:
• Phase 1: Aerial photography was captured over the Auckland region and the Hunua Ranges covering approximately 2,051 km². The data was captured between September 2023 – April 2024.
• Phase 2: Aerial photography was captured over the Auckland District, covering approximately 1,949 km². The data was captured between September 2023 – April 2024.
• Phase 3: Aerial photography was captured for the Auckland District covering approximately 2,129 km². Data capture took place between March 2024 – April 2025.
Ortho Specification
• Ortho imagery: Three-band
• Spectral resolution: Near-Infrared, Green, Blue
• Pixel resolution: 0.075 m GSD (7.5 cm)
• Tile index: Tile index for the project area available in GeoMaps
• Spatial accuracy: ±0.15 m @ 95% confidence level in clear flat open spaces (2 sigma)
• Aligned to LINZ 1:1,000 map sheet layout (480 m x 720 m)
• Tiles supplied: 17,739 (1:1,000 map sheet tiles)
• Image format: JPEG
Note:
- Auckland Council can provide R-G-B-NIR imagery for the area in GEOTIFF format as well. Please contact us at gis@aklc.govt.nz to request the four-band imagery.
- The remaining areas that are not part of this product have been captured in 2025 and will be added to this service by end of 2025.
Map Projection
All spatial data for this project provided in terms of New Zealand Transverse Mercator 2000 map projection (NZTM2000). The ellipsoidal datum is New Zealand Geodetic Datum 2000 (NZGD2000). The airborne GPS and ground control GPS data was converted from ellipsoidal heights into orthometric heights using the LINZ NZGeoid16 separation model. For this project the orthometric vertical datum is New Zealand Vertical Datum 2016 (NZVD2016).
Equipment
The majority of the photography was captured using Vexcel's digital UltraCam Eagle Mark 3 (UCE-3) camera fitted with the 100 mm lens and flown at an altitude of approximately 4,732 ft (1,442 m) with the lowest ground GSD set at 0.075 m. This camera was fitted to a GSM 3000 gyro-stabilised mount and IGI AEROcontrol GNSS/IMU positioning system. Some portions were flown using Vexcel's digital UltraCam Lp (UCLp) camera fitted with the 70 mm lens and flown at an altitude of approximately 2,952 ft (900m).
Sun Angle
Imagery captured with a minimum sun angle of +40 degrees subject to a 5-degree tolerance when capture is in progress. It was agreed (February 2024) to lower the sun angle to +30 degrees over rural areas and +40 degrees over urban/city areas. The sun angle of the imagery used for the orthorectification ranged from 32 to 59 degrees.
Urban Building Displacement Specification
Urban 0.075 m GSD imagery using the UCE-3 camera and by flying with 60% forward overlap and with 35% sidelap (standard stereo coverage) will achieve <1 m building lean per 3 m height in the corners of the imagery used. Tall structures inwards of the corner of the frame will have less lean the closer to the nadir they are.
<0.37 m building lean per 3 m of height in the corners of the imagery is using increased 80/80 overlap in the CBD area. Very tall buildings have been further straightened using manual techniques. To help reduce building lean in the CBD area additional processing has been applied to produce true orthos for building verticality.
Ground Control
A combination of existing control and LINZ benchmarks were observed for use with the aerial triangulation and bundle adjustment.
DTM for Ortho Production
The digital terrain model used for this project was derived from LiDAR DTM data flown in 2015. Outside the LiDAR DTM a new DTM was collected from the 0.075 m GSD stereo imagery using photogrammetric techniques, largely automated pixel matching and autocorrelation process. The DTM data was merged seamlessly and accuracy checked to meet the ortho imagery specification. The DTM was further processed and edited suitable for the ortho production.
Map Name: Layers
Legend
All Layers and Tables
Layers:
Description: Available cached scale levels.9 - 20 (1:1,155,581 - 1:564)
Resampling is being used for levels that aren't cached. Levels 21 - 23 (1:282 - 1:71)
Aerial Imagery 24-25 Color Infrared covers aerial images for the Auckland Region in color infrared. Infrared aerial photography involves capturing images using infrared light, which is outside the visible spectrum. This type of photography is useful for a variety of applications, including environmental monitoring, agriculture, and land management. Infrared imagery can reveal details not visible to the naked eye, such as vegetation health, water stress, and temperature variations, making it valuable for assessing plant vitality, detecting heat sources, identifying areas of moisture, and infrastructure conditions, making it invaluable for environmental monitoring and urban planning.
Data Acquisition:
• Phase 1: Aerial photography was captured over the Auckland region and the Hunua Ranges covering approximately 2,051 km². The data was captured between September 2023 – April 2024.
• Phase 2: Aerial photography was captured over the Auckland District, covering approximately 1,949 km². The data was captured between September 2023 – April 2024.
• Phase 3: Aerial photography was captured for the Auckland District covering approximately 2,129 km². Data capture took place between March 2024 – April 2025.
Ortho Specification
• Ortho imagery: Three-band
• Spectral resolution: Near-Infrared, Green, Blue
• Pixel resolution: 0.075 m GSD (7.5 cm)
• Tile index: Tile index for the project area available in GeoMaps
• Spatial accuracy: ±0.15 m @ 95% confidence level in clear flat open spaces (2 sigma)
• Aligned to LINZ 1:1,000 map sheet layout (480 m x 720 m)
• Tiles supplied: 17,739 (1:1,000 map sheet tiles)
• Image format: JPEG
Note:
- Auckland Council can provide R-G-B-NIR imagery for the area in GEOTIFF format as well. Please contact us at gis@aklc.govt.nz to request the four-band imagery.
- The remaining areas that are not part of this product have been captured in 2025 and will be added to this service by end of 2025.
Map Projection
All spatial data for this project provided in terms of New Zealand Transverse Mercator 2000 map projection (NZTM2000). The ellipsoidal datum is New Zealand Geodetic Datum 2000 (NZGD2000). The airborne GPS and ground control GPS data was converted from ellipsoidal heights into orthometric heights using the LINZ NZGeoid16 separation model. For this project the orthometric vertical datum is New Zealand Vertical Datum 2016 (NZVD2016).
Equipment
The majority of the photography was captured using Vexcel's digital UltraCam Eagle Mark 3 (UCE-3) camera fitted with the 100 mm lens and flown at an altitude of approximately 4,732 ft (1,442 m) with the lowest ground GSD set at 0.075 m. This camera was fitted to a GSM 3000 gyro-stabilised mount and IGI AEROcontrol GNSS/IMU positioning system. Some portions were flown using Vexcel's digital UltraCam Lp (UCLp) camera fitted with the 70 mm lens and flown at an altitude of approximately 2,952 ft (900m).
Sun Angle
Imagery captured with a minimum sun angle of +40 degrees subject to a 5-degree tolerance when capture is in progress. It was agreed (February 2024) to lower the sun angle to +30 degrees over rural areas and +40 degrees over urban/city areas. The sun angle of the imagery used for the orthorectification ranged from 32 to 59 degrees.
Urban Building Displacement Specification
Urban 0.075 m GSD imagery using the UCE-3 camera and by flying with 60% forward overlap and with 35% sidelap (standard stereo coverage) will achieve <1 m building lean per 3 m height in the corners of the imagery used. Tall structures inwards of the corner of the frame will have less lean the closer to the nadir they are.
<0.37 m building lean per 3 m of height in the corners of the imagery is using increased 80/80 overlap in the CBD area. Very tall buildings have been further straightened using manual techniques. To help reduce building lean in the CBD area additional processing has been applied to produce true orthos for building verticality.
Ground Control
A combination of existing control and LINZ benchmarks were observed for use with the aerial triangulation and bundle adjustment.
DTM for Ortho Production
The digital terrain model used for this project was derived from LiDAR DTM data flown in 2015. Outside the LiDAR DTM a new DTM was collected from the 0.075 m GSD stereo imagery using photogrammetric techniques, largely automated pixel matching and autocorrelation process. The DTM data was merged seamlessly and accuracy checked to meet the ortho imagery specification. The DTM was further processed and edited suitable for the ortho production.
Copyright Text: Aerial Services Limated (ASL), Auckland council,
Spatial Reference: 2193
Single Fused Map Cache: true
Capabilities: Map,TilesOnly,Tilemap
Tile Info:
- Height: 256
- Width: 256
- DPI: 96
- Levels of Detail: (# Levels: 24)
- Level ID: 0 [Start Tile, End Tile]
Resolution: 156543.03392799935
Scale: 5.91657527591552E8
- Level ID: 1 [Start Tile, End Tile]
Resolution: 78271.51696399967
Scale: 2.95828763795776E8
- Level ID: 2 [Start Tile, End Tile]
Resolution: 39135.75848199984
Scale: 1.47914381897888E8
- Level ID: 3 [Start Tile, End Tile]
Resolution: 19567.87924099992
Scale: 7.3957190948944E7
- Level ID: 4 [Start Tile, End Tile]
Resolution: 9783.93962049996
Scale: 3.6978595474472E7
- Level ID: 5 [Start Tile, End Tile]
Resolution: 4891.96981024998
Scale: 1.8489297737236E7
- Level ID: 6 [Start Tile, End Tile]
Resolution: 2445.98490512499
Scale: 9244648.868618
- Level ID: 7 [Start Tile, End Tile]
Resolution: 1222.992452562495
Scale: 4622324.434309
- Level ID: 8 [Start Tile, End Tile]
Resolution: 611.4962262813797
Scale: 2311162.217155
- Level ID: 9 [Start Tile, End Tile]
Resolution: 305.74811314055756
Scale: 1155581.108577
- Level ID: 10 [Start Tile, End Tile]
Resolution: 152.87405657041106
Scale: 577790.554289
- Level ID: 11 [Start Tile, End Tile]
Resolution: 76.43702828507324
Scale: 288895.277144
- Level ID: 12 [Start Tile, End Tile]
Resolution: 38.21851414253662
Scale: 144447.638572
- Level ID: 13 [Start Tile, End Tile]
Resolution: 19.10925707126831
Scale: 72223.819286
- Level ID: 14 [Start Tile, End Tile]
Resolution: 9.554628535634155
Scale: 36111.909643
- Level ID: 15 [Start Tile, End Tile]
Resolution: 4.77731426794937
Scale: 18055.954822
- Level ID: 16 [Start Tile, End Tile]
Resolution: 2.388657133974685
Scale: 9027.977411
- Level ID: 17 [Start Tile, End Tile]
Resolution: 1.1943285668550503
Scale: 4513.988705
- Level ID: 18 [Start Tile, End Tile]
Resolution: 0.5971642835598172
Scale: 2256.994353
- Level ID: 19 [Start Tile, End Tile]
Resolution: 0.29858214164761665
Scale: 1128.497176
- Level ID: 20 [Start Tile, End Tile]
Resolution: 0.14929107082380833
Scale: 564.248588
- Level ID: 21 [Start Tile, End Tile]
Resolution: 0.07464553541190416
Scale: 282.124294
- Level ID: 22 [Start Tile, End Tile]
Resolution: 0.03732276770595208
Scale: 141.062147
- Level ID: 23 [Start Tile, End Tile]
Resolution: 0.01866138385297604
Scale: 70.5310735
- Format: MIXED
- Compression Quality: 90
- Origin:
X: -4020900.0
Y: 1.99981E7
- Spatial Reference:
2193
Initial Extent: XMin: 1756782.8842021818
YMin: 5919681.276830998
XMax: 1757215.5387545112
YMax: 5920124.067556563
Spatial Reference:
2193
Full Extent: XMin: 1683980.4560260586
YMin: 5864136.0
XMax: 1849139.5439739414
YMax: 6017784.0
Spatial Reference:
2193
Min Scale: 3000000.0
Max Scale: 70.5310735
Min LOD: 8
Max LOD: 21
Units: esriMeters
Supported Image Format Types: MIXED
Export Tiles Allowed: false
Max Export Tiles Count: 100000
Resampling: true
Document Info: - Title: Auckland Infrared Imagery 2024 - 2025
- Author: zhaoj1@aklc.govt.nz_aucklandcouncil
- Comments:
- Subject: Auckland Council contracted Aerial Surveys Ltd. to supply 0.075 m GSD ortho aerial imagery covering the Auckland region. This data comprises of 17,739 ortho-rectified Near-Infrared, Green, Blue image files.
- Category:
- Keywords: Imagery, Infrared, 2024-2025, Auckland