Toronto1913 (Map Service)
View In:
ArcGIS JavaScript
ArcGIS.com
WMTS
Current Version: 10.81
Service Description: Images hosted on Historical Maps of Toronto, courtesy of the City of Toronto Archives.Atlas of the City of Toronto by the Chas. E. Goad Company 1913
This map service includes a mosaic of several volumes of plat maps that were originally bound atlases. The mosaic was created using ArcGIS software from the scanned JPEG images, varying from 150-300 dpi. The images were georeferenced to WGS84 Web Mercator and the borders were clipped to create a contiguous map.
This map was georeferenced using ArcGIS software. The image was then cached to create this map service.
This product is to be used for reference purposes only. The original historical paper maps were sometimes damaged or distorted to varying degrees due to age and use. There are spatial inaccuracies and some places where the footprints do not lineup perfectly or in some cases overlap.
Map Name: Layers
Legend
All Layers and Tables
Layers:
Tables:
Description: Images hosted on Historical Maps of Toronto, courtesy of the City of Toronto Archives.Atlas of the City of Toronto by the Chas. E. Goad Company 1913
This map service includes a mosaic of several volumes of plat maps that were originally bound atlases. The mosaic was created using ArcGIS software from the scanned JPEG images, varying from 150-300 dpi. The images were georeferenced to WGS84 Web Mercator and the borders were clipped to create a contiguous map.
This map was georeferenced using ArcGIS software. The image was then cached to create this map service.
This product is to be used for reference purposes only. The original historical paper maps were sometimes damaged or distorted to varying degrees due to age and use. There are spatial inaccuracies and some places where the footprints do not lineup perfectly or in some cases overlap.
Copyright Text: Toronto Public Library, Library and Archives Canada, and City of Toronto Archives
Spatial Reference: 102100
Single Fused Map Cache: true
Capabilities: Map,TilesOnly,Tilemap
Tile Info:
- Height: 256
- Width: 256
- DPI: 96
- Levels of Detail: (# Levels: 20)
- Level ID: 0 [Start Tile, End Tile]
Resolution: 156543.03392800014
Scale: 5.91657527591555E8
- Level ID: 1 [Start Tile, End Tile]
Resolution: 78271.51696399994
Scale: 2.95828763795777E8
- Level ID: 2 [Start Tile, End Tile]
Resolution: 39135.75848200009
Scale: 1.47914381897889E8
- Level ID: 3 [Start Tile, End Tile]
Resolution: 19567.87924099992
Scale: 7.3957190948944E7
- Level ID: 4 [Start Tile, End Tile]
Resolution: 9783.93962049996
Scale: 3.6978595474472E7
- Level ID: 5 [Start Tile, End Tile]
Resolution: 4891.96981024998
Scale: 1.8489297737236E7
- Level ID: 6 [Start Tile, End Tile]
Resolution: 2445.98490512499
Scale: 9244648.868618
- Level ID: 7 [Start Tile, End Tile]
Resolution: 1222.992452562495
Scale: 4622324.434309
- Level ID: 8 [Start Tile, End Tile]
Resolution: 611.4962262813797
Scale: 2311162.217155
- Level ID: 9 [Start Tile, End Tile]
Resolution: 305.74811314055756
Scale: 1155581.108577
- Level ID: 10 [Start Tile, End Tile]
Resolution: 152.87405657041106
Scale: 577790.554289
- Level ID: 11 [Start Tile, End Tile]
Resolution: 76.43702828507324
Scale: 288895.277144
- Level ID: 12 [Start Tile, End Tile]
Resolution: 38.21851414253662
Scale: 144447.638572
- Level ID: 13 [Start Tile, End Tile]
Resolution: 19.10925707126831
Scale: 72223.819286
- Level ID: 14 [Start Tile, End Tile]
Resolution: 9.554628535634155
Scale: 36111.909643
- Level ID: 15 [Start Tile, End Tile]
Resolution: 4.77731426794937
Scale: 18055.954822
- Level ID: 16 [Start Tile, End Tile]
Resolution: 2.388657133974685
Scale: 9027.977411
- Level ID: 17 [Start Tile, End Tile]
Resolution: 1.1943285668550503
Scale: 4513.988705
- Level ID: 18 [Start Tile, End Tile]
Resolution: 0.5971642835598172
Scale: 2256.994353
- Level ID: 19 [Start Tile, End Tile]
Resolution: 0.29858214164761665
Scale: 1128.497176
- Format: PNG
- Compression Quality: 0
- Origin:
X: -2.0037508342787E7
Y: 2.0037508342787E7
- Spatial Reference:
102100
Initial Extent: XMin: -8852867.383120613
YMin: 5415559.037939846
XMax: -8821420.17069993
YMax: 5425266.334731677
Spatial Reference:
102100
Full Extent: XMin: -8856207.726693468
YMin: 5399226.418812906
XMax: -8818079.827127075
YMax: 5430378.352243725
Spatial Reference:
102100
Min Scale: 288895.277144
Max Scale: 1128.497176
Min LOD: 11
Max LOD: 19
Units: esriMeters
Supported Image Format Types: PNG
Export Tiles Allowed: false
Max Export Tiles Count: 100000
Document Info: - Title: 1913 Goad Toronto Fire Insurance Map
- Author: arcgis_content_historical
- Comments:
- Subject: 1913 Toronto Fire Insurance Map, Atlas of the City of Toronto by the Chas. E. Goad Company
- Category:
- Keywords: Toronto, Goad, insurance, plan, plat, historic, historical, historical