MassGIS_Basemap_Detailed_Features (Map Service)
View In:
ArcGIS JavaScript
ArcGIS.com
WMTS
Current Version: 10.81
Service Description: Detailed Features for the MassGIS Basemap include:
- Political Boundaries: Massachusetts cities and towns, counties and state border (Community Boundaries (Towns) from Survey Points, MassGIS)
- Transportation: Massachusetts Department of Transportation (MassDOT) Roads (MassDOT, MassGIS); MBTA subway and Commuter Rail lines and stations (Central Transportation Planning Staff, MassGIS); Airports, Ferry Routes and Seaports (MassDOT); Airport Runways and Airfields (Massachusetts Emergency Management Agency (MEMA))
- Infrastructure and Facilities: Lighthouses and Lights (Massachusetts Coastal Zone Management); Licensed Child Care Programs (Department of Early Education and Care); Schools (Pre-K-High School) (Massachusetts Department of Education, MassGIS); Colleges and Universities (MassGIS); Acute Care Hospitals and Non-acute Care Hospitals (Massachusetts Department of Public Health Office of Emergency Medical Services, CHIA); Libraries, Police Stations, Fire Stations, Town Halls, Places of Worship, Courthouses, Prisons, DCR Pools.
This service may be overlaid other base layers, such as ortho imagery and the MassGIS Topographic Features for Basemap.
Updated on March 11, 2026.
Map Name: MassGIS_Basemap_Detailed_Features_20260210
Legend
All Layers and Tables
Layers:
Tables:
Description: Detailed Features for the MassGIS Basemap include:
- Political Boundaries: Massachusetts cities and towns, counties and state border (Community Boundaries (Towns) from Survey Points, MassGIS)
- Transportation: Massachusetts Department of Transportation (MassDOT) Roads (MassDOT, MassGIS); MBTA subway and Commuter Rail lines and stations (Central Transportation Planning Staff, MassGIS); Airports, Ferry Routes and Seaports (MassDOT); Airport Runways and Airfields (Massachusetts Emergency Management Agency (MEMA))
- Infrastructure and Facilities: Lighthouses and Lights (Massachusetts Coastal Zone Management); Licensed Child Care Programs (Department of Early Education and Care); Schools (Pre-K-High School) (Massachusetts Department of Education, MassGIS); Colleges and Universities (MassGIS); Acute Care Hospitals and Non-acute Care Hospitals (Massachusetts Department of Public Health Office of Emergency Medical Services, CHIA); Libraries, Police Stations, Fire Stations, Town Halls, Places of Worship, Courthouses, Prisons, DCR Pools.
This service may be overlaid other base layers, such as ortho imagery and the MassGIS Topographic Features for Basemap.
Updated on March 11, 2026.
Copyright Text: MassGIS
Spatial Reference: 102100
Single Fused Map Cache: true
Capabilities: Map,TilesOnly
Tile Info:
- Height: 256
- Width: 256
- DPI: 96
- Levels of Detail: (# Levels: 24)
- Level ID: 0 [Start Tile, End Tile]
Resolution: 156543.033928
Scale: 5.91657527591555E8
- Level ID: 1 [Start Tile, End Tile]
Resolution: 78271.5169639999
Scale: 2.95828763795777E8
- Level ID: 2 [Start Tile, End Tile]
Resolution: 39135.7584820001
Scale: 1.47914381897889E8
- Level ID: 3 [Start Tile, End Tile]
Resolution: 19567.8792409999
Scale: 7.3957190948944E7
- Level ID: 4 [Start Tile, End Tile]
Resolution: 9783.93962049996
Scale: 3.6978595474472E7
- Level ID: 5 [Start Tile, End Tile]
Resolution: 4891.96981024998
Scale: 1.8489297737236E7
- Level ID: 6 [Start Tile, End Tile]
Resolution: 2445.98490512499
Scale: 9244648.868618
- Level ID: 7 [Start Tile, End Tile]
Resolution: 1222.99245256249
Scale: 4622324.434309
- Level ID: 8 [Start Tile, End Tile]
Resolution: 611.49622628138
Scale: 2311162.217155
- Level ID: 9 [Start Tile, End Tile]
Resolution: 305.748113140558
Scale: 1155581.108577
- Level ID: 10 [Start Tile, End Tile]
Resolution: 152.874056570411
Scale: 577790.554289
- Level ID: 11 [Start Tile, End Tile]
Resolution: 76.4370282850732
Scale: 288895.277144
- Level ID: 12 [Start Tile, End Tile]
Resolution: 38.2185141425366
Scale: 144447.638572
- Level ID: 13 [Start Tile, End Tile]
Resolution: 19.1092570712683
Scale: 72223.819286
- Level ID: 14 [Start Tile, End Tile]
Resolution: 9.55462853563415
Scale: 36111.909643
- Level ID: 15 [Start Tile, End Tile]
Resolution: 4.77731426794937
Scale: 18055.954822
- Level ID: 16 [Start Tile, End Tile]
Resolution: 2.38865713397468
Scale: 9027.977411
- Level ID: 17 [Start Tile, End Tile]
Resolution: 1.19432856685505
Scale: 4513.988705
- Level ID: 18 [Start Tile, End Tile]
Resolution: 0.597164283559817
Scale: 2256.994353
- Level ID: 19 [Start Tile, End Tile]
Resolution: 0.298582141647617
Scale: 1128.497176
- Level ID: 20 [Start Tile, End Tile]
Resolution: 0.14929107082380833
Scale: 564.248588
- Level ID: 21 [Start Tile, End Tile]
Resolution: 0.07464553541190416
Scale: 282.124294
- Level ID: 22 [Start Tile, End Tile]
Resolution: 0.03732276770595208
Scale: 141.062147
- Level ID: 23 [Start Tile, End Tile]
Resolution: 0.01866138385297604
Scale: 70.5310735
- Format: PNG
- Compression Quality: 0
- Origin:
X: -2.0037508342787E7
Y: 2.0037508342787E7
- Spatial Reference:
102100
Initial Extent: XMin: -8955351.646011254
YMin: 4611730.7769228965
XMax: -7000451.062092926
YMax: 5718524.093558205
Spatial Reference:
102100
Full Extent: XMin: -8866492.52856042
YMin: 4662039.564042684
XMax: -7089310.17954376
YMax: 5668215.306438418
Spatial Reference:
102100
Min Scale: 4622324.434309
Max Scale: 1128.497176
Min LOD: 7
Max LOD: 19
Units: esriMeters
Supported Image Format Types: PNG
Export Tiles Allowed: true
Max Export Tiles Count: 100000
Document Info: - Title: MassGIS Basemap Detailed Features (Tile Service)
- Author: MassGIS
- Comments:
- Subject: Detailed features for the MassGIS basemap, including roads, boundaries, points of interest and labels, published as a hosted tile layer by MassGIS.
- Category:
- Keywords: MassGIS, detailed features, Massachusetts, Transportation, boundaries, base map, label, points of interest