Services Directory
Toggle Theme
Login
Home
>
CityBasemap_Slate
JSON
|
WMTS
|
API Reference
CityBasemap_Slate
(Map Service)
View In:
ArcGIS JavaScript
ArcGIS.com
WMTS
Current Version:
10.81
Service Description:
Map Name:
Map
Legend
All Layers and Tables
Layers:
CityBasemap_Slate
(0)
Tables:
Description:
Copyright Text:
Spatial Reference:
102100
Single Fused Map Cache:
true
Capabilities:
Map,TilesOnly
Tile Info:
Height:
256
Width:
256
DPI:
96
Levels of Detail:
(# Levels: 12)
Level ID:
0 [
Start Tile
,
End Tile
]
Resolution: 152.87405657041106
Scale: 577790.554289
Level ID:
1 [
Start Tile
,
End Tile
]
Resolution: 76.43702828507324
Scale: 288895.277144
Level ID:
2 [
Start Tile
,
End Tile
]
Resolution: 38.21851414253662
Scale: 144447.638572
Level ID:
3 [
Start Tile
,
End Tile
]
Resolution: 19.10925707126831
Scale: 72223.819286
Level ID:
4 [
Start Tile
,
End Tile
]
Resolution: 9.554628535634155
Scale: 36111.909643
Level ID:
5 [
Start Tile
,
End Tile
]
Resolution: 4.77731426794937
Scale: 18055.954822
Level ID:
6 [
Start Tile
,
End Tile
]
Resolution: 2.388657133974685
Scale: 9027.977411
Level ID:
7 [
Start Tile
,
End Tile
]
Resolution: 1.1943285668550503
Scale: 4513.988705
Level ID:
8 [
Start Tile
,
End Tile
]
Resolution: 0.5971642835598172
Scale: 2256.994353
Level ID:
9 [
Start Tile
,
End Tile
]
Resolution: 0.29858214164761665
Scale: 1128.497176
Level ID:
10 [
Start Tile
,
End Tile
]
Resolution: 0.14929107082380833
Scale: 564.248588
Level ID:
11 [
Start Tile
,
End Tile
]
Resolution: 0.07464553541190416
Scale: 282.124294
Format:
JPEG
Compression Quality:
75
Origin:
X: -2.0037508342787E7
Y: 2.0037508342787E7
Spatial Reference:
102100
Initial Extent:
XMin: -8435910.793879261
YMin: 4808219.718729496
XMax: -8294117.180348654
YMax: 4921493.213963135
Spatial Reference:
102100
Full Extent:
XMin: -8429465.62962787
YMin: 4813368.513967388
XMax: -8300562.344600044
YMax: 4916344.418725243
Spatial Reference:
102100
Min Scale:
577790.554289
Max Scale:
282.124294
Min LOD:
0
Max LOD:
11
Units:
esriMeters
Supported Image Format Types:
JPEG
Export Tiles Allowed:
false
Max Export Tiles Count:
100000
Document Info:
Title:
CityBasemap_Slate
Author:
basemaps.phl
Comments:
Subject:
CityBasemap Slate
Category:
Keywords:
CityImageryWM, Authoritative, Philadelphia, City of Philadelphia, 282, Basemap