Services Directory
Login
Home
>
NJ_Highlands_Basemap
JSON
|
WMTS
|
API Reference
NJ_Highlands_Basemap
(Map Service)
View In:
ArcGIS JavaScript
ArcGIS.com
WMTS
Current Version:
10.81
Service Description:
Map Name:
Layers
Legend
All Layers and Tables
Description:
Copyright Text:
NJ Highlands Council
Spatial Reference:
102711
Single Fused Map Cache:
true
Capabilities:
Map,TilesOnly,Tilemap
Tile Info:
Height:
256
Width:
256
DPI:
96
Levels of Detail:
(# Levels: 15)
Level ID:
0 [
Start Tile
,
End Tile
]
Resolution: 3472.222222222222
Scale: 4000000.0
Level ID:
1 [
Start Tile
,
End Tile
]
Resolution: 2604.1666666666665
Scale: 3000000.0
Level ID:
2 [
Start Tile
,
End Tile
]
Resolution: 2170.1388888888887
Scale: 2500000.0
Level ID:
3 [
Start Tile
,
End Tile
]
Resolution: 1562.5
Scale: 1800000.0
Level ID:
4 [
Start Tile
,
End Tile
]
Resolution: 976.5625
Scale: 1125000.0
Level ID:
5 [
Start Tile
,
End Tile
]
Resolution: 494.79166666666663
Scale: 570000.0
Level ID:
6 [
Start Tile
,
End Tile
]
Resolution: 260.41666666666663
Scale: 300000.0
Level ID:
7 [
Start Tile
,
End Tile
]
Resolution: 130.20833333333331
Scale: 150000.0
Level ID:
8 [
Start Tile
,
End Tile
]
Resolution: 65.10416666666666
Scale: 75000.0
Level ID:
9 [
Start Tile
,
End Tile
]
Resolution: 32.55208333333333
Scale: 37500.0
Level ID:
10 [
Start Tile
,
End Tile
]
Resolution: 21.70138888888889
Scale: 25000.0
Level ID:
11 [
Start Tile
,
End Tile
]
Resolution: 10.850694444444445
Scale: 12500.0
Level ID:
12 [
Start Tile
,
End Tile
]
Resolution: 5.208333333333333
Scale: 6000.0
Level ID:
13 [
Start Tile
,
End Tile
]
Resolution: 2.083333333333333
Scale: 2400.0
Level ID:
14 [
Start Tile
,
End Tile
]
Resolution: 1.0416666666666665
Scale: 1200.0
Format:
PNG32
Compression Quality:
0
Origin:
X: -1.79546E7
Y: 1.8705699999999993E7
Spatial Reference:
102711
Initial Extent:
XMin: -2204208.333333336
YMin: -910998.9583333386
XMax: 1998810.4166666633
YMax: 2253462.4999999944
Spatial Reference:
102711
Full Extent:
XMin: -2204208.333333336
YMin: -910998.9583333386
XMax: 1998810.4166666633
YMax: 2253462.4999999944
Spatial Reference:
102711
Min Scale:
4000000.0
Max Scale:
1200.0
Min LOD:
0
Max LOD:
14
Units:
esriFeet
Supported Image Format Types:
PNG32
Export Tiles Allowed:
false
Max Export Tiles Count:
100000
Resampling:
true
Document Info:
Title:
Highlands Basemap
Author:
NJHWPPC
Comments:
Subject:
Category:
Keywords:
Basemap