Valeur_Service_ecosysteme_CCN_2016 (Map Service)
View In:
ArcGIS JavaScript
ArcGIS.com
WMTS
Current Version: 10.81
Service Description: Les services écosystémiques (SE) sont les fonctions et processus directs et indirects des écosystèmes dont les individus et la société profitent, tant au niveau économique, environnemental que social.
L’objectif principal de cette étude est de mesurer la valeur marchande et non marchande des SE fournis par les terrains gérés par la Commission de la capitale nationale (CCN) dans la région de la capitale nationale. La CCN est responsable de la gestion du parc de la Gatineau, de la Ceinture de verdure et de plusieurs autres espaces verts répartis dans la région que l’on nomme les terrains urbains. Cette étude, propose de regrouper l’ensemble de ces sites sous le nom de Trame verte de la Commission de la capitale nationale (TVCCN) et d’évaluer cette Trame verte du point de vue des SE et des bénéfices que les collectivités reçoivent de la nature.
Map Name: Layers
Legend
All Layers and Tables
Layers:
Description: Les services écosystémiques (SE) sont les fonctions et processus directs et indirects des écosystèmes dont les individus et la société profitent, tant au niveau économique, environnemental que social.
L’objectif principal de cette étude est de mesurer la valeur marchande et non marchande des SE fournis par les terrains gérés par la Commission de la capitale nationale (CCN) dans la région de la capitale nationale. La CCN est responsable de la gestion du parc de la Gatineau, de la Ceinture de verdure et de plusieurs autres espaces verts répartis dans la région que l’on nomme les terrains urbains. Cette étude, propose de regrouper l’ensemble de ces sites sous le nom de Trame verte de la Commission de la capitale nationale (TVCCN) et d’évaluer cette Trame verte du point de vue des SE et des bénéfices que les collectivités reçoivent de la nature.
Copyright Text: National Capital Commission / Commission de la Capitale Nationale
Spatial Reference: 102100
Single Fused Map Cache: true
Capabilities: Map,TilesOnly,Tilemap
Tile Info:
- Height: 256
- Width: 256
- DPI: 96
- Levels of Detail: (# Levels: 24)
- Level ID: 0 [Start Tile, End Tile]
Resolution: 156543.033928
Scale: 5.91657527591555E8
- Level ID: 1 [Start Tile, End Tile]
Resolution: 78271.5169639999
Scale: 2.95828763795777E8
- Level ID: 2 [Start Tile, End Tile]
Resolution: 39135.7584820001
Scale: 1.47914381897889E8
- Level ID: 3 [Start Tile, End Tile]
Resolution: 19567.8792409999
Scale: 7.3957190948944E7
- Level ID: 4 [Start Tile, End Tile]
Resolution: 9783.93962049996
Scale: 3.6978595474472E7
- Level ID: 5 [Start Tile, End Tile]
Resolution: 4891.96981024998
Scale: 1.8489297737236E7
- Level ID: 6 [Start Tile, End Tile]
Resolution: 2445.98490512499
Scale: 9244648.868618
- Level ID: 7 [Start Tile, End Tile]
Resolution: 1222.99245256249
Scale: 4622324.434309
- Level ID: 8 [Start Tile, End Tile]
Resolution: 611.49622628138
Scale: 2311162.217155
- Level ID: 9 [Start Tile, End Tile]
Resolution: 305.748113140558
Scale: 1155581.108577
- Level ID: 10 [Start Tile, End Tile]
Resolution: 152.874056570411
Scale: 577790.554289
- Level ID: 11 [Start Tile, End Tile]
Resolution: 76.4370282850732
Scale: 288895.277144
- Level ID: 12 [Start Tile, End Tile]
Resolution: 38.2185141425366
Scale: 144447.638572
- Level ID: 13 [Start Tile, End Tile]
Resolution: 19.1092570712683
Scale: 72223.819286
- Level ID: 14 [Start Tile, End Tile]
Resolution: 9.55462853563415
Scale: 36111.909643
- Level ID: 15 [Start Tile, End Tile]
Resolution: 4.77731426794937
Scale: 18055.954822
- Level ID: 16 [Start Tile, End Tile]
Resolution: 2.38865713397468
Scale: 9027.977411
- Level ID: 17 [Start Tile, End Tile]
Resolution: 1.19432856685505
Scale: 4513.988705
- Level ID: 18 [Start Tile, End Tile]
Resolution: 0.597164283559817
Scale: 2256.994353
- Level ID: 19 [Start Tile, End Tile]
Resolution: 0.298582141647617
Scale: 1128.497176
- Level ID: 20 [Start Tile, End Tile]
Resolution: 0.14929107082380833
Scale: 564.248588
- Level ID: 21 [Start Tile, End Tile]
Resolution: 0.07464553541190416
Scale: 282.124294
- Level ID: 22 [Start Tile, End Tile]
Resolution: 0.03732276770595208
Scale: 141.062147
- Level ID: 23 [Start Tile, End Tile]
Resolution: 0.01866138385297604
Scale: 70.5310735
- Format: MIXED
- Compression Quality: 75
- Origin:
X: -2.0037508342787E7
Y: 2.0037508342787E7
- Spatial Reference:
102100
Initial Extent: XMin: -8467266.76903082
YMin: 5680814.94961111
XMax: -8425132.700188141
YMax: 5709364.810466259
Spatial Reference:
102100
Full Extent: XMin: -8502671.045946077
YMin: 5654943.480389631
XMax: -8389566.88938821
YMax: 5735218.492718458
Spatial Reference:
102100
Min Scale: 0.0
Max Scale: 0.0
Min LOD: 9
Max LOD: 15
Units: esriMeters
Supported Image Format Types: MIXED
Export Tiles Allowed: false
Max Export Tiles Count: 100000
Resampling: true
Document Info: - Title: Valeur Service écosystèmique CCN 2016
- Author: NCC_CCN
- Comments:
- Subject: Estimation de la valeur économique totale de services écosystémiques rendus par la Trame verte de la CCN.
- Category:
- Keywords: 2016, Services écosystémiques, Écosystème, Nature