blmglomaps (Map Service)
View In:
ArcGIS JavaScript
ArcGIS.com
WMTS
Current Version: 10.81
Service Description: Donation sent to the University of Idaho Library Government Documents Librarian a CD containing General Land Office maps on it.
A readme file on the CD contains this information:
"I obtained the attached GLO maps from Mitch Price at River Design Group who obtained them from another source. These maps apparently do not have a date, I assume it was stripped off when they were rectified. These maps show the Great Northern Rail line, it arrived in Bonners Ferry in 1892. The Spokane International Railroad (Union Pacific purchased this line) built a bridge across the Kootenai R. in 1906."
"I am a bit puzzled on the map dates, the Kootenai River Master Plan indicated these maps are 1862-65 but they also show the Great Northern Rail line but not the Spokane International Railroad which seems to place them somewhere between 1892 - 1906 unless perhaps they were revised at a later date."
Gary Barton USGS Tacoma, WA 253-552-1613 officegbarton@usgs.gov
Map Name: Map1
Legend
All Layers and Tables
Layers:
Tables:
Description: Donation sent to the University of Idaho Library Government Documents Librarian a CD containing General Land Office maps on it.
A readme file on the CD contains this information:
"I obtained the attached GLO maps from Mitch Price at River Design Group who obtained them from another source. These maps apparently do not have a date, I assume it was stripped off when they were rectified. These maps show the Great Northern Rail line, it arrived in Bonners Ferry in 1892. The Spokane International Railroad (Union Pacific purchased this line) built a bridge across the Kootenai R. in 1906."
"I am a bit puzzled on the map dates, the Kootenai River Master Plan indicated these maps are 1862-65 but they also show the Great Northern Rail line but not the Spokane International Railroad which seems to place them somewhere between 1892 - 1906 unless perhaps they were revised at a later date."
Gary Barton USGS Tacoma, WA 253-552-1613 officegbarton@usgs.gov
Copyright Text: Bureau of Land Management General Land Office; University of Idaho Library
Spatial Reference: 102100
Single Fused Map Cache: true
Capabilities: Map,TilesOnly,Tilemap
Tile Info:
- Height: 256
- Width: 256
- DPI: 96
- Levels of Detail: (# Levels: 24)
- Level ID: 0 [Start Tile, End Tile]
Resolution: 156543.033928
Scale: 5.91657527591555E8
- Level ID: 1 [Start Tile, End Tile]
Resolution: 78271.5169639999
Scale: 2.95828763795777E8
- Level ID: 2 [Start Tile, End Tile]
Resolution: 39135.7584820001
Scale: 1.47914381897889E8
- Level ID: 3 [Start Tile, End Tile]
Resolution: 19567.8792409999
Scale: 7.3957190948944E7
- Level ID: 4 [Start Tile, End Tile]
Resolution: 9783.93962049996
Scale: 3.6978595474472E7
- Level ID: 5 [Start Tile, End Tile]
Resolution: 4891.96981024998
Scale: 1.8489297737236E7
- Level ID: 6 [Start Tile, End Tile]
Resolution: 2445.98490512499
Scale: 9244648.868618
- Level ID: 7 [Start Tile, End Tile]
Resolution: 1222.99245256249
Scale: 4622324.434309
- Level ID: 8 [Start Tile, End Tile]
Resolution: 611.49622628138
Scale: 2311162.217155
- Level ID: 9 [Start Tile, End Tile]
Resolution: 305.748113140558
Scale: 1155581.108577
- Level ID: 10 [Start Tile, End Tile]
Resolution: 152.874056570411
Scale: 577790.554289
- Level ID: 11 [Start Tile, End Tile]
Resolution: 76.4370282850732
Scale: 288895.277144
- Level ID: 12 [Start Tile, End Tile]
Resolution: 38.2185141425366
Scale: 144447.638572
- Level ID: 13 [Start Tile, End Tile]
Resolution: 19.1092570712683
Scale: 72223.819286
- Level ID: 14 [Start Tile, End Tile]
Resolution: 9.55462853563415
Scale: 36111.909643
- Level ID: 15 [Start Tile, End Tile]
Resolution: 4.77731426794937
Scale: 18055.954822
- Level ID: 16 [Start Tile, End Tile]
Resolution: 2.38865713397468
Scale: 9027.977411
- Level ID: 17 [Start Tile, End Tile]
Resolution: 1.19432856685505
Scale: 4513.988705
- Level ID: 18 [Start Tile, End Tile]
Resolution: 0.597164283559817
Scale: 2256.994353
- Level ID: 19 [Start Tile, End Tile]
Resolution: 0.298582141647617
Scale: 1128.497176
- Level ID: 20 [Start Tile, End Tile]
Resolution: 0.14929107082380833
Scale: 564.248588
- Level ID: 21 [Start Tile, End Tile]
Resolution: 0.07464553541190416
Scale: 282.124294
- Level ID: 22 [Start Tile, End Tile]
Resolution: 0.03732276770595208
Scale: 141.062147
- Level ID: 23 [Start Tile, End Tile]
Resolution: 0.01866138385297604
Scale: 70.5310735
- Format: Mixed
- Compression Quality: 75
- Origin:
X: -2.0037508342787E7
Y: 2.0037508342787E7
- Spatial Reference:
102100
Initial Extent: XMin: -1.3000688704089582E7
YMin: 6216249.855065435
XMax: -1.2912939464542734E7
YMax: 6277812.407171452
Spatial Reference:
102100
Full Extent: XMin: -1.2986489806489114E7
YMin: 6219334.205991885
XMax: -1.2927524419148892E7
YMax: 6274906.938289293
Spatial Reference:
102100
Min Scale: 8990426.0
Max Scale: 18056.0
Min LOD: 7
Max LOD: 15
Units: esriMeters
Supported Image Format Types: Mixed
Export Tiles Allowed: false
Max Export Tiles Count: 100000
Document Info: - Title: BLM General Land Office Digitized Plat Maps of Bonners Ferry Idaho
- Author: University_of_Idaho_Library
- Comments:
- Subject: These maps show the Great Northern Rail line that arrived in Bonners Ferry in 1892. The Spokane International Railroad (Union Pacific purchased this line) built a bridge across the Kootenai R. in 1906.
- Category:
- Keywords: historical maps, bonners ferry, blm general land office plat map