Usa_MedianHouseholdIncome_2016_tiles (Map Service)
View In:
ArcGIS JavaScript
ArcGIS.com
WMTS
Current Version: 10.81
Service Description:
Map Name: Layers
Legend
All Layers and Tables
Layers:
Tables:
Description:
Copyright Text: Maps.com, US Census Bureau, Esri
Spatial Reference:
102100
Single Fused Map Cache: true
Capabilities: Map,TilesOnly
Tile Info:
- Height: 256
- Width: 256
- DPI: 96
- Levels of Detail: (# Levels: 10)
- Level ID: 0 [Start Tile, End Tile]
Resolution: 156543.033928
Scale: 5.91657527591555E8
- Level ID: 1 [Start Tile, End Tile]
Resolution: 78271.5169639999
Scale: 2.95828763795777E8
- Level ID: 2 [Start Tile, End Tile]
Resolution: 39135.7584820001
Scale: 1.47914381897889E8
- Level ID: 3 [Start Tile, End Tile]
Resolution: 19567.8792409999
Scale: 7.3957190948944E7
- Level ID: 4 [Start Tile, End Tile]
Resolution: 9783.93962049996
Scale: 3.6978595474472E7
- Level ID: 5 [Start Tile, End Tile]
Resolution: 4891.96981024998
Scale: 1.8489297737236E7
- Level ID: 6 [Start Tile, End Tile]
Resolution: 2445.98490512499
Scale: 9244648.868618
- Level ID: 7 [Start Tile, End Tile]
Resolution: 1222.99245256249
Scale: 4622324.434309
- Level ID: 8 [Start Tile, End Tile]
Resolution: 611.49622628138
Scale: 2311162.217155
- Level ID: 9 [Start Tile, End Tile]
Resolution: 305.748113140558
Scale: 1155581.108577
- Format: PNG
- Compression Quality: 0
- Origin:
X: -2.0037508342787E7
Y: 2.0037508342787E7
- Spatial Reference:
102100
Initial Extent:
XMin: -2.0909020953163147E7
YMin: 1613243.9851443497
XMax: -6486333.061110346
YMax: 1.165640903087559E7
Spatial Reference:
102100
Full Extent:
XMin: -1.9839092304288127E7
YMin: 2145729.6799177886
XMax: -7454985.146516736
YMax: 1.1542624916141642E7
Spatial Reference:
102100
Min Scale: 5.91657527591555E8
Max Scale: 750001.0
Min LOD: 0
Max LOD: 9
Units: esriMeters
Supported Image Format Types: PNG
Export Tiles Allowed: false
Max Export Tiles Count: 100000
Document Info:
- Title: Usa_MedianHouseholdIncome_2016_tiles
- Author: Maps.com_carto
- Comments:
- Subject: USA Median Household Income in 2016 by State and County levels
- Category:
- Keywords: demographics, income, money, household, earnings