Services Directory
Login
Home
>
Math_DistanceMidpoint_Grid_tiles
JSON
|
WMTS
|
API Reference
Math_DistanceMidpoint_Grid_tiles
(Map Service)
View In:
ArcGIS JavaScript
ArcGIS.com
WMTS
Current Version:
10.7
Service Description:
Map Name:
Layers
Legend
All Layers and Tables
Layers:
labels
(0)
Upper left
(1)
Upper right
(2)
Lower left
(3)
Lower right
(4)
Left
(5)
Right
(6)
Bottom
(7)
Top
(8)
labels
(9)
Upper left
(10)
Upper right
(11)
Lower left
(12)
Lower right
(13)
Left
(14)
Right
(15)
Bottom
(16)
Top
(17)
labels
(18)
Upper left
(19)
Upper right
(20)
Lower left
(21)
Lower right
(22)
Left
(23)
Right
(24)
Bottom
(25)
Top
(26)
labels
(27)
Upper left
(28)
Upper right
(29)
Lower left
(30)
Lower right
(31)
Left
(32)
Right
(33)
Bottom
(34)
Top
(35)
labels
(36)
Upper left
(37)
Upper right
(38)
Lower left
(39)
Lower right
(40)
Left
(41)
Right
(42)
Bottom
(43)
Top
(44)
Coordinate_Grid
(45)
Coordinate_Grid
(46)
Coordinate_Grid
(47)
Tables:
Description:
Copyright Text:
Maps.com
Spatial Reference:
102100
Single Fused Map Cache:
true
Capabilities:
Map,TilesOnly
Tile Info:
Height:
256
Width:
256
DPI:
96
Levels of Detail:
(# Levels: 14)
Level ID:
0 [
Start Tile
,
End Tile
]
Resolution: 156543.033928
Scale: 5.91657527591555E8
Level ID:
1 [
Start Tile
,
End Tile
]
Resolution: 78271.5169639999
Scale: 2.95828763795777E8
Level ID:
2 [
Start Tile
,
End Tile
]
Resolution: 39135.7584820001
Scale: 1.47914381897889E8
Level ID:
3 [
Start Tile
,
End Tile
]
Resolution: 19567.8792409999
Scale: 7.3957190948944E7
Level ID:
4 [
Start Tile
,
End Tile
]
Resolution: 9783.93962049996
Scale: 3.6978595474472E7
Level ID:
5 [
Start Tile
,
End Tile
]
Resolution: 4891.96981024998
Scale: 1.8489297737236E7
Level ID:
6 [
Start Tile
,
End Tile
]
Resolution: 2445.98490512499
Scale: 9244648.868618
Level ID:
7 [
Start Tile
,
End Tile
]
Resolution: 1222.99245256249
Scale: 4622324.434309
Level ID:
8 [
Start Tile
,
End Tile
]
Resolution: 611.49622628138
Scale: 2311162.217155
Level ID:
9 [
Start Tile
,
End Tile
]
Resolution: 305.748113140558
Scale: 1155581.108577
Level ID:
10 [
Start Tile
,
End Tile
]
Resolution: 152.874056570411
Scale: 577790.554289
Level ID:
11 [
Start Tile
,
End Tile
]
Resolution: 76.4370282850732
Scale: 288895.277144
Level ID:
12 [
Start Tile
,
End Tile
]
Resolution: 38.2185141425366
Scale: 144447.638572
Level ID:
13 [
Start Tile
,
End Tile
]
Resolution: 19.1092570712683
Scale: 72223.819286
Format:
PNG24
Compression Quality:
0
Origin:
X: -2.0037508342787E7
Y: 2.0037508342787E7
Spatial Reference:
102100
Initial Extent:
XMin: -1.1176441714783572E7
YMin: 4473374.673234999
XMax: -1.0954106054016426E7
YMax: 4630437.479465
Spatial Reference:
102100
Full Extent:
XMin: -1.11374304391E7
YMin: 4480513.8917
XMax: -1.09931173297E7
YMax: 4623298.261
Spatial Reference:
102100
Min Scale:
5.91657527591555E8
Max Scale:
72223.819286
Min LOD:
0
Max LOD:
13
Units:
esriMeters
Supported Image Format Types:
PNG24
Export Tiles Allowed:
false
Max Export Tiles Count:
100000
Document Info:
Title:
Math_DistanceMidpoint_Grid_tiles
Author:
Maps.com_carto
Comments:
Subject:
Coordinate Grid for the GeoInquiries math lesson on "Where’s the Water? – Distance and Midpoint."
Category:
Keywords:
GeoInquiries, math, geometry, distance, midpoint, coordinates, coordinate grid, grid