SC_2023_RGB (Map Service)
View In:
ArcGIS JavaScript
ArcGIS.com
WMTS
Current Version: 10.81
Service Description: Prior to 2020, South Carolina State Government, along with a majority of our Local Governments saw a need for high quality aerial imagery. State law requires that counties must map using orthophotography every 10 years for assessment purposes. This created a unique dataset which had a multitude of varying spatial, temporal and radiometric resolutions. With this "patchwork" of imagery no one entity could really benefit from a standard dataset. Because of this need for a baseline imagery dataset, South Carolina Revenue and Fiscal Affairs Office's (SC RFA) statewide aerial initiative became a reality. With onetime General Assembly appropriations, we were able to successfully collect a full statewide aerial dataset. This data was collected between January 7 and March 7, 2020, during leaf-off and cloud free conditions by Kucera International Inc. Using both frame (Vexcel Eagle M1) and push-broom (Leica ADS100) based digital mapping cameras, all of the imagery was collected at 6-inch resolution with 4-radiometric bands producing True and False Color datasets. This data will be used by local, state and federal agencies to help manage land, land tax assessment, change detection and emergency operations along with other business applications.
Map Name: Layers
Legend
All Layers and Tables
Description: Prior to 2020, South Carolina State Government, along with a majority of our Local Governments saw a need for high quality aerial imagery. State law requires that counties must map using orthophotography every 10 years for assessment purposes. This created a unique dataset which had a multitude of varying spatial, temporal and radiometric resolutions. With this "patchwork" of imagery no one entity could really benefit from a standard dataset. Because of this need for a baseline imagery dataset, South Carolina Revenue and Fiscal Affairs Office's (SC RFA) statewide aerial initiative became a reality. With onetime General Assembly appropriations, we were able to successfully collect a full statewide aerial dataset. This data was collected between January 7 and March 7, 2020, during leaf-off and cloud free conditions by Kucera International Inc. Using both frame (Vexcel Eagle M1) and push-broom (Leica ADS100) based digital mapping cameras, all of the imagery was collected at 6-inch resolution with 4-radiometric bands producing True and False Color datasets. This data will be used by local, state and federal agencies to help manage land, land tax assessment, change detection and emergency operations along with other business applications.
Copyright Text: Imagery collected in 2023 by Kucera International. Imagery is managed by Adam DeMars, South Carolina State GIS Coordinator and hosted by Esri.
Spatial Reference: 102100
Single Fused Map Cache: true
Capabilities: Map,TilesOnly,Tilemap
Tile Info:
- Height: 256
- Width: 256
- DPI: 96
- Levels of Detail: (# Levels: 21)
- Level ID: 0 [Start Tile, End Tile]
Resolution: 156543.03392800014
Scale: 5.91657527591555E8
- Level ID: 1 [Start Tile, End Tile]
Resolution: 78271.51696399994
Scale: 2.95828763795777E8
- Level ID: 2 [Start Tile, End Tile]
Resolution: 39135.75848200009
Scale: 1.47914381897889E8
- Level ID: 3 [Start Tile, End Tile]
Resolution: 19567.87924099992
Scale: 7.3957190948944E7
- Level ID: 4 [Start Tile, End Tile]
Resolution: 9783.93962049996
Scale: 3.6978595474472E7
- Level ID: 5 [Start Tile, End Tile]
Resolution: 4891.96981024998
Scale: 1.8489297737236E7
- Level ID: 6 [Start Tile, End Tile]
Resolution: 2445.98490512499
Scale: 9244648.868618
- Level ID: 7 [Start Tile, End Tile]
Resolution: 1222.992452562495
Scale: 4622324.434309
- Level ID: 8 [Start Tile, End Tile]
Resolution: 611.4962262813797
Scale: 2311162.217155
- Level ID: 9 [Start Tile, End Tile]
Resolution: 305.74811314055756
Scale: 1155581.108577
- Level ID: 10 [Start Tile, End Tile]
Resolution: 152.87405657041106
Scale: 577790.554289
- Level ID: 11 [Start Tile, End Tile]
Resolution: 76.43702828507324
Scale: 288895.277144
- Level ID: 12 [Start Tile, End Tile]
Resolution: 38.21851414253662
Scale: 144447.638572
- Level ID: 13 [Start Tile, End Tile]
Resolution: 19.10925707126831
Scale: 72223.819286
- Level ID: 14 [Start Tile, End Tile]
Resolution: 9.554628535634155
Scale: 36111.909643
- Level ID: 15 [Start Tile, End Tile]
Resolution: 4.77731426794937
Scale: 18055.954822
- Level ID: 16 [Start Tile, End Tile]
Resolution: 2.388657133974685
Scale: 9027.977411
- Level ID: 17 [Start Tile, End Tile]
Resolution: 1.1943285668550503
Scale: 4513.988705
- Level ID: 18 [Start Tile, End Tile]
Resolution: 0.5971642835598172
Scale: 2256.994353
- Level ID: 19 [Start Tile, End Tile]
Resolution: 0.29858214164761665
Scale: 1128.497176
- Level ID: 20 [Start Tile, End Tile]
Resolution: 0.14929107082380833
Scale: 564.248588
- Format: MIXED
- Compression Quality: 85
- Origin:
X: -2.0037508342787E7
Y: 2.0037508342787E7
- Spatial Reference:
102100
Initial Extent: XMin: -9280900.372292275
YMin: 3767165.4956019525
XMax: -8740871.426386042
YMax: 4194328.012900058
Spatial Reference:
102100
Full Extent: XMin: -9280900.372292275
YMin: 3767165.4956019525
XMax: -8740871.426386042
YMax: 4194328.012900058
Spatial Reference:
102100
Min Scale: 1.47914382E8
Max Scale: 564.248588
Min LOD: 0
Max LOD: 20
Units: esriMeters
Supported Image Format Types: MIXED
Export Tiles Allowed: true
Max Export Tiles Count: 100000
Resampling: true
Document Info: - Title: SC_2023_RGB
- Author: adam.demars@rfa.sc.gov
- Comments:
- Subject: South Carolina Aerial photography captured between January - February 2023. Imagery is 6-inch RGB orthoimagery.
- Category:
- Keywords: Aerial Imagery, RGB, SC_2023_RGB, South Carolina, Orthophoto, Orthophotography, SC2023Imagery, Imagery