Services Directory
Login
Home
>
Mapa_Hibrido
JSON
|
WMTS
|
API Reference
Mapa_Hibrido
(Map Service)
View In:
ArcGIS JavaScript
ArcGIS.com
WMTS
Current Version:
10.81
Service Description:
Mapa base híbrido IGAC
Map Name:
Layers
Legend
All Layers and Tables
Layers:
Etiqueta Colombia
(0)
Etiquetas
(1)
Fronteras
(2)
Línea Costera
(3)
Limite_Fronterizo
(4)
Línea limitrofe Buffer costa
(5)
Línea limitrofe Buffer frnterza
(6)
Drenaje_Sencillo_Fronterizo
(7)
Drenaje_Doble_Fronterizo
(8)
Fronteras_Internacionales_Hasta 4M
(9)
Fronteras_Internacionales_Hasta 4M
(10)
Islas Imagenes
(11)
Orto500_88_20220608.tif
(12)
Orto50_ArchipiealgoMalpelo_20211104.tif
(13)
Orto10_IslaPanda_20171220.tif
(14)
Orto10_IslasRosario_Z5_20180330.tif
(15)
Orto10_IslasRosario_Z3_20180330.tif
(16)
Orto10_IslaCeycen_20171220.tif
(17)
Orto10_IslaPalma_20171220.tif
(18)
Orto10_IslaMangle_20171220.tif
(19)
Orto10_IslaMucura_20171220.tif
(20)
Orto10_IslaTintipan_20171220.tif
(21)
nivel10
(22)
Anotacion
(23)
Cienaga_P_Anot_PNT
(24)
Drenaje_Sencillo_Anot_LNE
(25)
Drenaje Doble Anotación LINE
(26)
Layer
(27)
Via
(28)
Drenaje_Sencillo
(29)
Límite limitrofe
(30)
Paramento
(31)
Banco_Arena
(32)
Drenaje_Doble
(33)
ComunidadesNegras
(34)
Isla
(35)
nivel9
(36)
Anotacion
(37)
Drenaje Doble Anotación LINE
(38)
Layer
(39)
Via
(40)
Drenaje_Sencillo
(41)
Límite limitrofe
(42)
Banco_Arena
(43)
Drenaje_Doble
(44)
ComunidadesNegras
(45)
Isla
(46)
nivel8
(47)
Anotacion
(48)
Cienaga_P_Anot_PNT
(49)
Drenaje Doble Anotación LINE
(50)
Layer
(51)
Via
(52)
Drenaje_Sencillo
(53)
Drenaje_Doble
(54)
Límite limitrofe
(55)
Banco_Arena
(56)
ComunidadesNegras
(57)
Isla
(58)
nivel7
(59)
Anotacion
(60)
Drenaje Doble Anotación LINE
(61)
Layer
(62)
Via
(63)
Banco_Arena
(64)
Drenaje_Doble
(65)
Límite limitrofe
(66)
ComunidadesNegras
(67)
Isla
(68)
nivel6
(69)
Layer
(70)
Via
(71)
Drenaje_Doble
(72)
Límite limitrofe
(73)
Banco_Arena
(74)
Isla
(75)
nivel5
(76)
Layer
(77)
Via
(78)
Drenaje_Doble
(79)
Límite limitrofe
(80)
Isla
(81)
nivel4
(82)
Layer
(83)
Drenaje_DobleLNE
(84)
Límite limitrofe
(85)
Isla
(86)
nivel3
(87)
Layer
(88)
Drenaje_DobleLNE
(89)
Límite limitrofe
(90)
nivel2
(91)
Layer
(92)
Límite limitrofe
(93)
nivel1
(94)
Layer
(95)
Límite limitrofe
(96)
nivel0
(97)
Layer
(98)
Límite limitrofe
(99)
Anotaciones_Islas_PNT_4millones
(100)
Anotaciones_Islas_PNT
(101)
Malpelo
(102)
Islas
(103)
Depto
(104)
Municipios
(105)
Batimetria_Global
(106)
Colombia50K
(107)
Boundary
(108)
Footprint
(109)
Image
(110)
Modelos Digitales
(111)
Paises18M
(112)
Paises4M
(113)
Colombia
(114)
NE2_DEM_Global
(115)
Description:
Mapa base híbrido IGAC
Copyright Text:
IGAC
Spatial Reference:
102100
Single Fused Map Cache:
true
Capabilities:
Map,TilesOnly,Tilemap
Tile Info:
Height:
256
Width:
256
DPI:
96
Levels of Detail:
(# Levels: 24)
Level ID:
0 [
Start Tile
,
End Tile
]
Resolution: 156543.033928
Scale: 5.91657527591555E8
Level ID:
1 [
Start Tile
,
End Tile
]
Resolution: 78271.5169639999
Scale: 2.95828763795777E8
Level ID:
2 [
Start Tile
,
End Tile
]
Resolution: 39135.7584820001
Scale: 1.47914381897889E8
Level ID:
3 [
Start Tile
,
End Tile
]
Resolution: 19567.8792409999
Scale: 7.3957190948944E7
Level ID:
4 [
Start Tile
,
End Tile
]
Resolution: 9783.93962049996
Scale: 3.6978595474472E7
Level ID:
5 [
Start Tile
,
End Tile
]
Resolution: 4891.96981024998
Scale: 1.8489297737236E7
Level ID:
6 [
Start Tile
,
End Tile
]
Resolution: 2445.98490512499
Scale: 9244648.868618
Level ID:
7 [
Start Tile
,
End Tile
]
Resolution: 1222.99245256249
Scale: 4622324.434309
Level ID:
8 [
Start Tile
,
End Tile
]
Resolution: 611.49622628138
Scale: 2311162.217155
Level ID:
9 [
Start Tile
,
End Tile
]
Resolution: 305.748113140558
Scale: 1155581.108577
Level ID:
10 [
Start Tile
,
End Tile
]
Resolution: 152.874056570411
Scale: 577790.554289
Level ID:
11 [
Start Tile
,
End Tile
]
Resolution: 76.4370282850732
Scale: 288895.277144
Level ID:
12 [
Start Tile
,
End Tile
]
Resolution: 38.2185141425366
Scale: 144447.638572
Level ID:
13 [
Start Tile
,
End Tile
]
Resolution: 19.1092570712683
Scale: 72223.819286
Level ID:
14 [
Start Tile
,
End Tile
]
Resolution: 9.55462853563415
Scale: 36111.909643
Level ID:
15 [
Start Tile
,
End Tile
]
Resolution: 4.77731426794937
Scale: 18055.954822
Level ID:
16 [
Start Tile
,
End Tile
]
Resolution: 2.38865713397468
Scale: 9027.977411
Level ID:
17 [
Start Tile
,
End Tile
]
Resolution: 1.19432856685505
Scale: 4513.988705
Level ID:
18 [
Start Tile
,
End Tile
]
Resolution: 0.597164283559817
Scale: 2256.994353
Level ID:
19 [
Start Tile
,
End Tile
]
Resolution: 0.298582141647617
Scale: 1128.497176
Level ID:
20 [
Start Tile
,
End Tile
]
Resolution: 0.14929107082380833
Scale: 564.248588
Level ID:
21 [
Start Tile
,
End Tile
]
Resolution: 0.07464553541190416
Scale: 282.124294
Level ID:
22 [
Start Tile
,
End Tile
]
Resolution: 0.03732276770595208
Scale: 141.062147
Level ID:
23 [
Start Tile
,
End Tile
]
Resolution: 0.01866138385297604
Scale: 70.5310735
Format:
JPEG
Compression Quality:
75
Origin:
X: -2.0037508342787E7
Y: 2.0037508342787E7
Spatial Reference:
102100
Initial Extent:
XMin: -1.23262107292595E7
YMin: -2512341.85044696
XMax: -3794615.38018355
YMax: 3240614.64640702
Spatial Reference:
102100
Full Extent:
XMin: -1.23262107292595E7
YMin: -2512341.85044696
XMax: -3794615.38018355
YMax: 3240614.64640702
Spatial Reference:
102100
Min Scale:
0.0
Max Scale:
0.0
Min LOD:
1
Max LOD:
15
Units:
esriMeters
Supported Image Format Types:
JPEG
Export Tiles Allowed:
false
Max Export Tiles Count:
100000
Resampling:
true
Document Info:
Title:
Mapa_Hibrido
Author:
ana.corredor_IGAC_OIT
Comments:
Subject:
Mapa híbrido 2026-04-06
Category:
Keywords:
basemap, IGAC