Threats_2020_IAG (Map Service)
View In:
ArcGIS JavaScript
ArcGIS.com
WMTS
Current Version: 10.81
Service Description: File-based data for download:
https://www.sciencebase.gov/catalog/item/6329f0f4d34e71c6d67b8f82
Related report with figures: [https://doi.org/10.3133/ofr20221081](http://)
Location and extent of the invasive annual grass threat across the sagebrush biome in the United States for 2020. Blue areas (dark and light, representing core sagebrush areas [CSAs] and growth opportunity areas [GOAs], respectively) are locations of high sagebrush ecological integrity and could serve as anchor points in an overall biome-wide strategy. A separate, high-resolution portable document format (PDF) version of this map is available at https://doi.org/10.3133/ofr20221081 so stakeholders can zoom in and see the results at much smaller scales. By zooming in, one can see better that invasive annual grass threats are occurring at the edges of CSAs and GOAs and are not well represented at a range-wide extent.
Invasive annual grasses (for example, Bromus tectorum L. [cheatgrass] and Taeniatherum caput-medusae L. [medusahead]) have profound and well-documented effects on the ecological function of sagebrush plant communities including increased fire frequency and loss of native perennial species (Germino and others, 2016; Davies and others, 2021).
Map Name: Threats 2020 - IAG
Legend
All Layers and Tables
Layers:
Tables:
Description: File-based data for download:
https://www.sciencebase.gov/catalog/item/6329f0f4d34e71c6d67b8f82
Related report with figures: [https://doi.org/10.3133/ofr20221081](http://)
Location and extent of the invasive annual grass threat across the sagebrush biome in the United States for 2020. Blue areas (dark and light, representing core sagebrush areas [CSAs] and growth opportunity areas [GOAs], respectively) are locations of high sagebrush ecological integrity and could serve as anchor points in an overall biome-wide strategy. A separate, high-resolution portable document format (PDF) version of this map is available at https://doi.org/10.3133/ofr20221081 so stakeholders can zoom in and see the results at much smaller scales. By zooming in, one can see better that invasive annual grass threats are occurring at the edges of CSAs and GOAs and are not well represented at a range-wide extent.
Invasive annual grasses (for example, Bromus tectorum L. [cheatgrass] and Taeniatherum caput-medusae L. [medusahead]) have profound and well-documented effects on the ecological function of sagebrush plant communities including increased fire frequency and loss of native perennial species (Germino and others, 2016; Davies and others, 2021).
Copyright Text: We appreciate the in-kind staff time and expertise that the 12 Agency and Organizations of the authors contributed to this effort. This work would have not been possible without the diversity of disciplines and Agency/Org perspectives represented in this work. Funding to support this work came from the USFWS Science Application Program in legacy Region 6.
Spatial Reference: 102100
Single Fused Map Cache: true
Capabilities: Map,TilesOnly,Tilemap
Tile Info:
- Height: 256
- Width: 256
- DPI: 96
- Levels of Detail: (# Levels: 24)
- Level ID: 0 [Start Tile, End Tile]
Resolution: 156543.033928
Scale: 5.91657527591555E8
- Level ID: 1 [Start Tile, End Tile]
Resolution: 78271.5169639999
Scale: 2.95828763795777E8
- Level ID: 2 [Start Tile, End Tile]
Resolution: 39135.7584820001
Scale: 1.47914381897889E8
- Level ID: 3 [Start Tile, End Tile]
Resolution: 19567.8792409999
Scale: 7.3957190948944E7
- Level ID: 4 [Start Tile, End Tile]
Resolution: 9783.93962049996
Scale: 3.6978595474472E7
- Level ID: 5 [Start Tile, End Tile]
Resolution: 4891.96981024998
Scale: 1.8489297737236E7
- Level ID: 6 [Start Tile, End Tile]
Resolution: 2445.98490512499
Scale: 9244648.868618
- Level ID: 7 [Start Tile, End Tile]
Resolution: 1222.99245256249
Scale: 4622324.434309
- Level ID: 8 [Start Tile, End Tile]
Resolution: 611.49622628138
Scale: 2311162.217155
- Level ID: 9 [Start Tile, End Tile]
Resolution: 305.748113140558
Scale: 1155581.108577
- Level ID: 10 [Start Tile, End Tile]
Resolution: 152.874056570411
Scale: 577790.554289
- Level ID: 11 [Start Tile, End Tile]
Resolution: 76.4370282850732
Scale: 288895.277144
- Level ID: 12 [Start Tile, End Tile]
Resolution: 38.2185141425366
Scale: 144447.638572
- Level ID: 13 [Start Tile, End Tile]
Resolution: 19.1092570712683
Scale: 72223.819286
- Level ID: 14 [Start Tile, End Tile]
Resolution: 9.55462853563415
Scale: 36111.909643
- Level ID: 15 [Start Tile, End Tile]
Resolution: 4.77731426794937
Scale: 18055.954822
- Level ID: 16 [Start Tile, End Tile]
Resolution: 2.38865713397468
Scale: 9027.977411
- Level ID: 17 [Start Tile, End Tile]
Resolution: 1.19432856685505
Scale: 4513.988705
- Level ID: 18 [Start Tile, End Tile]
Resolution: 0.597164283559817
Scale: 2256.994353
- Level ID: 19 [Start Tile, End Tile]
Resolution: 0.298582141647617
Scale: 1128.497176
- Level ID: 20 [Start Tile, End Tile]
Resolution: 0.14929107082380833
Scale: 564.248588
- Level ID: 21 [Start Tile, End Tile]
Resolution: 0.07464553541190416
Scale: 282.124294
- Level ID: 22 [Start Tile, End Tile]
Resolution: 0.03732276770595208
Scale: 141.062147
- Level ID: 23 [Start Tile, End Tile]
Resolution: 0.01866138385297604
Scale: 70.5310735
- Format: Mixed
- Compression Quality: 75
- Origin:
X: -2.0037508342787E7
Y: 2.0037508342787E7
- Spatial Reference:
102100
Initial Extent: XMin: -1.3535530563558504E7
YMin: 4116913.5729260873
XMax: -1.1292833184817523E7
YMax: 6499779.537838379
Spatial Reference:
102100
Full Extent: XMin: -1.4226244067867516E7
YMin: 3716229.1461898955
XMax: -1.1252097934873024E7
YMax: 6670066.156443001
Spatial Reference:
102100
Min Scale: 5.91657527591555E8
Max Scale: 36111.909643
Min LOD: 0
Max LOD: 14
Units: esriMeters
Supported Image Format Types: Mixed
Export Tiles Allowed: false
Max Export Tiles Count: 100000
Document Info: - Title: Invasive Annual Grass 2020 (Fig. 9) - A Sagebrush Conservation Design to Proactively Restore America?s Sagebrush Biome
- Author: matthew_heller@fws.gov_fws
- Comments:
- Subject: Location and extent of the invasive annual grass threat across the sagebrush biome in the United States for 2020
- Category:
- Keywords: biogeography, climate change, ecological processes, ecosystem resilience, habitats, human impacts, natural resource management, remediation, remote sensing, time series datasets, USGS:62d57e89d34e87fffb2dda62, data release, biota, environment, conservation, conservation design, core sagebrush areas, ecological integrity, geographic patterns, growth areas, growth opportunity areas, human modification, other rangeland areas, overlay, quantitative data, restoration, sagebrush biome, temporal scale, wildlife habitat, Invasive annual grasses, Arizona, California, Colorado, Idaho, Montana, Nebraska, Nevada, New Mexico, North Dakota, Oregon, South Dakota, Utah, Washington, Wyoming, western United States, sagebrush threats, threats, sagebrush, invasive annual grass, iag