SOBS_AnnHerbMatrix (Map Service)
View In:
ArcGIS JavaScript
ArcGIS.com
WMTS
Current Version: 10.81
Service Description: We developed spatial overlays (i.e., “threat matrices”) by combining spatial models of threats (30-m x 30-m pixels) with multispecies cores for sagebrush obligate bird abundance (1-mi2 hexagons). Spatial information was retained in the overlays for three categories of bird core areas (70, 50, and 25%) in the No to Low category of threat classification, and for the 70% bird core area (inclusive of the 50% and 25% cores) for the highest three categories of threat classification (No to Low, Moderate, High, and Very High). For the WGA Annual Herbaceous layer, the four categories were 0-10, 11-25, 26-50, and > 50% cover.
Map Name: SOBS_AnnHerbMatrix
Legend
All Layers and Tables
Layers:
Tables:
Description: We developed spatial overlays (i.e., “threat matrices”) by combining spatial models of threats (30-m x 30-m pixels) with multispecies cores for sagebrush obligate bird abundance (1-mi2 hexagons). Spatial information was retained in the overlays for three categories of bird core areas (70, 50, and 25%) in the No to Low category of threat classification, and for the 70% bird core area (inclusive of the 50% and 25% cores) for the highest three categories of threat classification (No to Low, Moderate, High, and Very High). For the WGA Annual Herbaceous layer, the four categories were 0-10, 11-25, 26-50, and > 50% cover.
Copyright Text: USFWS Legacy Region 6 Sagebrush SHC Team
https://gs-portal-fws.hub.arcgis.com/
Spatial Reference: 102100
Single Fused Map Cache: true
Capabilities: Map,TilesOnly,Tilemap
Tile Info:
- Height: 256
- Width: 256
- DPI: 96
- Levels of Detail: (# Levels: 24)
- Level ID: 0 [Start Tile, End Tile]
Resolution: 156543.033928
Scale: 5.91657527591555E8
- Level ID: 1 [Start Tile, End Tile]
Resolution: 78271.5169639999
Scale: 2.95828763795777E8
- Level ID: 2 [Start Tile, End Tile]
Resolution: 39135.7584820001
Scale: 1.47914381897889E8
- Level ID: 3 [Start Tile, End Tile]
Resolution: 19567.8792409999
Scale: 7.3957190948944E7
- Level ID: 4 [Start Tile, End Tile]
Resolution: 9783.93962049996
Scale: 3.6978595474472E7
- Level ID: 5 [Start Tile, End Tile]
Resolution: 4891.96981024998
Scale: 1.8489297737236E7
- Level ID: 6 [Start Tile, End Tile]
Resolution: 2445.98490512499
Scale: 9244648.868618
- Level ID: 7 [Start Tile, End Tile]
Resolution: 1222.99245256249
Scale: 4622324.434309
- Level ID: 8 [Start Tile, End Tile]
Resolution: 611.49622628138
Scale: 2311162.217155
- Level ID: 9 [Start Tile, End Tile]
Resolution: 305.748113140558
Scale: 1155581.108577
- Level ID: 10 [Start Tile, End Tile]
Resolution: 152.874056570411
Scale: 577790.554289
- Level ID: 11 [Start Tile, End Tile]
Resolution: 76.4370282850732
Scale: 288895.277144
- Level ID: 12 [Start Tile, End Tile]
Resolution: 38.2185141425366
Scale: 144447.638572
- Level ID: 13 [Start Tile, End Tile]
Resolution: 19.1092570712683
Scale: 72223.819286
- Level ID: 14 [Start Tile, End Tile]
Resolution: 9.55462853563415
Scale: 36111.909643
- Level ID: 15 [Start Tile, End Tile]
Resolution: 4.77731426794937
Scale: 18055.954822
- Level ID: 16 [Start Tile, End Tile]
Resolution: 2.38865713397468
Scale: 9027.977411
- Level ID: 17 [Start Tile, End Tile]
Resolution: 1.19432856685505
Scale: 4513.988705
- Level ID: 18 [Start Tile, End Tile]
Resolution: 0.597164283559817
Scale: 2256.994353
- Level ID: 19 [Start Tile, End Tile]
Resolution: 0.298582141647617
Scale: 1128.497176
- Level ID: 20 [Start Tile, End Tile]
Resolution: 0.14929107082380833
Scale: 564.248588
- Level ID: 21 [Start Tile, End Tile]
Resolution: 0.07464553541190416
Scale: 282.124294
- Level ID: 22 [Start Tile, End Tile]
Resolution: 0.03732276770595208
Scale: 141.062147
- Level ID: 23 [Start Tile, End Tile]
Resolution: 0.01866138385297604
Scale: 70.5310735
- Format: Mixed
- Compression Quality: 75
- Origin:
X: -2.0037508342787E7
Y: 2.0037508342787E7
- Spatial Reference:
102100
Initial Extent: XMin: -1.3223587710914768E7
YMin: 4232327.4923697915
XMax: -1.1758511095758345E7
YMax: 6310506.821477544
Spatial Reference:
102100
Full Extent: XMin: -1.389125781737783E7
YMin: 4056968.4812820596
XMax: -1.1306040953701666E7
YMax: 6591203.969196441
Spatial Reference:
102100
Min Scale: 5.91657527591555E8
Max Scale: 72223.819286
Min LOD: 0
Max LOD: 13
Units: esriMeters
Supported Image Format Types: Mixed
Export Tiles Allowed: true
Max Export Tiles Count: 100000
Document Info: - Title: Sagebrush Obligate Birds Annual Herbaceous Matrix
- Author: matthew_heller@fws.gov_fws
- Comments:
- Subject: Identify the overlapping areas of Sagebrush obligate bird core area habitats and annual herbaceous threats to habitat.
- Category:
- Keywords: USFWS Legacy Region 6, Sagebrush Obligate Birds, Sagebrush Biome, Sagebrush SHC, Cheatgrass, sagebrush, species, threats, sagebrush species, sagebrush threats