SEIFv4a (Map Service)
View In:
ArcGIS JavaScript
ArcGIS.com
WMTS
Current Version: 10.81
Service Description: In large river ecosystems, the timing, extent, duration and frequency of
floodplain inundation greatly affect the quality of fish and wildlife habitat and the supply of important ecosystem goods and services. Seasonal high flows provide connectivity from the river to the floodplain, and seasonal inundation of the floodplain governs ecosystem structure and function. River regulation and other forms of hydrologic alteration have altered the connectivity of many rivers with their adjacent floodplain – impacting the function of wetlands on the floodplain and in turn, impacting the mainstem river function. Conservation and management of remaining floodplain resources can be improved through a better understanding of the spatial extent and frequency of inundation at scales that are relevant to the species and/or ecological processes of interest. Spatial data products describing dynamic aspects floodplain inundation are, however, not widely available. This study used Landsat imagery to generate multiple observations of inundation extent under varying hydrologic conditions to
estimate inundation frequency. These data were composited into a landscape mosaic to depict relative inundation frequency over the entire Southeast Region. An analytical methodology is presented in the related publication for linking the observed inundation extent and frequency with long-term gage
measurements so that the outcomes may be useful in defining meaningful critical thresholds for a variety of floodplain dependent organisms as well as important ecological processes
The Southeast Inundation Frequency (IF) mosaic is a cartographic product is intended to provide a
landscape scale comparison of floodplain inundation frequency. For a more detailed analysis, please refer to the IF data for an individual Landsat scene (path/row), and the excel file listing the dates of imagery used to construct IF for that scene (Available at https://www.sciencebase.gov/catalog/item/5617e3c3e4b0cdb063e3fc35). Methodology and potential application details are in:
Allen, Y. 2016. Landscape Scale Assessment of Floodplain Inundation Frequency Using Landsat Imagery. River Research and Applications 32:1609–1620.
Map Name: Layers
Legend
All Layers and Tables
Layers:
Tables:
Description: In large river ecosystems, the timing, extent, duration and frequency of
floodplain inundation greatly affect the quality of fish and wildlife habitat and the supply of important ecosystem goods and services. Seasonal high flows provide connectivity from the river to the floodplain, and seasonal inundation of the floodplain governs ecosystem structure and function. River regulation and other forms of hydrologic alteration have altered the connectivity of many rivers with their adjacent floodplain – impacting the function of wetlands on the floodplain and in turn, impacting the mainstem river function. Conservation and management of remaining floodplain resources can be improved through a better understanding of the spatial extent and frequency of inundation at scales that are relevant to the species and/or ecological processes of interest. Spatial data products describing dynamic aspects floodplain inundation are, however, not widely available. This study used Landsat imagery to generate multiple observations of inundation extent under varying hydrologic conditions to
estimate inundation frequency. These data were composited into a landscape mosaic to depict relative inundation frequency over the entire Southeast Region. An analytical methodology is presented in the related publication for linking the observed inundation extent and frequency with long-term gage
measurements so that the outcomes may be useful in defining meaningful critical thresholds for a variety of floodplain dependent organisms as well as important ecological processes
The Southeast Inundation Frequency (IF) mosaic is a cartographic product is intended to provide a
landscape scale comparison of floodplain inundation frequency. For a more detailed analysis, please refer to the IF data for an individual Landsat scene (path/row), and the excel file listing the dates of imagery used to construct IF for that scene (Available at https://www.sciencebase.gov/catalog/item/5617e3c3e4b0cdb063e3fc35). Methodology and potential application details are in:
Allen, Y. 2016. Landscape Scale Assessment of Floodplain Inundation Frequency Using Landsat Imagery. River Research and Applications 32:1609–1620.
Copyright Text: Yvonne Allen - Spatial Ecologist Southeast Region US Fish and Wildlife Service
Spatial Reference: 102100
Single Fused Map Cache: true
Capabilities: Map,TilesOnly,Tilemap
Tile Info:
- Height: 256
- Width: 256
- DPI: 96
- Levels of Detail: (# Levels: 24)
- Level ID: 0 [Start Tile, End Tile]
Resolution: 156543.033928
Scale: 5.91657527591555E8
- Level ID: 1 [Start Tile, End Tile]
Resolution: 78271.5169639999
Scale: 2.95828763795777E8
- Level ID: 2 [Start Tile, End Tile]
Resolution: 39135.7584820001
Scale: 1.47914381897889E8
- Level ID: 3 [Start Tile, End Tile]
Resolution: 19567.8792409999
Scale: 7.3957190948944E7
- Level ID: 4 [Start Tile, End Tile]
Resolution: 9783.93962049996
Scale: 3.6978595474472E7
- Level ID: 5 [Start Tile, End Tile]
Resolution: 4891.96981024998
Scale: 1.8489297737236E7
- Level ID: 6 [Start Tile, End Tile]
Resolution: 2445.98490512499
Scale: 9244648.868618
- Level ID: 7 [Start Tile, End Tile]
Resolution: 1222.99245256249
Scale: 4622324.434309
- Level ID: 8 [Start Tile, End Tile]
Resolution: 611.49622628138
Scale: 2311162.217155
- Level ID: 9 [Start Tile, End Tile]
Resolution: 305.748113140558
Scale: 1155581.108577
- Level ID: 10 [Start Tile, End Tile]
Resolution: 152.874056570411
Scale: 577790.554289
- Level ID: 11 [Start Tile, End Tile]
Resolution: 76.4370282850732
Scale: 288895.277144
- Level ID: 12 [Start Tile, End Tile]
Resolution: 38.2185141425366
Scale: 144447.638572
- Level ID: 13 [Start Tile, End Tile]
Resolution: 19.1092570712683
Scale: 72223.819286
- Level ID: 14 [Start Tile, End Tile]
Resolution: 9.55462853563415
Scale: 36111.909643
- Level ID: 15 [Start Tile, End Tile]
Resolution: 4.77731426794937
Scale: 18055.954822
- Level ID: 16 [Start Tile, End Tile]
Resolution: 2.38865713397468
Scale: 9027.977411
- Level ID: 17 [Start Tile, End Tile]
Resolution: 1.19432856685505
Scale: 4513.988705
- Level ID: 18 [Start Tile, End Tile]
Resolution: 0.597164283559817
Scale: 2256.994353
- Level ID: 19 [Start Tile, End Tile]
Resolution: 0.298582141647617
Scale: 1128.497176
- Level ID: 20 [Start Tile, End Tile]
Resolution: 0.14929107082380833
Scale: 564.248588
- Level ID: 21 [Start Tile, End Tile]
Resolution: 0.07464553541190416
Scale: 282.124294
- Level ID: 22 [Start Tile, End Tile]
Resolution: 0.03732276770595208
Scale: 141.062147
- Level ID: 23 [Start Tile, End Tile]
Resolution: 0.01866138385297604
Scale: 70.5310735
- Format: PNG
- Compression Quality: 0
- Origin:
X: -2.0037508342787E7
Y: 2.0037508342787E7
- Spatial Reference:
102100
Initial Extent: XMin: -1.0259674922223594E7
YMin: 3433154.964963996
XMax: -1.0018650864480995E7
YMax: 3534865.2729497706
Spatial Reference:
102100
Full Extent: XMin: -1.0883520000000006E7
YMin: 3241664.17488314
XMax: -8198463.882744673
YMax: 5052727.805219052
Spatial Reference:
102100
Min Scale: 1.8489298E7
Max Scale: 2683.0
Min LOD: 5
Max LOD: 18
Units: esriMeters
Supported Image Format Types: PNG
Export Tiles Allowed: false
Max Export Tiles Count: 100000
Document Info: - Title: FWS R4 SA Southeast Floodplain Inundation Frequency v4a
- Author: yvonne_allen@fws.gov_fws
- Comments:
- Subject: Floodplain Inundation Extent and Frequency using multiple observations of Landsat Imagery
- Category:
- Keywords: inundation, floodplain, landsat, wetlands, flooding