Services Directory
Login
Home
>
BorneoForest
JSON
|
WMTS
|
API Reference
BorneoForest
(Map Service)
View In:
ArcGIS JavaScript
ArcGIS.com
WMTS
Current Version:
10.81
Service Description:
Map Name:
Layers
Legend
All Layers and Tables
Layers:
Forest status
(0)
Tables:
Description:
Copyright Text:
CIFOR
Spatial Reference:
102100
Single Fused Map Cache:
true
Capabilities:
Map,TilesOnly
Tile Info:
Height:
256
Width:
256
DPI:
96
Levels of Detail:
(# Levels: 14)
Level ID:
0 [
Start Tile
,
End Tile
]
Resolution: 156543.033928
Scale: 5.91657527591555E8
Level ID:
1 [
Start Tile
,
End Tile
]
Resolution: 78271.5169639999
Scale: 2.95828763795777E8
Level ID:
2 [
Start Tile
,
End Tile
]
Resolution: 39135.7584820001
Scale: 1.47914381897889E8
Level ID:
3 [
Start Tile
,
End Tile
]
Resolution: 19567.8792409999
Scale: 7.3957190948944E7
Level ID:
4 [
Start Tile
,
End Tile
]
Resolution: 9783.93962049996
Scale: 3.6978595474472E7
Level ID:
5 [
Start Tile
,
End Tile
]
Resolution: 4891.96981024998
Scale: 1.8489297737236E7
Level ID:
6 [
Start Tile
,
End Tile
]
Resolution: 2445.98490512499
Scale: 9244648.868618
Level ID:
7 [
Start Tile
,
End Tile
]
Resolution: 1222.99245256249
Scale: 4622324.434309
Level ID:
8 [
Start Tile
,
End Tile
]
Resolution: 611.49622628138
Scale: 2311162.217155
Level ID:
9 [
Start Tile
,
End Tile
]
Resolution: 305.748113140558
Scale: 1155581.108577
Level ID:
10 [
Start Tile
,
End Tile
]
Resolution: 152.874056570411
Scale: 577790.554289
Level ID:
11 [
Start Tile
,
End Tile
]
Resolution: 76.4370282850732
Scale: 288895.277144
Level ID:
12 [
Start Tile
,
End Tile
]
Resolution: 38.2185141425366
Scale: 144447.638572
Level ID:
13 [
Start Tile
,
End Tile
]
Resolution: 19.1092570712683
Scale: 72223.819286
Format:
PNG
Compression Quality:
0
Origin:
X: -2.0037508342787E7
Y: 2.0037508342787E7
Spatial Reference:
102100
Initial Extent:
XMin: 1.1874651125639679E7
YMin: -557183.0936904575
XMax: 1.3510228715427363E7
YMax: 899744.5284216087
Spatial Reference:
102100
Full Extent:
XMin: 1.2097705740453243E7
YMin: -489616.66704296326
XMax: 1.3291009459025983E7
YMax: 828231.0572706581
Spatial Reference:
102100
Min Scale:
5.91657527591555E8
Max Scale:
72223.819286
Min LOD:
0
Max LOD:
13
Units:
esriMeters
Supported Image Format Types:
PNG
Export Tiles Allowed:
false
Max Export Tiles Count:
100000
Document Info:
Title:
Deforestation and Degradation in Borneo (1973-2010)
Author:
m.salim_CIFOR
Comments:
Subject:
An island-wide documentation of Borneo that shows the impact of selective logging, fire and conversion to plantations since 1970's
Category:
Keywords:
forest, forest cover, deforestation, degradation, borneo