Esri_Hydro_Reference_Overlay (Map Service)
View In:
ArcGIS JavaScript
ArcGIS.com
WMTS
Current Version: 10.81
Service Description: This tile layer is designed to provide a a hydrologically oriented set of features to use with the World Terrain Base Layer or other simple base maps. The map features a hydro-centric design based on the amount of water flowing within the drainage network such that symbols of the same size and color represent roughly the same amount of water.
This map shows surface water flow as a linear phenomenon even over and through bodies of water. Using the best available data we show relative flow accurately, so that if one river carries more water downstream than another river, the result will be that the river will have a thicker symbol on the map.
This map is used as an overlay for content such as elevation from the World Terrain Base service or thematic services such as soil units, vegetation, or ecoregions. Combined with a basemap and your map services, this map provides a frame of reference for showing regional, national, and continental hydrologic phenomena such as drought, runoff, river level monitoring and flood forecasting.
River names are collected in the UTF8 character set so river names are collected in their original language but are written in the Roman alphabet. Sources for all river names are from the open source geonames.org project so they are international by nature.
The map is compiled from several sources. The global scales (very small scales through 1:2,300,000) include content from: HydroSHEDS, GTOPO30 Global Topographic Data, SRTM, GLWD, WorldClim, GRDC, and WWF Global 200 Terrestrial Eco Regions, with the latter three providing the inputs and basis for calculating flow. At medium scales (1:36,000 to 1:2,000,000) this service currently contains only U.S. data from the NHDPlusV2 that was jointly produced by the USGS and EPA.
Map Name: Layers
Legend
All Layers and Tables
Layers:
Tables:
Description: This tile layer is designed to provide a a hydrologically oriented set of features to use with the World Terrain Base Layer or other simple base maps. The map features a hydro-centric design based on the amount of water flowing within the drainage network such that symbols of the same size and color represent roughly the same amount of water.
This map shows surface water flow as a linear phenomenon even over and through bodies of water. Using the best available data we show relative flow accurately, so that if one river carries more water downstream than another river, the result will be that the river will have a thicker symbol on the map.
This map is used as an overlay for content such as elevation from the World Terrain Base service or thematic services such as soil units, vegetation, or ecoregions. Combined with a basemap and your map services, this map provides a frame of reference for showing regional, national, and continental hydrologic phenomena such as drought, runoff, river level monitoring and flood forecasting.
River names are collected in the UTF8 character set so river names are collected in their original language but are written in the Roman alphabet. Sources for all river names are from the open source geonames.org project so they are international by nature.
The map is compiled from several sources. The global scales (very small scales through 1:2,300,000) include content from: HydroSHEDS, GTOPO30 Global Topographic Data, SRTM, GLWD, WorldClim, GRDC, and WWF Global 200 Terrestrial Eco Regions, with the latter three providing the inputs and basis for calculating flow. At medium scales (1:36,000 to 1:2,000,000) this service currently contains only U.S. data from the NHDPlusV2 that was jointly produced by the USGS and EPA.
Copyright Text: Source: Esri
Spatial Reference:
102100
Single Fused Map Cache: true
Capabilities: Map,TilesOnly
Tile Info:
- Height: 256
- Width: 256
- DPI: 96
- Levels of Detail: (# Levels: 20)
- Level ID: 0 [Start Tile, End Tile]
Resolution: 156543.03392800014
Scale: 5.91657527591555E8
- Level ID: 1 [Start Tile, End Tile]
Resolution: 78271.51696399994
Scale: 2.95828763795777E8
- Level ID: 2 [Start Tile, End Tile]
Resolution: 39135.75848200009
Scale: 1.47914381897889E8
- Level ID: 3 [Start Tile, End Tile]
Resolution: 19567.87924099992
Scale: 7.3957190948944E7
- Level ID: 4 [Start Tile, End Tile]
Resolution: 9783.93962049996
Scale: 3.6978595474472E7
- Level ID: 5 [Start Tile, End Tile]
Resolution: 4891.96981024998
Scale: 1.8489297737236E7
- Level ID: 6 [Start Tile, End Tile]
Resolution: 2445.98490512499
Scale: 9244648.868618
- Level ID: 7 [Start Tile, End Tile]
Resolution: 1222.992452562495
Scale: 4622324.434309
- Level ID: 8 [Start Tile, End Tile]
Resolution: 611.4962262813797
Scale: 2311162.217155
- Level ID: 9 [Start Tile, End Tile]
Resolution: 305.74811314055756
Scale: 1155581.108577
- Level ID: 10 [Start Tile, End Tile]
Resolution: 152.87405657041106
Scale: 577790.554289
- Level ID: 11 [Start Tile, End Tile]
Resolution: 76.43702828507324
Scale: 288895.277144
- Level ID: 12 [Start Tile, End Tile]
Resolution: 38.21851414253662
Scale: 144447.638572
- Level ID: 13 [Start Tile, End Tile]
Resolution: 19.10925707126831
Scale: 72223.819286
- Level ID: 14 [Start Tile, End Tile]
Resolution: 9.554628535634155
Scale: 36111.909643
- Level ID: 15 [Start Tile, End Tile]
Resolution: 4.77731426794937
Scale: 18055.954822
- Level ID: 16 [Start Tile, End Tile]
Resolution: 2.388657133974685
Scale: 9027.977411
- Level ID: 17 [Start Tile, End Tile]
Resolution: 1.1943285668550503
Scale: 4513.988705
- Level ID: 18 [Start Tile, End Tile]
Resolution: 0.5971642835598172
Scale: 2256.994353
- Level ID: 19 [Start Tile, End Tile]
Resolution: 0.29858214164761665
Scale: 1128.497176
- Format: PNG32
- Compression Quality: 0
- Origin:
X: -2.0037508342787E7
Y: 2.0037508342787E7
- Spatial Reference:
102100
Initial Extent:
XMin: -4.003458645452653E7
YMin: -2520385.2288748045
XMax: 4.645178792629035E7
YMax: 2.6867480602043584E7
Spatial Reference:
102100
Full Extent:
XMin: -2.00375070672E7
YMin: -3.02409719584E7
XMax: 2.0037507067199998E7
YMax: 1.84183863089E7
Spatial Reference:
102100
Min Scale: 5.91657527591555E8
Max Scale: 1128.497176
Min LOD: 0
Max LOD: 19
Units: esriMeters
Supported Image Format Types: PNG32
Export Tiles Allowed: false
Max Export Tiles Count: 100000
Document Info:
- Title: Esri Hydro Reference Overlay
- Author: esri_landscape2
- Comments:
- Subject: This layer provides a reference overlay highlighting water features for use with layers related to the natural sciences.
- Category:
- Keywords: landscape, water, basemap, hydrology, hydro, hosted, esri_landscape, general availability, world, global