Tonga_Test_3857 (Map Service)
View In:
ArcGIS JavaScript
ArcGIS.com
WMTS
Current Version: 10.81
Service Description: Population Raster Tonga 2020
HH locations vector layer transformed into a 100m resolution raster.
This is a demo version, SDD is still evaluating the methodology but given the COVID outbreak
the dataset has been early released.
Map Name: Layers
Legend
All Layers and Tables
Layers:
Tables:
Description: Population Raster Tonga 2020
HH locations vector layer transformed into a 100m resolution raster.
This is a demo version, SDD is still evaluating the methodology but given the COVID outbreak
the dataset has been early released.
Copyright Text:
Spatial Reference: 102100
Single Fused Map Cache: true
Capabilities: Map,TilesOnly,Tilemap
Tile Info:
- Height: 256
- Width: 256
- DPI: 96
- Levels of Detail: (# Levels: 24)
- Level ID: 0 [Start Tile, End Tile]
Resolution: 156543.03392800014
Scale: 5.91657527591555E8
- Level ID: 1 [Start Tile, End Tile]
Resolution: 78271.51696399994
Scale: 2.95828763795777E8
- Level ID: 2 [Start Tile, End Tile]
Resolution: 39135.75848200009
Scale: 1.47914381897889E8
- Level ID: 3 [Start Tile, End Tile]
Resolution: 19567.87924099992
Scale: 7.3957190948944E7
- Level ID: 4 [Start Tile, End Tile]
Resolution: 9783.93962049996
Scale: 3.6978595474472E7
- Level ID: 5 [Start Tile, End Tile]
Resolution: 4891.96981024998
Scale: 1.8489297737236E7
- Level ID: 6 [Start Tile, End Tile]
Resolution: 2445.98490512499
Scale: 9244648.868618
- Level ID: 7 [Start Tile, End Tile]
Resolution: 1222.992452562495
Scale: 4622324.434309
- Level ID: 8 [Start Tile, End Tile]
Resolution: 611.4962262813797
Scale: 2311162.217155
- Level ID: 9 [Start Tile, End Tile]
Resolution: 305.74811314055756
Scale: 1155581.108577
- Level ID: 10 [Start Tile, End Tile]
Resolution: 152.87405657041106
Scale: 577790.554289
- Level ID: 11 [Start Tile, End Tile]
Resolution: 76.43702828507324
Scale: 288895.277144
- Level ID: 12 [Start Tile, End Tile]
Resolution: 38.21851414253662
Scale: 144447.638572
- Level ID: 13 [Start Tile, End Tile]
Resolution: 19.10925707126831
Scale: 72223.819286
- Level ID: 14 [Start Tile, End Tile]
Resolution: 9.554628535634155
Scale: 36111.909643
- Level ID: 15 [Start Tile, End Tile]
Resolution: 4.77731426794937
Scale: 18055.954822
- Level ID: 16 [Start Tile, End Tile]
Resolution: 2.388657133974685
Scale: 9027.977411
- Level ID: 17 [Start Tile, End Tile]
Resolution: 1.1943285668550503
Scale: 4513.988705
- Level ID: 18 [Start Tile, End Tile]
Resolution: 0.5971642835598172
Scale: 2256.994353
- Level ID: 19 [Start Tile, End Tile]
Resolution: 0.29858214164761665
Scale: 1128.497176
- Level ID: 20 [Start Tile, End Tile]
Resolution: 0.14929107082380833
Scale: 564.248588
- Level ID: 21 [Start Tile, End Tile]
Resolution: 0.07464553541190416
Scale: 282.124294
- Level ID: 22 [Start Tile, End Tile]
Resolution: 0.03732276770595208
Scale: 141.062147
- Level ID: 23 [Start Tile, End Tile]
Resolution: 0.01866138385297604
Scale: 70.5310735
- Format: PNG
- Compression Quality: 0
- Origin:
X: -2.0037508342787E7
Y: 2.0037508342787E7
- Spatial Reference:
102100
Initial Extent: XMin: -1.9829732451853737E7
YMin: -2231425.6442027427
XMax: -1.9064198708863065E7
YMax: -1717703.6570524275
Spatial Reference:
102100
Full Extent: XMin: -1.9552265580358405E7
YMin: -2445947.2949677436
XMax: -1.9341665580358405E7
YMax: -1755347.2949677436
Spatial Reference:
102100
Min Scale: 2311162.217155
Max Scale: 18055.954822
Min LOD: 8
Max LOD: 15
Units: esriMeters
Supported Image Format Types: PNG
Export Tiles Allowed: false
Max Export Tiles Count: 100000
Document Info: - Title: TON_PopGrid_2020
- Author: phil_bright
- Comments:
- Subject: TON Population Grid 2020
- Category:
- Keywords: population TONGA 2020