OrthoImagery2020 (Map Service)
View In:
ArcGIS JavaScript
ArcGIS.com
WMTS
Current Version: 10.81
Service Description: This metadata record describes the 0.25-foot pixel resolution digital orthoimagery (urban area and west mountains) produced for Santa Clara County by the Sanborn Map Company. The orthoimagery provided is 4-band (R, G, B, NIR), 8-bit per pixel and delivered in section tiles in uncompressed TIFF/TFW, compressed SID/SDW (10:1) and compressed JP2000 (10:1) formats. The data was collected between February 13th and February 27th, 2020 at an altitude of 3281 feet (AGL) using an UltraCam Eagle camera and complies with the ASPRS Class 1 accuracy standards, at 1" = 50'.
This metadata record describes the 0.5-foot pixel resolution digital orthoimagery (rural area and east mountains) produced for Santa Clara County by the Sanborn Map Company. The orthoimagery provided is 4-band (R, G, B, NIR), 8-bit per pixel and delivered in section tiles in uncompressed TIFF/TFW, compressed SID/SDW (10:1) and compressed JP2000 (10:1) formats. The data was collected between February 10th and February 26th, 2020 at an altitude of 7585 feet (AGL) using an UltraCam Eagle camera and complies with the ASPRS Class 1 accuracy standards, at 1" = 100'.
This orthoimagery was collected in California State Plane Zone III North, NAD 83 (2011), U.S. Survey Feet. For publishing purpose, this service is reprojected into WGS 1984 Web Mercator Auxiliary Sphere.
Map Name: Layers
Legend
All Layers and Tables
Layers:
Description: This metadata record describes the 0.25-foot pixel resolution digital orthoimagery (urban area and west mountains) produced for Santa Clara County by the Sanborn Map Company. The orthoimagery provided is 4-band (R, G, B, NIR), 8-bit per pixel and delivered in section tiles in uncompressed TIFF/TFW, compressed SID/SDW (10:1) and compressed JP2000 (10:1) formats. The data was collected between February 13th and February 27th, 2020 at an altitude of 3281 feet (AGL) using an UltraCam Eagle camera and complies with the ASPRS Class 1 accuracy standards, at 1" = 50'.
This metadata record describes the 0.5-foot pixel resolution digital orthoimagery (rural area and east mountains) produced for Santa Clara County by the Sanborn Map Company. The orthoimagery provided is 4-band (R, G, B, NIR), 8-bit per pixel and delivered in section tiles in uncompressed TIFF/TFW, compressed SID/SDW (10:1) and compressed JP2000 (10:1) formats. The data was collected between February 10th and February 26th, 2020 at an altitude of 7585 feet (AGL) using an UltraCam Eagle camera and complies with the ASPRS Class 1 accuracy standards, at 1" = 100'.
This orthoimagery was collected in California State Plane Zone III North, NAD 83 (2011), U.S. Survey Feet. For publishing purpose, this service is reprojected into WGS 1984 Web Mercator Auxiliary Sphere.
Copyright Text: County of Santa Clara; Sanborn Co.
Spatial Reference: 102100
Single Fused Map Cache: true
Capabilities: Map,TilesOnly,Tilemap
Tile Info:
- Height: 256
- Width: 256
- DPI: 96
- Levels of Detail: (# Levels: 21)
- Level ID: 0 [Start Tile, End Tile]
Resolution: 156543.03392800014
Scale: 5.91657527591555E8
- Level ID: 1 [Start Tile, End Tile]
Resolution: 78271.51696399994
Scale: 2.95828763795777E8
- Level ID: 2 [Start Tile, End Tile]
Resolution: 39135.75848200009
Scale: 1.47914381897889E8
- Level ID: 3 [Start Tile, End Tile]
Resolution: 19567.87924099992
Scale: 7.3957190948944E7
- Level ID: 4 [Start Tile, End Tile]
Resolution: 9783.93962049996
Scale: 3.6978595474472E7
- Level ID: 5 [Start Tile, End Tile]
Resolution: 4891.96981024998
Scale: 1.8489297737236E7
- Level ID: 6 [Start Tile, End Tile]
Resolution: 2445.98490512499
Scale: 9244648.868618
- Level ID: 7 [Start Tile, End Tile]
Resolution: 1222.992452562495
Scale: 4622324.434309
- Level ID: 8 [Start Tile, End Tile]
Resolution: 611.4962262813797
Scale: 2311162.217155
- Level ID: 9 [Start Tile, End Tile]
Resolution: 305.74811314055756
Scale: 1155581.108577
- Level ID: 10 [Start Tile, End Tile]
Resolution: 152.87405657041106
Scale: 577790.554289
- Level ID: 11 [Start Tile, End Tile]
Resolution: 76.43702828507324
Scale: 288895.277144
- Level ID: 12 [Start Tile, End Tile]
Resolution: 38.21851414253662
Scale: 144447.638572
- Level ID: 13 [Start Tile, End Tile]
Resolution: 19.10925707126831
Scale: 72223.819286
- Level ID: 14 [Start Tile, End Tile]
Resolution: 9.554628535634155
Scale: 36111.909643
- Level ID: 15 [Start Tile, End Tile]
Resolution: 4.77731426794937
Scale: 18055.954822
- Level ID: 16 [Start Tile, End Tile]
Resolution: 2.388657133974685
Scale: 9027.977411
- Level ID: 17 [Start Tile, End Tile]
Resolution: 1.1943285668550503
Scale: 4513.988705
- Level ID: 18 [Start Tile, End Tile]
Resolution: 0.5971642835598172
Scale: 2256.994353
- Level ID: 19 [Start Tile, End Tile]
Resolution: 0.29858214164761665
Scale: 1128.497176
- Level ID: 20 [Start Tile, End Tile]
Resolution: 0.14929107082380833
Scale: 564.248588
- Format: MIXED
- Compression Quality: 75
- Origin:
X: -1.158606E8
Y: 1.51575E8
- Spatial Reference:
102100
Initial Extent: XMin: -1.3607982961726874E7
YMin: 4418689.0020819055
XMax: -1.3487880207091404E7
YMax: 4511837.873008207
Spatial Reference:
102100
Full Extent: XMin: -1.3607982961726874E7
YMin: 4418689.0020819055
XMax: -1.3487880207091404E7
YMax: 4511837.873008207
Spatial Reference:
102100
Min Scale: 5.91657527591555E8
Max Scale: 564.248588
Min LOD: 0
Max LOD: 20
Units: esriMeters
Supported Image Format Types: MIXED
Export Tiles Allowed: true
Max Export Tiles Count: 100000
Resampling: true
Document Info: - Title: Ortho Imagery 2020
- Author: SantaClaraCoGIS
- Comments:
- Subject: Orthorectified imagery from 2020 for urban and rural areas of Santa Clara County.
- Category:
- Keywords: sccgov, Ortho-Imagery, Aerials, Santa Clara County