Services Directory
Login
Home
>
Abel_Classificaion_2_2018
JSON
|
WMTS
|
API Reference
Abel_Classificaion_2_2018
(Map Service)
View In:
ArcGIS JavaScript
ArcGIS.com
WMTS
Current Version:
10.81
Service Description:
drones
Map Name:
Layers
Legend
All Layers and Tables
Layers:
Classification_Abel_Unit_transparent_mosaic_group2018.tif
(0)
Tables:
Description:
drones
Copyright Text:
Spatial Reference:
102100
Single Fused Map Cache:
true
Capabilities:
Map,TilesOnly
Tile Info:
Height:
256
Width:
256
DPI:
96
Levels of Detail:
(# Levels: 5)
Level ID:
0 [
Start Tile
,
End Tile
]
Resolution: 0.5291677250021167
Scale: 2000.0
Level ID:
1 [
Start Tile
,
End Tile
]
Resolution: 0.26458386250105836
Scale: 1000.0
Level ID:
2 [
Start Tile
,
End Tile
]
Resolution: 0.13229193125052918
Scale: 500.0
Level ID:
3 [
Start Tile
,
End Tile
]
Resolution: 0.06614596562526459
Scale: 250.0
Level ID:
4 [
Start Tile
,
End Tile
]
Resolution: 0.033072982812632296
Scale: 125.0
Format:
PNG
Compression Quality:
0
Origin:
X: -2.00377E7
Y: 3.02411E7
Spatial Reference:
102100
Initial Extent:
XMin: -1.3600885685192123E7
YMin: 5992428.347105932
XMax: -1.360037286936304E7
YMax: 5992609.268283441
Spatial Reference:
102100
Full Extent:
XMin: -1.3600897199527582E7
YMin: 5992384.146197825
XMax: -1.3600395863389285E7
YMax: 5992530.463409248
Spatial Reference:
102100
Min Scale:
2000.0
Max Scale:
125.0
Min LOD:
0
Max LOD:
4
Units:
esriMeters
Supported Image Format Types:
PNG
Export Tiles Allowed:
false
Max Export Tiles Count:
100000
Document Info:
Title:
Abel_Classificaion_2_2018
Author:
hnasinec_GRC_NATRS
Comments:
Subject:
drones
Category:
Keywords:
drones