Spatial_Prioritisation_of_Total_Carbon_Storage_2023__England_ (Map Service)
View In:
ArcGIS JavaScript
ArcGIS.com
WMTS
Current Version: 10.81
Service Description: These spatial datasets consider the lands contribution to preventing and mitigating climate change, through storage of carbon in the Soils (below ground) & Vegetation (above ground). This total carbon spatial datasets represent a strategic resource for England, that indicate the range of carbon storage values in tonnes of carbon per hectare (t C Ha-1 ). At a local scale (e.g. 1:50 000). They are presented as a series of raster datasets for use in GIS Systems at a resolution of 25m2. These maps will assist users to find out where the most important carbon stores in soils in their areas. They are not suitable for field scale carbon mitigation as this would require field scale carbon assessment. It is often the case that where we have lower below ground carbon (mineral soils) the conditions are great for better tree and vegetation growth to get greater above ground carbon storage. Where below ground carbon storage is greater this is due to wetter conditions and soil waterlogging reducing organic matter decomposition. This leads to poorer growing conditions that result in lower above ground carbon storage. The addition of the above and below ground carbon layers seems to mean that carbon data is more homogenised and has much less carbon variation within areas. Although Total Carbon Storage is useful the data user will also need to refer back to input data to understand why the results occur across the landscape area.
Full metadata can be viewed on data.gov.uk.
Map Name: Spatial Prioritisation of Total Carbon Storage 2023 (England)
Legend
All Layers and Tables
Layers:
Tables:
Description: These spatial datasets consider the lands contribution to preventing and mitigating climate change, through storage of carbon in the Soils (below ground) & Vegetation (above ground). This total carbon spatial datasets represent a strategic resource for England, that indicate the range of carbon storage values in tonnes of carbon per hectare (t C Ha-1 ). At a local scale (e.g. 1:50 000). They are presented as a series of raster datasets for use in GIS Systems at a resolution of 25m2. These maps will assist users to find out where the most important carbon stores in soils in their areas. They are not suitable for field scale carbon mitigation as this would require field scale carbon assessment. It is often the case that where we have lower below ground carbon (mineral soils) the conditions are great for better tree and vegetation growth to get greater above ground carbon storage. Where below ground carbon storage is greater this is due to wetter conditions and soil waterlogging reducing organic matter decomposition. This leads to poorer growing conditions that result in lower above ground carbon storage. The addition of the above and below ground carbon layers seems to mean that carbon data is more homogenised and has much less carbon variation within areas. Although Total Carbon Storage is useful the data user will also need to refer back to input data to understand why the results occur across the landscape area.
Full metadata can be viewed on data.gov.uk.
Copyright Text: © Natural England 2024, reproduced with the permission of Natural England, www.gov.uk/natural-england. © Crown Copyright and database right 2024. Ordnance Survey licence number AC0000851168. Contains, or is based on, information supplied by the Forestry Commission. © Crown copyright and database right 2024. Ordnance Survey 100021242 Soils Data © Cranfield University (NSRI) and for the Controller of HMSO 2024 NASA Shuttle Radar Topography Mission (SRTM)(2013). Shuttle Radar Topography Mission (SRTM) Global. Distributed by OpenTopography. https://doi.org/10.5069/G9445JDF. Accessed: 2024-05-17
Spatial Reference: 27700
Single Fused Map Cache: true
Capabilities: Map,TilesOnly,Tilemap
Tile Info:
- Height: 256
- Width: 256
- DPI: 96
- Levels of Detail: (# Levels: 19)
- Level ID: 0 [Start Tile, End Tile]
Resolution: 78102.63553682675
Scale: 2.9519106344627434E8
- Level ID: 1 [Start Tile, End Tile]
Resolution: 39051.31776841338
Scale: 1.4759553172313717E8
- Level ID: 2 [Start Tile, End Tile]
Resolution: 19525.65888420669
Scale: 7.379776586156859E7
- Level ID: 3 [Start Tile, End Tile]
Resolution: 9762.829442103344
Scale: 3.689888293078429E7
- Level ID: 4 [Start Tile, End Tile]
Resolution: 4881.414721051672
Scale: 1.8449441465392146E7
- Level ID: 5 [Start Tile, End Tile]
Resolution: 2440.707360525836
Scale: 9224720.732696073
- Level ID: 6 [Start Tile, End Tile]
Resolution: 1220.353680262918
Scale: 4612360.366348037
- Level ID: 7 [Start Tile, End Tile]
Resolution: 610.176840131459
Scale: 2306180.1831740183
- Level ID: 8 [Start Tile, End Tile]
Resolution: 305.0884200657295
Scale: 1153090.0915870091
- Level ID: 9 [Start Tile, End Tile]
Resolution: 152.54421003286475
Scale: 576545.0457935046
- Level ID: 10 [Start Tile, End Tile]
Resolution: 76.27210501643238
Scale: 288272.5228967523
- Level ID: 11 [Start Tile, End Tile]
Resolution: 38.13605250821619
Scale: 144136.26144837614
- Level ID: 12 [Start Tile, End Tile]
Resolution: 19.068026254108094
Scale: 72068.13072418807
- Level ID: 13 [Start Tile, End Tile]
Resolution: 9.534013127054047
Scale: 36034.065362094036
- Level ID: 14 [Start Tile, End Tile]
Resolution: 4.767006563527024
Scale: 18017.032681047018
- Level ID: 15 [Start Tile, End Tile]
Resolution: 2.383503281763512
Scale: 9008.516340523509
- Level ID: 16 [Start Tile, End Tile]
Resolution: 1.191751640881756
Scale: 4504.2581702617545
- Level ID: 17 [Start Tile, End Tile]
Resolution: 0.595875820440878
Scale: 2252.1290851308772
- Level ID: 18 [Start Tile, End Tile]
Resolution: 0.297937910220439
Scale: 1126.0645425654386
- Format: Mixed
- Compression Quality: 75
- Origin:
X: -9597137.348713825
Y: 4470073.533885086
- Spatial Reference:
27700
Initial Extent: XMin: -343134.1772151898
YMin: -32999.99999999994
XMax: 1083134.1772151897
YMax: 693000.0
Spatial Reference:
27700
Full Extent: XMin: 80000.0
YMin: 0.0
XMax: 660000.0
YMax: 660000.0
Spatial Reference:
27700
Min Scale: 9224720.732696073
Max Scale: 18017.032681047018
Min LOD: 5
Max LOD: 14
Units: esriMeters
Supported Image Format Types: Mixed
Export Tiles Allowed: false
Max Export Tiles Count: 100000
Document Info: - Title: Spatial Prioritisation of Total Carbon Storage 2023 (England)
- Author: Opendata_NE
- Comments:
- Subject: These maps are intended to be used for strategic purposes to identify and prioritise possible areas to protect or investigate further. This work guides the user to areas where such schemes and work may give greater value.
- Category:
- Keywords: Terrestrial, Strategic, Carbon, Natural England