Services Directory
Login
Home
>
GDMS_SoilDataWGS84
JSON
|
WMTS
|
API Reference
GDMS_SoilDataWGS84
(Map Service)
View In:
ArcGIS JavaScript
ArcGIS.com
WMTS
Current Version:
10.81
Service Description:
Map Name:
Layers
Legend
All Layers and Tables
Layers:
Layers_WGS84
(0)
Description:
Copyright Text:
Spatial Reference:
102100
Single Fused Map Cache:
true
Capabilities:
Map,TilesOnly,Tilemap
Tile Info:
Height:
512
Width:
512
DPI:
96
Levels of Detail:
(# Levels: 23)
Level ID:
0 [
Start Tile
,
End Tile
]
Resolution: 78271.51696400007
Scale: 2.958287637957775E8
Level ID:
1 [
Start Tile
,
End Tile
]
Resolution: 39135.75848199997
Scale: 1.479143818978885E8
Level ID:
2 [
Start Tile
,
End Tile
]
Resolution: 19567.879241000046
Scale: 7.39571909489445E7
Level ID:
3 [
Start Tile
,
End Tile
]
Resolution: 9783.93962049996
Scale: 3.6978595474472E7
Level ID:
4 [
Start Tile
,
End Tile
]
Resolution: 4891.96981024998
Scale: 1.8489297737236E7
Level ID:
5 [
Start Tile
,
End Tile
]
Resolution: 2445.98490512499
Scale: 9244648.868618
Level ID:
6 [
Start Tile
,
End Tile
]
Resolution: 1222.992452562495
Scale: 4622324.434309
Level ID:
7 [
Start Tile
,
End Tile
]
Resolution: 611.4962262812475
Scale: 2311162.2171545
Level ID:
8 [
Start Tile
,
End Tile
]
Resolution: 305.74811314068984
Scale: 1155581.1085775
Level ID:
9 [
Start Tile
,
End Tile
]
Resolution: 152.87405657027878
Scale: 577790.5542885
Level ID:
10 [
Start Tile
,
End Tile
]
Resolution: 76.43702828520553
Scale: 288895.2771445
Level ID:
11 [
Start Tile
,
End Tile
]
Resolution: 38.21851414253662
Scale: 144447.638572
Level ID:
12 [
Start Tile
,
End Tile
]
Resolution: 19.10925707126831
Scale: 72223.819286
Level ID:
13 [
Start Tile
,
End Tile
]
Resolution: 9.554628535634155
Scale: 36111.909643
Level ID:
14 [
Start Tile
,
End Tile
]
Resolution: 4.7773142678170775
Scale: 18055.9548215
Level ID:
15 [
Start Tile
,
End Tile
]
Resolution: 2.388657133974685
Scale: 9027.977411
Level ID:
16 [
Start Tile
,
End Tile
]
Resolution: 1.1943285669873425
Scale: 4513.9887055
Level ID:
17 [
Start Tile
,
End Tile
]
Resolution: 0.5971642834275251
Scale: 2256.9943525
Level ID:
18 [
Start Tile
,
End Tile
]
Resolution: 0.2985821417799086
Scale: 1128.4971765
Level ID:
19 [
Start Tile
,
End Tile
]
Resolution: 0.14929107082380833
Scale: 564.248588
Level ID:
20 [
Start Tile
,
End Tile
]
Resolution: 0.07464553541190416
Scale: 282.124294
Level ID:
21 [
Start Tile
,
End Tile
]
Resolution: 0.03732276770595208
Scale: 141.062147
Level ID:
22 [
Start Tile
,
End Tile
]
Resolution: 0.01866138385297604
Scale: 70.5310735
Format:
MIXED
Compression Quality:
75
Origin:
X: -2.0037508342787E7
Y: 2.0037508342787E7
Spatial Reference:
102100
Initial Extent:
XMin: -8415853.815362448
YMin: 4710485.453986577
XMax: -8226278.948712715
YMax: 5065697.226910123
Spatial Reference:
102100
Full Extent:
XMin: -8415853.815362448
YMin: 4710485.453986577
XMax: -8226278.948712715
YMax: 5065697.226910123
Spatial Reference:
102100
Min Scale:
0.0
Max Scale:
0.0
Min LOD:
7
Max LOD:
13
Units:
esriMeters
Supported Image Format Types:
MIXED
Export Tiles Allowed:
false
Max Export Tiles Count:
100000
Resampling:
true
Document Info:
Title:
GDMS_SoilDataWGS84
Author:
michael.p_njdot
Comments:
Subject:
GDMS_SoilDataWGS84
Category:
Keywords:
GDMS_SoilDataWGS84, Soil Data