Habitat_Layer_for_map_cachelowres (Map Service)
View In:
ArcGIS JavaScript
ArcGIS.com
WMTS
Current Version: 10.81
Service Description: Terrestrial Habitat Map for the Northeast US and Atlantic Canada using the Habitat field and Layer file to produce a map cache of the Habitat symbology.
Map Name: Layers
Legend
All Layers and Tables
Layers:
Tables:
Description: Terrestrial Habitat Map for the Northeast US and Atlantic Canada using the Habitat field and Layer file to produce a map cache of the Habitat symbology.
Copyright Text: Eastern Conservation Science, The Nature Conservancy
Spatial Reference: 102100
Single Fused Map Cache: true
Capabilities: Map,TilesOnly
Tile Info:
- Height: 256
- Width: 256
- DPI: 96
- Levels of Detail: (# Levels: 14)
- Level ID: 0 [Start Tile, End Tile]
Resolution: 156543.033928
Scale: 5.91657527591555E8
- Level ID: 1 [Start Tile, End Tile]
Resolution: 78271.5169639999
Scale: 2.95828763795777E8
- Level ID: 2 [Start Tile, End Tile]
Resolution: 39135.7584820001
Scale: 1.47914381897889E8
- Level ID: 3 [Start Tile, End Tile]
Resolution: 19567.8792409999
Scale: 7.3957190948944E7
- Level ID: 4 [Start Tile, End Tile]
Resolution: 9783.93962049996
Scale: 3.6978595474472E7
- Level ID: 5 [Start Tile, End Tile]
Resolution: 4891.96981024998
Scale: 1.8489297737236E7
- Level ID: 6 [Start Tile, End Tile]
Resolution: 2445.98490512499
Scale: 9244648.868618
- Level ID: 7 [Start Tile, End Tile]
Resolution: 1222.99245256249
Scale: 4622324.434309
- Level ID: 8 [Start Tile, End Tile]
Resolution: 611.49622628138
Scale: 2311162.217155
- Level ID: 9 [Start Tile, End Tile]
Resolution: 305.748113140558
Scale: 1155581.108577
- Level ID: 10 [Start Tile, End Tile]
Resolution: 152.874056570411
Scale: 577790.554289
- Level ID: 11 [Start Tile, End Tile]
Resolution: 76.4370282850732
Scale: 288895.277144
- Level ID: 12 [Start Tile, End Tile]
Resolution: 38.2185141425366
Scale: 144447.638572
- Level ID: 13 [Start Tile, End Tile]
Resolution: 19.1092570712683
Scale: 72223.819286
- Format: PNG32
- Compression Quality: 0
- Origin:
X: -2.0037508342787E7
Y: 2.0037508342787E7
- Spatial Reference:
102100
Initial Extent: XMin: -9879234.078892602
YMin: 3660150.0284036356
XMax: -5880280.230897547
YMax: 7018908.629243898
Spatial Reference:
102100
Full Extent: XMin: -9879234.078892602
YMin: 3660150.0284036356
XMax: -5880280.230897547
YMax: 7018908.629243898
Spatial Reference:
102100
Min Scale: 1.8489299E7
Max Scale: 1128.497176
Min LOD: 5
Max LOD: 13
Units: esriMeters
Supported Image Format Types: PNG32
Export Tiles Allowed: false
Max Export Tiles Count: 100000
Document Info: - Title: Habitat Layer for map cachelowres_withBorderArea
- Author: melissa_clark_TNC
- Comments:
- Subject: Terrestrial Habitat Map for the Northeast US and Atlantic Canada using the Habitat field and Layer file
- Category:
- Keywords: Habitat, Atlantic Canada, Northeast U.S., Classification