multibeam_tracklines (Map Service)
View In:
ArcGIS JavaScript
ArcGIS.com
WMTS
Current Version: 10.81
Service Description: Bathymetry is the measurement of the depth of the ocean floor, data that can be used for a variety of purposes such as: nautical charting, oceanographic research and modeling, habitat classification, maritime commerce, and recreational applications. The Multibeam Bathymetry Database (MBBDB) at NCEI collects and archives multibeam data from the earliest commercial installations (circa 1980) through today's modern high-resolution collections. Data are acquired from both U.S. and international government and academic sources (see individual cruise metadata records for source information) and consist of the raw (as collected) sonar data files. Datasets may also include processed or edited versions of the sonar data, ancillary data (i.e., sound velocity data), derived products (i.e., grids), and/or metadata for the data collection. The MBBDB provides data that span the globe and are discoverable and accessible via map interface or text-only search options. More information about the database can be found
here.
This map service shows ship tracks for multibeam bathymetric surveys archived at NCEI. Attributes are available such as platform name, survey start/end dates, source organization, and links to metadata and data download pages.
Note: This is a tile layer, visible from global scales to zoom level 10 (approx. 1:577,000 scale). The corresponding
dynamic map service draws at all scales, and allows filtering.
NCEI's
Bathymetric Data Viewer (
NOAA GeoPlatform entry) provides an interactive mapping interface to the multibeam database as well as other sources of bathymetric data.
In addition to this service showing the ship tracks, there are also three image services providing access to the gridded multibeam data:
- Multibeam Bathymetry Mosaic (REST endpoint): provides depth values (default) or shaded-relief imagery. All surveys are combined together (using mean depth value) into "overviews".
- Multibeam Bathymetry Mosaic: Shaded Relief Visualization: tiled image service, provides rapid display of color shaded relief imagery.
- Multibeam Bathymetry Mosaic Subsets (REST endpoint): provides access to the individual surveys, and allows filtering by survey ID, platform name, source organization, survey date, etc. This service has slower performance than the others.
Metadata for the Multibeam Bathymetric Database
Map Name: Layers
Legend
All Layers and Tables
Layers:
Description: Bathymetry is the measurement of the depth of the ocean floor, data that can be used for a variety of purposes such as: nautical charting, oceanographic research and modeling, habitat classification, maritime commerce, and recreational applications. The Multibeam Bathymetry Database (MBBDB) at NCEI collects and archives multibeam data from the earliest commercial installations (circa 1980) through today's modern high-resolution collections. Data are acquired from both U.S. and international government and academic sources (see individual cruise metadata records for source information) and consist of the raw (as collected) sonar data files. Datasets may also include processed or edited versions of the sonar data, ancillary data (i.e., sound velocity data), derived products (i.e., grids), and/or metadata for the data collection. The MBBDB provides data that span the globe and are discoverable and accessible via map interface or text-only search options. More information about the database can be found
here.
This map service shows ship tracks for multibeam bathymetric surveys archived at NCEI. Attributes are available such as platform name, survey start/end dates, source organization, and links to metadata and data download pages.
Note: This is a tile layer, visible from global scales to zoom level 10 (approx. 1:577,000 scale). The corresponding
dynamic map service draws at all scales, and allows filtering.
NCEI's
Bathymetric Data Viewer (
NOAA GeoPlatform entry) provides an interactive mapping interface to the multibeam database as well as other sources of bathymetric data.
In addition to this service showing the ship tracks, there are also three image services providing access to the gridded multibeam data:
- Multibeam Bathymetry Mosaic (REST endpoint): provides depth values (default) or shaded-relief imagery. All surveys are combined together (using mean depth value) into "overviews".
- Multibeam Bathymetry Mosaic: Shaded Relief Visualization: tiled image service, provides rapid display of color shaded relief imagery.
- Multibeam Bathymetry Mosaic Subsets (REST endpoint): provides access to the individual surveys, and allows filtering by survey ID, platform name, source organization, survey date, etc. This service has slower performance than the others.
Metadata for the Multibeam Bathymetric Database
Copyright Text: NOAA National Centers for Environmental Information (NCEI)
Spatial Reference: 102100
Single Fused Map Cache: true
Capabilities: Map,TilesOnly,Tilemap
Tile Info:
- Height: 256
- Width: 256
- DPI: 96
- Levels of Detail: (# Levels: 24)
- Level ID: 0 [Start Tile, End Tile]
Resolution: 156543.033928
Scale: 5.91657527591555E8
- Level ID: 1 [Start Tile, End Tile]
Resolution: 78271.5169639999
Scale: 2.95828763795777E8
- Level ID: 2 [Start Tile, End Tile]
Resolution: 39135.7584820001
Scale: 1.47914381897889E8
- Level ID: 3 [Start Tile, End Tile]
Resolution: 19567.8792409999
Scale: 7.3957190948944E7
- Level ID: 4 [Start Tile, End Tile]
Resolution: 9783.93962049996
Scale: 3.6978595474472E7
- Level ID: 5 [Start Tile, End Tile]
Resolution: 4891.96981024998
Scale: 1.8489297737236E7
- Level ID: 6 [Start Tile, End Tile]
Resolution: 2445.98490512499
Scale: 9244648.868618
- Level ID: 7 [Start Tile, End Tile]
Resolution: 1222.99245256249
Scale: 4622324.434309
- Level ID: 8 [Start Tile, End Tile]
Resolution: 611.49622628138
Scale: 2311162.217155
- Level ID: 9 [Start Tile, End Tile]
Resolution: 305.748113140558
Scale: 1155581.108577
- Level ID: 10 [Start Tile, End Tile]
Resolution: 152.874056570411
Scale: 577790.554289
- Level ID: 11 [Start Tile, End Tile]
Resolution: 76.4370282850732
Scale: 288895.277144
- Level ID: 12 [Start Tile, End Tile]
Resolution: 38.2185141425366
Scale: 144447.638572
- Level ID: 13 [Start Tile, End Tile]
Resolution: 19.1092570712683
Scale: 72223.819286
- Level ID: 14 [Start Tile, End Tile]
Resolution: 9.55462853563415
Scale: 36111.909643
- Level ID: 15 [Start Tile, End Tile]
Resolution: 4.77731426794937
Scale: 18055.954822
- Level ID: 16 [Start Tile, End Tile]
Resolution: 2.38865713397468
Scale: 9027.977411
- Level ID: 17 [Start Tile, End Tile]
Resolution: 1.19432856685505
Scale: 4513.988705
- Level ID: 18 [Start Tile, End Tile]
Resolution: 0.597164283559817
Scale: 2256.994353
- Level ID: 19 [Start Tile, End Tile]
Resolution: 0.298582141647617
Scale: 1128.497176
- Level ID: 20 [Start Tile, End Tile]
Resolution: 0.14929107082380833
Scale: 564.248588
- Level ID: 21 [Start Tile, End Tile]
Resolution: 0.07464553541190416
Scale: 282.124294
- Level ID: 22 [Start Tile, End Tile]
Resolution: 0.03732276770595208
Scale: 141.062147
- Level ID: 23 [Start Tile, End Tile]
Resolution: 0.01866138385297604
Scale: 70.5310735
- Format: PNG32
- Compression Quality: 0
- Origin:
X: -2.0037508342787E7
Y: 2.0037508342787E7
- Spatial Reference:
102100
Initial Extent: XMin: -1.4499920982945148E7
YMin: 4568098.217752523
XMax: -1.3708923409205269E7
YMax: 5190902.849980877
Spatial Reference:
102100
Full Extent: XMin: -2.00375082314698E7
YMin: -1.99718688804086E7
XMax: 2.00375082314698E7
YMax: 1.99718688804086E7
Spatial Reference:
102100
Min Scale: 5.91657527591555E8
Max Scale: 0.0
Min LOD: 0
Max LOD: 10
Units: esriMeters
Supported Image Format Types: PNG32
Export Tiles Allowed: false
Max Export Tiles Count: 100000
Resampling: true
Document Info: - Title: Multibeam Bathymetric Survey Ship Tracks (tile layer)
- Author: ncei_noaa
- Comments:
- Subject: Ship tracks of multibeam bathymetric surveys archived at NOAA's National Centers for Environmental Information (NCEI).
- Category:
- Keywords: NOAA, NCEI, multibeam, bathymetry, ship tracks, seafloor, ocean