data5_PR_USVI_SLOSH_MOMs_cat1 (Map Service)
View In:
ArcGIS JavaScript
ArcGIS.com
WMTS
Current Version: 10.81
Service Description:
The
SLOSH (Sea, Lake, and Overland Surges from Hurricanes) model is a numerical model used by NWS to compute storm surge. Storm surge is defined as the abnormal rise of water generated by a storm, over and above the predicted astronomical tides. Flooding from storm surge depends on many factors, such as the track, intensity, size, and forward speed of the hurricane and the characteristics of the coastline where it comes ashore or passes nearby. For planning purposes, the NHC uses a representative sample of hypothetical storms to estimate the near worst–case scenario of flooding for each hurricane category.
SLOSH employs curvilinear polar, elliptical, and hyperbolic telescoping mesh grids to simulate the storm surge hazard. The spatial coverage for each SLOSH grid ranges from an area the size of a few counties to a few states. The resolution of individual grid cells within each basin ranges from tens to hundreds of meters to a kilometer or more. Sub-grid scale water features and topographic obstructions such as channels, rivers, and cuts and levees, barriers, and roads, respectively, are parameterized to improve the modeled water levels.
The NHC provides two products based on hypothetical hurricanes: MEOWs and MOMs. MEOWs are created by computing the maximum storm surge resulting from up to 100,000 hypothetical storms simulated through each SLOSH grid of varying forward speed, radius of maximum wind, intensity (Categories 1-5), landfall location, tide level, and storm direction. A MEOW product is created for each combination of category, forward speed, storm direction, and tide level. SLOSH products exclude Category 5 storms north of the NC/VA border. For each storm combination, parallel storms make landfall in 5 to 10 mile increments along the coast within the SLOSH grid, and the maximum storm surge footprint from each simulation is composited, retaining the maximum height of storm surge in a given basin grid cell. These are called MEOWs and no single hurricane will produce the regional flooding depicted in the MEOWs. SLOSH model MOMs are an ensemble product of maximum storm surge heights. SLOSH MOMs are created for each storm category by retaining the maximum storm surge value in each grid cell for all the MEOWs, regardless of the forward speed, storm trajectory, or landfall location. SLOSH MOMs are available for mean tide and high tide scenarios and represent the near worst–case scenario of flooding under ideal storm conditions. A high tide initial water level was used for the storm surge hazard maps.
In locations that have a steep and narrow continental shelf, wave setup can be a substantial contributor to the total water level rise observed during a tropical cyclone. Wave setup is defined as the increase in mean water level due to momentum transfer to the water column by waves that are breaking or otherwise dissipating their energy. Through NOAA's Integrated Ocean Observing System (IOOS) Coastal and Ocean Modeling Testbed (COMT) the SLOSH model has been coupled to the Simulating Waves Nearshore (SWAN) third-generation wave model for storm surge modeling applications in island regions such as Hawaii, Puerto Rico, and US Virgin Islands. In these locations, SLOSH+SWAN simulations were conducted to create MEOW and MOM products that account for the increase in the mean water level due to wave setup.
This product uses the expertise of the NHC Storm Surge Unit to merge the operational SLOSH grids to build a seamless map of storm surge hazard scenarios using the MOM product. Each individual SLOSH grid for the Category 1-5 MOMs are merged into a single, seamless grid. The seamless grid is then resampled, interpolated, and processed with a DEM (Digital Elevation Model, i.e. topography) to compute the storm surge hazard above ground for each hurricane category. The SLOSH MOM storm surge hazard data used to create these maps are constrained by the extent of the SLOSH grids and users should be aware that risk due to storm surge flooding could extend beyond the areas depicted in these maps.
Map Name: Layers
Legend
All Layers and Tables
Layers:
Tables:
Description:
The
SLOSH (Sea, Lake, and Overland Surges from Hurricanes) model is a numerical model used by NWS to compute storm surge. Storm surge is defined as the abnormal rise of water generated by a storm, over and above the predicted astronomical tides. Flooding from storm surge depends on many factors, such as the track, intensity, size, and forward speed of the hurricane and the characteristics of the coastline where it comes ashore or passes nearby. For planning purposes, the NHC uses a representative sample of hypothetical storms to estimate the near worst–case scenario of flooding for each hurricane category.
SLOSH employs curvilinear polar, elliptical, and hyperbolic telescoping mesh grids to simulate the storm surge hazard. The spatial coverage for each SLOSH grid ranges from an area the size of a few counties to a few states. The resolution of individual grid cells within each basin ranges from tens to hundreds of meters to a kilometer or more. Sub-grid scale water features and topographic obstructions such as channels, rivers, and cuts and levees, barriers, and roads, respectively, are parameterized to improve the modeled water levels.
The NHC provides two products based on hypothetical hurricanes: MEOWs and MOMs. MEOWs are created by computing the maximum storm surge resulting from up to 100,000 hypothetical storms simulated through each SLOSH grid of varying forward speed, radius of maximum wind, intensity (Categories 1-5), landfall location, tide level, and storm direction. A MEOW product is created for each combination of category, forward speed, storm direction, and tide level. SLOSH products exclude Category 5 storms north of the NC/VA border. For each storm combination, parallel storms make landfall in 5 to 10 mile increments along the coast within the SLOSH grid, and the maximum storm surge footprint from each simulation is composited, retaining the maximum height of storm surge in a given basin grid cell. These are called MEOWs and no single hurricane will produce the regional flooding depicted in the MEOWs. SLOSH model MOMs are an ensemble product of maximum storm surge heights. SLOSH MOMs are created for each storm category by retaining the maximum storm surge value in each grid cell for all the MEOWs, regardless of the forward speed, storm trajectory, or landfall location. SLOSH MOMs are available for mean tide and high tide scenarios and represent the near worst–case scenario of flooding under ideal storm conditions. A high tide initial water level was used for the storm surge hazard maps.
In locations that have a steep and narrow continental shelf, wave setup can be a substantial contributor to the total water level rise observed during a tropical cyclone. Wave setup is defined as the increase in mean water level due to momentum transfer to the water column by waves that are breaking or otherwise dissipating their energy. Through NOAA's Integrated Ocean Observing System (IOOS) Coastal and Ocean Modeling Testbed (COMT) the SLOSH model has been coupled to the Simulating Waves Nearshore (SWAN) third-generation wave model for storm surge modeling applications in island regions such as Hawaii, Puerto Rico, and US Virgin Islands. In these locations, SLOSH+SWAN simulations were conducted to create MEOW and MOM products that account for the increase in the mean water level due to wave setup.
This product uses the expertise of the NHC Storm Surge Unit to merge the operational SLOSH grids to build a seamless map of storm surge hazard scenarios using the MOM product. Each individual SLOSH grid for the Category 1-5 MOMs are merged into a single, seamless grid. The seamless grid is then resampled, interpolated, and processed with a DEM (Digital Elevation Model, i.e. topography) to compute the storm surge hazard above ground for each hurricane category. The SLOSH MOM storm surge hazard data used to create these maps are constrained by the extent of the SLOSH grids and users should be aware that risk due to storm surge flooding could extend beyond the areas depicted in these maps.
Copyright Text: NOAA/NWS/NHC/Storm Surge Unit, NOAA/NOS/Office for Coastal Management
Spatial Reference: 102100
Single Fused Map Cache: true
Capabilities: Map,TilesOnly
Tile Info:
- Height: 256
- Width: 256
- DPI: 96
- Levels of Detail: (# Levels: 16)
- Level ID: 0 [Start Tile, End Tile]
Resolution: 156543.033928
Scale: 5.91657527591555E8
- Level ID: 1 [Start Tile, End Tile]
Resolution: 78271.5169639999
Scale: 2.95828763795777E8
- Level ID: 2 [Start Tile, End Tile]
Resolution: 39135.7584820001
Scale: 1.47914381897889E8
- Level ID: 3 [Start Tile, End Tile]
Resolution: 19567.8792409999
Scale: 7.3957190948944E7
- Level ID: 4 [Start Tile, End Tile]
Resolution: 9783.93962049996
Scale: 3.6978595474472E7
- Level ID: 5 [Start Tile, End Tile]
Resolution: 4891.96981024998
Scale: 1.8489297737236E7
- Level ID: 6 [Start Tile, End Tile]
Resolution: 2445.98490512499
Scale: 9244648.868618
- Level ID: 7 [Start Tile, End Tile]
Resolution: 1222.99245256249
Scale: 4622324.434309
- Level ID: 8 [Start Tile, End Tile]
Resolution: 611.49622628138
Scale: 2311162.217155
- Level ID: 9 [Start Tile, End Tile]
Resolution: 305.748113140558
Scale: 1155581.108577
- Level ID: 10 [Start Tile, End Tile]
Resolution: 152.874056570411
Scale: 577790.554289
- Level ID: 11 [Start Tile, End Tile]
Resolution: 76.4370282850732
Scale: 288895.277144
- Level ID: 12 [Start Tile, End Tile]
Resolution: 38.2185141425366
Scale: 144447.638572
- Level ID: 13 [Start Tile, End Tile]
Resolution: 19.1092570712683
Scale: 72223.819286
- Level ID: 14 [Start Tile, End Tile]
Resolution: 9.55462853563415
Scale: 36111.909643
- Level ID: 15 [Start Tile, End Tile]
Resolution: 4.77731426794937
Scale: 18055.954822
- Format: PNG
- Compression Quality: 0
- Origin:
X: -2.0037508342787E7
Y: 2.0037508342787E7
- Spatial Reference:
102100
Initial Extent: XMin: -7510318.651237945
YMin: 1897281.8206939523
XMax: -7165699.652818308
YMax: 2201182.2730214363
Spatial Reference:
102100
Full Extent: XMin: -7494654.151309778
YMin: 1993092.0866274238
XMax: -7181364.152746474
YMax: 2104398.448188946
Spatial Reference:
102100
Min Scale: 5.91657527591555E8
Max Scale: 18055.954822
Min LOD: 0
Max LOD: 15
Units: esriMeters
Supported Image Format Types: PNG
Export Tiles Allowed: false
Max Export Tiles Count: 100000
Document Info: - Title: Puerto Rico and USVI (Category 1 SLOSH MOMs) Storm Surge Inundation
- Author: William.Booth_noaa
- Comments:
- Subject: Puerto Rico and US Virgin Islands Category 1 SLOSH MOM Storm Surge Inundation
- Category:
- Keywords: storm surge, inundation, SLOSH, waves, hurricanes, tropical cyclones, Puerto Rico, US Virgin Islands