JobosBayImagery (Map Service)
View In:
ArcGIS JavaScript
ArcGIS.com
WMTS
Current Version: 10.81
Service Description: The source imagery was obtained from November 2006 through March 2007 and used to produce orthophotos with a one foot ground sample distance (GSD). Imagery was acquired at 0.9 foot GSD resolution. Flight height maintained during mission was 8,650 feet AGL. The imagery was captured at 12-bit radiometric resolution and converted to 8-bit radiometric resolution during post processing. The imagery was captured with 30% sidelap between all adjacent flight lines.
This ESRI grid raster is an orthophoto mosaic generated from a collection of natural color and false color infrared orthophotos covering the island of Puerto Rico collected for the United States Army Corps of Engineers. The mosaic was created from 16 individual image tiles (i.e., tile numbers 17066-H2_01, 17066-H2_02, 17066-H2_03, 17066-H2_05,17066-H2_06,17066-H2_07, 17066-H2_09, 17066-H2_10, 17066-H2_11, 17066-H3_02, 17066-H3_03, 17066-H3_04, 17066-H3_06, 17066-H3_07, 17066-H3_08, 17066-H3_12) using ENVI 4.7's Georeferenced Mosaicking function.
For more information, please visit the project's web site.
Map Name: Layers
Legend
All Layers and Tables
Layers:
Description: The source imagery was obtained from November 2006 through March 2007 and used to produce orthophotos with a one foot ground sample distance (GSD). Imagery was acquired at 0.9 foot GSD resolution. Flight height maintained during mission was 8,650 feet AGL. The imagery was captured at 12-bit radiometric resolution and converted to 8-bit radiometric resolution during post processing. The imagery was captured with 30% sidelap between all adjacent flight lines.
This ESRI grid raster is an orthophoto mosaic generated from a collection of natural color and false color infrared orthophotos covering the island of Puerto Rico collected for the United States Army Corps of Engineers. The mosaic was created from 16 individual image tiles (i.e., tile numbers 17066-H2_01, 17066-H2_02, 17066-H2_03, 17066-H2_05,17066-H2_06,17066-H2_07, 17066-H2_09, 17066-H2_10, 17066-H2_11, 17066-H3_02, 17066-H3_03, 17066-H3_04, 17066-H3_06, 17066-H3_07, 17066-H3_08, 17066-H3_12) using ENVI 4.7's Georeferenced Mosaicking function.
For more information, please visit the project's web site.
Copyright Text: National Oceanic and Atmospheric Administration (NOAA)/National Ocean Service (NOS)/National Centers For Coastal and Ocean Science (NCCOS)
Spatial Reference: 102100
Single Fused Map Cache: true
Capabilities: Map,TilesOnly,Tilemap
Tile Info:
- Height: 256
- Width: 256
- DPI: 96
- Levels of Detail: (# Levels: 24)
- Level ID: 0 [Start Tile, End Tile]
Resolution: 156543.033928
Scale: 5.91657527591555E8
- Level ID: 1 [Start Tile, End Tile]
Resolution: 78271.5169639999
Scale: 2.95828763795777E8
- Level ID: 2 [Start Tile, End Tile]
Resolution: 39135.7584820001
Scale: 1.47914381897889E8
- Level ID: 3 [Start Tile, End Tile]
Resolution: 19567.8792409999
Scale: 7.3957190948944E7
- Level ID: 4 [Start Tile, End Tile]
Resolution: 9783.93962049996
Scale: 3.6978595474472E7
- Level ID: 5 [Start Tile, End Tile]
Resolution: 4891.96981024998
Scale: 1.8489297737236E7
- Level ID: 6 [Start Tile, End Tile]
Resolution: 2445.98490512499
Scale: 9244648.868618
- Level ID: 7 [Start Tile, End Tile]
Resolution: 1222.99245256249
Scale: 4622324.434309
- Level ID: 8 [Start Tile, End Tile]
Resolution: 611.49622628138
Scale: 2311162.217155
- Level ID: 9 [Start Tile, End Tile]
Resolution: 305.748113140558
Scale: 1155581.108577
- Level ID: 10 [Start Tile, End Tile]
Resolution: 152.874056570411
Scale: 577790.554289
- Level ID: 11 [Start Tile, End Tile]
Resolution: 76.4370282850732
Scale: 288895.277144
- Level ID: 12 [Start Tile, End Tile]
Resolution: 38.2185141425366
Scale: 144447.638572
- Level ID: 13 [Start Tile, End Tile]
Resolution: 19.1092570712683
Scale: 72223.819286
- Level ID: 14 [Start Tile, End Tile]
Resolution: 9.55462853563415
Scale: 36111.909643
- Level ID: 15 [Start Tile, End Tile]
Resolution: 4.77731426794937
Scale: 18055.954822
- Level ID: 16 [Start Tile, End Tile]
Resolution: 2.38865713397468
Scale: 9027.977411
- Level ID: 17 [Start Tile, End Tile]
Resolution: 1.19432856685505
Scale: 4513.988705
- Level ID: 18 [Start Tile, End Tile]
Resolution: 0.597164283559817
Scale: 2256.994353
- Level ID: 19 [Start Tile, End Tile]
Resolution: 0.298582141647617
Scale: 1128.497176
- Level ID: 20 [Start Tile, End Tile]
Resolution: 0.14929107082380833
Scale: 564.248588
- Level ID: 21 [Start Tile, End Tile]
Resolution: 0.07464553541190416
Scale: 282.124294
- Level ID: 22 [Start Tile, End Tile]
Resolution: 0.03732276770595208
Scale: 141.062147
- Level ID: 23 [Start Tile, End Tile]
Resolution: 0.01866138385297604
Scale: 70.5310735
- Format: PNG8
- Compression Quality: 0
- Origin:
X: -2.0037508342787E7
Y: 2.0037508342787E7
- Spatial Reference:
102100
Initial Extent: XMin: -7385386.726777704
YMin: 2026441.3014260605
XMax: -7364446.38948516
YMax: 2037471.9475170486
Spatial Reference:
102100
Full Extent: XMin: -7385386.726777704
YMin: 2026441.3014260605
XMax: -7364446.38948516
YMax: 2037471.9475170486
Spatial Reference:
102100
Min Scale: 0.0
Max Scale: 0.0
Min LOD: 12
Max LOD: 18
Units: esriMeters
Supported Image Format Types: PNG8
Export Tiles Allowed: false
Max Export Tiles Count: 100000
Resampling: true
Document Info: - Title: Jobos Bay Imagery (2010)
- Author: Ken.Buja_noaa
- Comments:
- Subject: This mosaic was created in order to map the marine benthic habitats in the Jobos Bay region of southwest Puerto Rico.
- Category:
- Keywords: Jobos Bay, Puerto Rico, Benthic Habitat, coral