ETOPO1_Global_Relief_Model_Color_Shaded_Relief (Map Service)
View In:
ArcGIS JavaScript
ArcGIS.com
WMTS
Current Version: 10.81
Service Description: ETOPO1 is a global relief model of Earth's surface that integrates land topography and ocean bathymetry. The spatial resolution is 1 arc-minute, or approximately 1 km. It was built from numerous global and regional data sets, and is available in 'Ice Surface' (top of Antarctic and Greenland ice sheets) and 'Bedrock' (base of the ice sheets) versions.
This is a tiled map service showing a color shaded relief visualization of the ETOPO1 'Ice Surface' version. Elevations/depths are represented using the color scale shown here:

For more information about the ETOPO1 Global Relief Model, please see:
https://www.ncei.noaa.gov/products/etopo-global-relief-model.
Map Name: Layers
Legend
All Layers and Tables
Layers:
Tables:
Description: ETOPO1 is a global relief model of Earth's surface that integrates land topography and ocean bathymetry. The spatial resolution is 1 arc-minute, or approximately 1 km. It was built from numerous global and regional data sets, and is available in 'Ice Surface' (top of Antarctic and Greenland ice sheets) and 'Bedrock' (base of the ice sheets) versions.
This is a tiled map service showing a color shaded relief visualization of the ETOPO1 'Ice Surface' version. Elevations/depths are represented using the color scale shown here:

For more information about the ETOPO1 Global Relief Model, please see:
https://www.ncei.noaa.gov/products/etopo-global-relief-model.
Copyright Text: NOAA National Centers for Environmental Information (NCEI)
Spatial Reference: 102100
Single Fused Map Cache: true
Capabilities: Map,TilesOnly
Tile Info:
- Height: 256
- Width: 256
- DPI: 96
- Levels of Detail: (# Levels: 20)
- Level ID: 0 [Start Tile, End Tile]
Resolution: 156543.03392800014
Scale: 5.91657527591555E8
- Level ID: 1 [Start Tile, End Tile]
Resolution: 78271.51696399994
Scale: 2.95828763795777E8
- Level ID: 2 [Start Tile, End Tile]
Resolution: 39135.75848200009
Scale: 1.47914381897889E8
- Level ID: 3 [Start Tile, End Tile]
Resolution: 19567.87924099992
Scale: 7.3957190948944E7
- Level ID: 4 [Start Tile, End Tile]
Resolution: 9783.93962049996
Scale: 3.6978595474472E7
- Level ID: 5 [Start Tile, End Tile]
Resolution: 4891.96981024998
Scale: 1.8489297737236E7
- Level ID: 6 [Start Tile, End Tile]
Resolution: 2445.98490512499
Scale: 9244648.868618
- Level ID: 7 [Start Tile, End Tile]
Resolution: 1222.992452562495
Scale: 4622324.434309
- Level ID: 8 [Start Tile, End Tile]
Resolution: 611.4962262813797
Scale: 2311162.217155
- Level ID: 9 [Start Tile, End Tile]
Resolution: 305.7481131405575
Scale: 1155581.108577
- Level ID: 10 [Start Tile, End Tile]
Resolution: 152.87405657041106
Scale: 577790.554289
- Level ID: 11 [Start Tile, End Tile]
Resolution: 76.43702828507324
Scale: 288895.277144
- Level ID: 12 [Start Tile, End Tile]
Resolution: 38.21851414253662
Scale: 144447.638572
- Level ID: 13 [Start Tile, End Tile]
Resolution: 19.10925707126831
Scale: 72223.819286
- Level ID: 14 [Start Tile, End Tile]
Resolution: 9.554628535634155
Scale: 36111.909643
- Level ID: 15 [Start Tile, End Tile]
Resolution: 4.77731426794937
Scale: 18055.954822
- Level ID: 16 [Start Tile, End Tile]
Resolution: 2.388657133974685
Scale: 9027.977411
- Level ID: 17 [Start Tile, End Tile]
Resolution: 1.1943285668550503
Scale: 4513.988705
- Level ID: 18 [Start Tile, End Tile]
Resolution: 0.5971642835598172
Scale: 2256.994353
- Level ID: 19 [Start Tile, End Tile]
Resolution: 0.29858214164761665
Scale: 1128.497176
- Format: JPEG
- Compression Quality: 90
- Origin:
X: -2.0037508342787E7
Y: 2.0037508342787E7
- Spatial Reference:
102100
Initial Extent: XMin: -1.521952658657644E7
YMin: -2686978.3433481455
XMax: 1.521952658657644E7
YMax: 1.0707809219014253E7
Spatial Reference:
102100
Full Extent: XMin: -2.00375082314698E7
YMin: -1.99718688804086E7
XMax: 2.00375082314698E7
YMax: 1.99718688804086E7
Spatial Reference:
102100
Min Scale: 5.91657527591555E8
Max Scale: 1128.497176
Min LOD: 0
Max LOD: 19
Units: esriMeters
Supported Image Format Types: JPEG
Export Tiles Allowed: true
Max Export Tiles Count: 100000
Document Info: - Title: ETOPO1 Global Relief Model: Color Shaded Relief
- Author: ncei_noaa
- Comments:
- Subject: A tiled service providing a color shaded relief visualization of the ETOPO1 1 arc-minute global bathymetry/topography data from NOAA's National Centers for Environmental Information (NCEI)
- Category:
- Keywords: ETOPO1, hillshade, shaded relief, topography, bathymetry, DEM, basemap, NOAA, seafloor, oceans, NCEI