Middle_Attendance_Boundary_2025 (Map Service)
View In:
ArcGIS JavaScript
ArcGIS.com
WMTS
Current Version: 10.81
Service Description: Polygon feature class of Miami-Dade County, Public Schools attendance zones for Middle schools.
Map Name: Map3
Legend
All Layers and Tables
Layers:
Tables:
Description: Polygon feature class of Miami-Dade County, Public Schools attendance zones for Middle schools.
Copyright Text: Supplementary Information Procedures_Used:
In order to create this layer, the schools attendance zones legal descriptions were used to identify the school boundaries. This document was provided by the Miami-Dade County Public Schools Board. The layer was created using ArcInfo ArcEdit and with the PUT and GET commands. The following layers were used as reference to create the boundaries: adade, arail and pwater.
On July 29th 2009 the DCPS Attendance Boundary layers were configured in an ArcGIS versioning environment for maintainance purposes. Revisions: Date: June 2025 By: I. Cano
Reason: Revised attendance boundary files implemented in accordance to Miami Dade County Public Schools Attendance Boundary Committee for 2025-2026. reconfigured attendance boundaries:
Lawton Chiles Middle School deleted attendance boundaries:
Country Club Middle
Revisions: Date: August 2023 By: I. Cano
Reason: Revised attendance boundary files implemented in accordance to Miami Dade County Public Schools Attendance Boundary Committee for 2023-2024. Combined Citrus Grove Middle School and Citrus Grove Elementary into Citrus Grove K-8 Center
reconfigured attendance boundaries:
Citrus Grove K-8
Brownsville Middle
Jose de Diego Middle
Kinloch Park Middle
Revisions: Date: November 2022 By: I. Cano
Reason: Revised attendance boundary files implemented in accordance to Miami Dade County Public Schools Attendance Boundary Committee for 2022-2023. reconfigured attendance boundaries:
J F Kennedy Middle
North Dade Middle
North Miami Middle
Deleted Thomas Jefferson Middle
Revisions: Date: July 2020 By: I. Cano
Reason: Revised attendance boundary files implemented in accordance to Miami Dade County Public Schools Attendance Boundary Committee for 2020-2021. reconfigured attendance boundaries:
Highland Oaks Middle School
Revisions: Date: July 2019 By: I. Cano
Reason: Change school name:
Nautilus Middle to Miami Beach Nautilus Middle
Revisions: Date: June 2018 By: I. Cano
Reason: Revised attendance boundary files implemented in accordance to Miami Dade County Public Schools Attendance Boundary Committee for 2018-2019. reconfigured attendance boundaries:
Chiles, Lawton Middle
Miami Lakes Middle
Revisions: Date: August - 2016 By: I. Cano
Reason: Revised attendance boundary files implemented in accordance to Miami Dade County Public Schools Attendance Boundary Committee for 2016-2017. Modified attendance boundary for:
Paul W. Bell Middle School Lamar Louise Curry Middle School
W. R. Thomas Middle School
Removed Zelda Glazer Middle from layer. Revisions: Date: September - 2015 By: I. Cano
Reason: Revised attendance boundary for Cutler Bay Middle and deleted Cutler Bay Senior High from layer. Revisions: Date:June - 2015 By: I. Cano
Reason: Revised attendance boundary files implemented in accordance to Miami Dade County Public Schools Attendance Boundary Committee for 2015-2016. Reconfigured attendance boundaries:
Paul W. Bell Middle School
Zelda Glazer Middle
Change name for Zelda Glazer Middle to Miami Arts Studio 6-12 @ Zelda Glazer
Change name for Academy Of Advanced Studies, Cutler Ridge Campus to Cutler Bay Middle
Change name for Cutler Bay Academy Of Advanced Studies, Centennial Campus to Cutler Bay Senior High
Change name for Allapattah Middle to Geogia Jones-Ayers Middle
Date: August - 2014 By: I. Cano
Reason: Revised attendance boundary files implemented in accordance to Miami Dade County Public Schools Attendance Boundary Committee for 2014-2015. Deleted Campbell Drive Middle Boundary and new Boundaries established for Homestead and Reland Middle Schools
To change school name from Zelda Glazer MS to recently renamed Miami Arts Studio 6-12 @ Zelda Glazer
Date: October 2012 By: I. Cano
Reason: North Dade Middle was temporarily located at Miami Carol City site and is now back at its original location: 1840 NW 157th Street. Date: August 2012 By: I. Cano
Reason: To update Region Center information. Region value "NC" and "SC" were removed and "C" was added.
Date: July - 2012 By: I. Cano
Reason: Revised attendance boundary files implemented in accordance to Miami Dade County Public Schools Attendance Boundary Committee for 2012-2013.
Revisions: Date: December 2011 By: I. Cano
Reason: To change the REGION values from roman numerals to, ETO, N, NC, S, or SC. These values are defined as the following ETO - Education Transformation Office N - North Regional Center NC - North Central Regional Center S - South Regional Center SC -South Central Regional Center
Revisions:
Date: July 2011 By: I. Cano Reason: Changes made to Middle School boundary in accordance to school zone legal description.
Date: November 2010 By: A. Solis Reason: Changes made to South Dade Middle School boundary in accordance to school zone legal description.
Date: October 2010 By: A. Solis
Reason: To implement new region for those schools identified as persistently lowest-achieving by the Florida Department of Education and as requested on e-mail from Dr. Janice M. Cruse, Administrative Director of Education Transformation Office (ETO). Date: August 2010 By: Alina Solis
Reason: To implement changes in accordance to Miami Dade Schools Attendance Boundary Committee for 2010-2011.
Date: March 2010 By: Alina Solis
Reason: To align the west boundary of Southwood Middle to SW 99th CT. Update phone information for Hialeah Gardens Middle.
Date: October 2009 By: Alina Solis
Reason: Modified Homestead and South Dade school boundary.
Date: August - October 2009 By: Alina Solis
Reason: To implement changes in accordance to Miami Dade Schools Attendance Boundary Committee for 2009-2010. Date: Aug 6th 2009 By: TS
Reason: Structure change to include DisplayName, Editor_Name and Edit_date fields. Date: August 2007 By: Alina Solis
Reason: Changes made in accordance to Attendance Zone Recommendations and Related Adminstratirve Actions 2007 - 2008 and 2008 - 2009. - Miami Dade County Public School Board Rule 6-Gx13-5A-1.10. Two new schools added. 1. South Dade Middle, Region 6, 2. Jorge Mas Canosa Middle, region 6
Date: October 2006 By: GIS Technical Support Staff
Reason: The data was converted from the legacy coverage format to the ArcGIS Geodatabase feature class format.
Date: June 2006 By: Alina Solis
Reason: To implement changes in accordance to Miami Dade Schools Attendance Boundary Committee 2006-2007.
Date: July 2005 By: Alina Solis
Reason: To update grade level configuration for 2005-2006 school year as per Miami Dade Schools Attendance Boundary Committee.
Date: June 2005 By: Alina Solis
Reason: To implement changes in accordance to Attendance Zone Recommendations 2005-2006. Grades for Lamar Curry Middle were increased to 6-8.
Date: August 2004 By: Alina Solis
Reason: To realign Miami Springs Middle boundary.
Date: July 2004 By: Alina Solis
Reason: To change Ruben Dario, Everglades K-8, Rockway and West Miami Middle school boundaries and grades in accordance to the Attendance Zone Recommendations for the school year 2004-2005.
Date: June 2004 By: Alina Solis
Reason: To extend boundary further to the west for Paul W. Bell Middle and Lamar Louise Middle.
Date: August 2003 By: Alina Solis
Reason: To fix schools boundaries between Paul W. Bell Middle and W.R. Thomas Middle School.
Date: July 2003 By: Alina Solis
Reason: Due to attendance zones changes for 2003 school year, a new school, Lamar Louise Curry Middle, was added. Grades for Curry Middle will be assigned on a yearly basis as follows: 6th grade students for 2003-2004 school year, 7th grade students for the 2004-2005 and then 8th grade students for the 2005-2006 school year. For this reason, schools sharing boundaries with Curry Middle will remain with present boundaries until 2006 school year, but should use the item NUM2.
Reviews_Applied_to_Data:
Data is reviewed by Miami-Dade County Public Schools Board, GIS Data Administrator and GIS Metadata Administrator.
Other_References_Cited:
DCPS, Alina Herrera and Alina Solis, Miami-Dade County, ETSD department, February 2003.
Spatial Reference: 102100
Single Fused Map Cache: true
Capabilities: Map,TilesOnly,Tilemap
Tile Info:
- Height: 256
- Width: 256
- DPI: 96
- Levels of Detail: (# Levels: 24)
- Level ID: 0 [Start Tile, End Tile]
Resolution: 156543.033928
Scale: 5.91657527591555E8
- Level ID: 1 [Start Tile, End Tile]
Resolution: 78271.5169639999
Scale: 2.95828763795777E8
- Level ID: 2 [Start Tile, End Tile]
Resolution: 39135.7584820001
Scale: 1.47914381897889E8
- Level ID: 3 [Start Tile, End Tile]
Resolution: 19567.8792409999
Scale: 7.3957190948944E7
- Level ID: 4 [Start Tile, End Tile]
Resolution: 9783.93962049996
Scale: 3.6978595474472E7
- Level ID: 5 [Start Tile, End Tile]
Resolution: 4891.96981024998
Scale: 1.8489297737236E7
- Level ID: 6 [Start Tile, End Tile]
Resolution: 2445.98490512499
Scale: 9244648.868618
- Level ID: 7 [Start Tile, End Tile]
Resolution: 1222.99245256249
Scale: 4622324.434309
- Level ID: 8 [Start Tile, End Tile]
Resolution: 611.49622628138
Scale: 2311162.217155
- Level ID: 9 [Start Tile, End Tile]
Resolution: 305.748113140558
Scale: 1155581.108577
- Level ID: 10 [Start Tile, End Tile]
Resolution: 152.874056570411
Scale: 577790.554289
- Level ID: 11 [Start Tile, End Tile]
Resolution: 76.4370282850732
Scale: 288895.277144
- Level ID: 12 [Start Tile, End Tile]
Resolution: 38.2185141425366
Scale: 144447.638572
- Level ID: 13 [Start Tile, End Tile]
Resolution: 19.1092570712683
Scale: 72223.819286
- Level ID: 14 [Start Tile, End Tile]
Resolution: 9.55462853563415
Scale: 36111.909643
- Level ID: 15 [Start Tile, End Tile]
Resolution: 4.77731426794937
Scale: 18055.954822
- Level ID: 16 [Start Tile, End Tile]
Resolution: 2.38865713397468
Scale: 9027.977411
- Level ID: 17 [Start Tile, End Tile]
Resolution: 1.19432856685505
Scale: 4513.988705
- Level ID: 18 [Start Tile, End Tile]
Resolution: 0.597164283559817
Scale: 2256.994353
- Level ID: 19 [Start Tile, End Tile]
Resolution: 0.298582141647617
Scale: 1128.497176
- Level ID: 20 [Start Tile, End Tile]
Resolution: 0.14929107082380833
Scale: 564.248588
- Level ID: 21 [Start Tile, End Tile]
Resolution: 0.07464553541190416
Scale: 282.124294
- Level ID: 22 [Start Tile, End Tile]
Resolution: 0.03732276770595208
Scale: 141.062147
- Level ID: 23 [Start Tile, End Tile]
Resolution: 0.01866138385297604
Scale: 70.5310735
- Format: PNG
- Compression Quality: 0
- Origin:
X: -2.0037508342787E7
Y: 2.0037508342787E7
- Spatial Reference:
102100
Initial Extent: XMin: -9005715.597715039
YMin: 2913242.584124888
XMax: -8893646.232984964
YMax: 3004550.89747511
Spatial Reference:
102100
Full Extent: XMin: -8980658.9252
YMin: 2921790.713399999
XMax: -8918702.9055
YMax: 2996002.768199999
Spatial Reference:
102100
Min Scale: 577790.554289
Max Scale: 18055.954822
Min LOD: 10
Max LOD: 15
Units: esriMeters
Supported Image Format Types: PNG
Export Tiles Allowed: false
Max Export Tiles Count: 100000
Document Info: - Title: Middle Attendance Boundary 2025
- Author: 1gnacio
- Comments:
- Subject: This layer was created in order to graphically identify the attendance boundaries and to be use in the Miami Dade County web application "My Neighborhood".
- Category:
- Keywords: Middle School Attendance Boundary, Miami-Dade County, MDCPS