Adirondack_Park_2018_State_and_Private_Land_Class (Map Service)
View In:
ArcGIS JavaScript
ArcGIS.com
WMTS
Current Version: 10.6
Service Description: Adirondack Park Land Use and Development Plan Map and State Land Map (APLUDP/SLM) produced by the Adirondack Park Agency. Contains polygon data representing state and private land classifications. Mapped at various scales from 2015 county tax maps, NHD water, and 2017 NYS GPO roads. APLUDP private land classification definitions are found here. State Land classifications are found here.
Map Name: Base Map
Legend
All Layers and Tables
Layers:
Tables:
Description: Adirondack Park Land Use and Development Plan Map and State Land Map (APLUDP/SLM) produced by the Adirondack Park Agency. Contains polygon data representing state and private land classifications. Mapped at various scales from 2015 county tax maps, NHD water, and 2017 NYS GPO roads. APLUDP private land classification definitions are found here. State Land classifications are found here.
Copyright Text: NYS Adirondack Park Agency
Spatial Reference:
102100
Single Fused Map Cache: true
Capabilities: Map,TilesOnly
Tile Info:
- Height: 256
- Width: 256
- DPI: 96
- Levels of Detail: (# Levels: 17)
- Level ID: 0 [Start Tile, End Tile]
Resolution: 156543.033928
Scale: 5.91657527591555E8
- Level ID: 1 [Start Tile, End Tile]
Resolution: 78271.5169639999
Scale: 2.95828763795777E8
- Level ID: 2 [Start Tile, End Tile]
Resolution: 39135.7584820001
Scale: 1.47914381897889E8
- Level ID: 3 [Start Tile, End Tile]
Resolution: 19567.8792409999
Scale: 7.3957190948944E7
- Level ID: 4 [Start Tile, End Tile]
Resolution: 9783.93962049996
Scale: 3.6978595474472E7
- Level ID: 5 [Start Tile, End Tile]
Resolution: 4891.96981024998
Scale: 1.8489297737236E7
- Level ID: 6 [Start Tile, End Tile]
Resolution: 2445.98490512499
Scale: 9244648.868618
- Level ID: 7 [Start Tile, End Tile]
Resolution: 1222.99245256249
Scale: 4622324.434309
- Level ID: 8 [Start Tile, End Tile]
Resolution: 611.49622628138
Scale: 2311162.217155
- Level ID: 9 [Start Tile, End Tile]
Resolution: 305.748113140558
Scale: 1155581.108577
- Level ID: 10 [Start Tile, End Tile]
Resolution: 152.874056570411
Scale: 577790.554289
- Level ID: 11 [Start Tile, End Tile]
Resolution: 76.4370282850732
Scale: 288895.277144
- Level ID: 12 [Start Tile, End Tile]
Resolution: 38.2185141425366
Scale: 144447.638572
- Level ID: 13 [Start Tile, End Tile]
Resolution: 19.1092570712683
Scale: 72223.819286
- Level ID: 14 [Start Tile, End Tile]
Resolution: 9.55462853563415
Scale: 36111.909643
- Level ID: 15 [Start Tile, End Tile]
Resolution: 4.77731426794937
Scale: 18055.954822
- Level ID: 16 [Start Tile, End Tile]
Resolution: 2.38865713397468
Scale: 9027.977411
- Format: PNG
- Compression Quality: 0
- Origin:
X: -2.0037508342787E7
Y: 2.0037508342787E7
- Spatial Reference:
102100
PROJCS["WGS_1984_Web_Mercator_Auxiliary_Sphere",GEOGCS["GCS_WGS_1984",DATUM["D_WGS_1984",SPHEROID["WGS_1984",6378137.0,298.257223563]],PRIMEM["Greenwich",0.0],UNIT["Degree",0.0174532925199433]],PROJECTION["Mercator_Auxiliary_Sphere"],PARAMETER["False_Easting",0.0],PARAMETER["False_Northing",0.0],PARAMETER["Central_Meridian",0.0],PARAMETER["Standard_Parallel_1",0.0],PARAMETER["Auxiliary_Sphere_Type",0.0],UNIT["Meter",1.0],AUTHORITY["EPSG",3857]]
Initial Extent:
XMin: -8480675.256005662
YMin: 5330054.79831668
XMax: -8062202.130990758
YMax: 5591559.538928969
Spatial Reference:
102100
Full Extent:
XMin: -8385302.794048954
YMin: 5318257.591973268
XMax: -8157574.59294746
YMax: 5603356.74527238
Spatial Reference:
102100
Min Scale: 1.0E7
Max Scale: 0.0
Units: esriMeters
Supported Image Format Types: PNG
Export Tiles Allowed: false
Max Export Tiles Count: 100000
Document Info:
- Title: Adirondack Park 2018 State and Private Land Class
- Author: jwbarge
- Comments:
- Subject: Tile Service of State and Private Land Classification in the Adirondack Park of New York State. March 2018
- Category:
- Keywords: Adirondack, State Land, Land Classification, Adirondack Park, New York State, Zoning, Wilderness