Services Directory
Login
Home
>
Imagery_satellite_2023
JSON
|
WMTS
|
API Reference
Imagery_satellite_2023
(Map Service)
View In:
ArcGIS JavaScript
ArcGIS.com
WMTS
Current Version:
10.81
Service Description:
Map Name:
Layers
Legend
All Layers and Tables
Layers:
Satellite
(0)
Ocean Mask
(1)
Description:
Copyright Text:
Spatial Reference:
2193
Single Fused Map Cache:
true
Capabilities:
Map,TilesOnly,Tilemap
Tile Info:
Height:
256
Width:
256
DPI:
96
Levels of Detail:
(# Levels: 16)
Level ID:
0 [
Start Tile
,
End Tile
]
Resolution: 529.1677250021168
Scale: 2000000.0
Level ID:
1 [
Start Tile
,
End Tile
]
Resolution: 264.5838625010584
Scale: 1000000.0
Level ID:
2 [
Start Tile
,
End Tile
]
Resolution: 132.2919312505292
Scale: 500000.0
Level ID:
3 [
Start Tile
,
End Tile
]
Resolution: 52.91677250021167
Scale: 200000.0
Level ID:
4 [
Start Tile
,
End Tile
]
Resolution: 26.458386250105836
Scale: 100000.0
Level ID:
5 [
Start Tile
,
End Tile
]
Resolution: 13.229193125052918
Scale: 50000.0
Level ID:
6 [
Start Tile
,
End Tile
]
Resolution: 7.9375158750317505
Scale: 30000.0
Level ID:
7 [
Start Tile
,
End Tile
]
Resolution: 5.291677250021167
Scale: 20000.0
Level ID:
8 [
Start Tile
,
End Tile
]
Resolution: 2.6458386250105836
Scale: 10000.0
Level ID:
9 [
Start Tile
,
End Tile
]
Resolution: 1.9843789687579376
Scale: 7500.0
Level ID:
10 [
Start Tile
,
End Tile
]
Resolution: 1.3229193125052918
Scale: 5000.0
Level ID:
11 [
Start Tile
,
End Tile
]
Resolution: 0.5291677250021167
Scale: 2000.0
Level ID:
12 [
Start Tile
,
End Tile
]
Resolution: 0.26458386250105836
Scale: 1000.0
Level ID:
13 [
Start Tile
,
End Tile
]
Resolution: 0.13229193125052918
Scale: 500.0
Level ID:
14 [
Start Tile
,
End Tile
]
Resolution: 0.05291677250021167
Scale: 200.0
Level ID:
15 [
Start Tile
,
End Tile
]
Resolution: 0.026458386250105836
Scale: 100.0
Format:
MIXED
Compression Quality:
75
Origin:
X: -4020900.0
Y: 1.99981E7
Spatial Reference:
2193
Initial Extent:
XMin: 1854611.5788566398
YMin: 5624596.126697256
XMax: 2149696.66902682
YMax: 5838147.05379911
Spatial Reference:
2193
Full Extent:
XMin: 1854611.5788566398
YMin: 5624596.126697256
XMax: 2149696.66902682
YMax: 5838147.05379911
Spatial Reference:
2193
Min Scale:
0.0
Max Scale:
0.0
Min LOD:
0
Max LOD:
10
Units:
esriMeters
Supported Image Format Types:
MIXED
Export Tiles Allowed:
false
Max Export Tiles Count:
100000
Resampling:
true
Document Info:
Title:
Imagery_satellite_2023
Author:
GisborneDistrictCouncil
Comments:
Subject:
Gisborne Region Satellite Imagery 2022 - 2023
Category:
Keywords:
Satellite, Imagery, Aerials