WRAPS_2017 (Map Service)
View In:
ArcGIS JavaScript
ArcGIS.com
WMTS
Current Version: 10.81
Service Description: Purpose
This tile layer is for visualisation purposes only. It has been created for use in Waikato Regional Council applications or for the public who specifically want to view the WRAPS 2017 images.
Statement
Waikato Local Authority Shared Services (LASS) Ltd contracted Aerial Surveys Ltd to supply colour digital orthorectified imagery and other products for the Waikato Region, encompassing all or part of 11 territorial authorities. It also includes parts of Bay of Plenty, Hawke's Bay and Manawatu-Whanganui.
The aerial photography was captured between September 2016 and April 2019 over three flying seasons (summer periods of 2016/2017, 2017/2018, 2018/2019), with zero cloud cover and a sun angle of >= 35 degrees. Aerial photography of all harbour, coastal and tidal areas was captured during low tide periods, this being defined as the period 2 hours either side of low tide. Imagery was supplied as 30cm pixel resolution (0.30 m GSD), 3-band (RGB) uncompressed GeoTIFF. The final spatial accuracy is ±0.5 m @ 95% confidence level.
The digital orthophotography and aerial photography are owned by Waikato Regional Aerial Photography Service (WRAPS) 2017 and the supplier, Aerial Surveys Limited jointly and equally. The WRAPS aerial photography capture is undertaken every 4-5 years.
Spatial Reference Information
New Zealand Transverse Mercator (NZTM) projection with the NZGD2000 datum.
Intended Use Scale
The digital orthophotos are designed to be used at a scale of 1:5000.
Public Data Availability
WRC Metadata
Map Name: Layers
Legend
All Layers and Tables
Description: Purpose
This tile layer is for visualisation purposes only. It has been created for use in Waikato Regional Council applications or for the public who specifically want to view the WRAPS 2017 images.
Statement
Waikato Local Authority Shared Services (LASS) Ltd contracted Aerial Surveys Ltd to supply colour digital orthorectified imagery and other products for the Waikato Region, encompassing all or part of 11 territorial authorities. It also includes parts of Bay of Plenty, Hawke's Bay and Manawatu-Whanganui.
The aerial photography was captured between September 2016 and April 2019 over three flying seasons (summer periods of 2016/2017, 2017/2018, 2018/2019), with zero cloud cover and a sun angle of >= 35 degrees. Aerial photography of all harbour, coastal and tidal areas was captured during low tide periods, this being defined as the period 2 hours either side of low tide. Imagery was supplied as 30cm pixel resolution (0.30 m GSD), 3-band (RGB) uncompressed GeoTIFF. The final spatial accuracy is ±0.5 m @ 95% confidence level.
The digital orthophotography and aerial photography are owned by Waikato Regional Aerial Photography Service (WRAPS) 2017 and the supplier, Aerial Surveys Limited jointly and equally. The WRAPS aerial photography capture is undertaken every 4-5 years.
Spatial Reference Information
New Zealand Transverse Mercator (NZTM) projection with the NZGD2000 datum.
Intended Use Scale
The digital orthophotos are designed to be used at a scale of 1:5000.
Public Data Availability
WRC Metadata
Copyright Text: © Waikato Regional Aerial Photography Service (WRAPS) 2017. Imagery sourced from Waikato Regional Council. Licensed under CC BY 4.0
Spatial Reference: 2193
Single Fused Map Cache: true
Capabilities: Map,TilesOnly,Tilemap
Tile Info:
- Height: 256
- Width: 256
- DPI: 96
- Levels of Detail: (# Levels: 24)
- Level ID: 0 [Start Tile, End Tile]
Resolution: 156543.03392799935
Scale: 5.91657527591552E8
- Level ID: 1 [Start Tile, End Tile]
Resolution: 78271.51696399967
Scale: 2.95828763795776E8
- Level ID: 2 [Start Tile, End Tile]
Resolution: 39135.75848199984
Scale: 1.47914381897888E8
- Level ID: 3 [Start Tile, End Tile]
Resolution: 19567.87924099992
Scale: 7.3957190948944E7
- Level ID: 4 [Start Tile, End Tile]
Resolution: 9783.93962049996
Scale: 3.6978595474472E7
- Level ID: 5 [Start Tile, End Tile]
Resolution: 4891.96981024998
Scale: 1.8489297737236E7
- Level ID: 6 [Start Tile, End Tile]
Resolution: 2445.98490512499
Scale: 9244648.868618
- Level ID: 7 [Start Tile, End Tile]
Resolution: 1222.992452562495
Scale: 4622324.434309
- Level ID: 8 [Start Tile, End Tile]
Resolution: 611.4962262813797
Scale: 2311162.217155
- Level ID: 9 [Start Tile, End Tile]
Resolution: 305.74811314055756
Scale: 1155581.108577
- Level ID: 10 [Start Tile, End Tile]
Resolution: 152.87405657041106
Scale: 577790.554289
- Level ID: 11 [Start Tile, End Tile]
Resolution: 76.43702828507324
Scale: 288895.277144
- Level ID: 12 [Start Tile, End Tile]
Resolution: 38.21851414253662
Scale: 144447.638572
- Level ID: 13 [Start Tile, End Tile]
Resolution: 19.10925707126831
Scale: 72223.819286
- Level ID: 14 [Start Tile, End Tile]
Resolution: 9.554628535634155
Scale: 36111.909643
- Level ID: 15 [Start Tile, End Tile]
Resolution: 4.77731426794937
Scale: 18055.954822
- Level ID: 16 [Start Tile, End Tile]
Resolution: 2.388657133974685
Scale: 9027.977411
- Level ID: 17 [Start Tile, End Tile]
Resolution: 1.1943285668550503
Scale: 4513.988705
- Level ID: 18 [Start Tile, End Tile]
Resolution: 0.5971642835598172
Scale: 2256.994353
- Level ID: 19 [Start Tile, End Tile]
Resolution: 0.29858214164761665
Scale: 1128.497176
- Level ID: 20 [Start Tile, End Tile]
Resolution: 0.14929107082380833
Scale: 564.248588
- Level ID: 21 [Start Tile, End Tile]
Resolution: 0.07464553541190416
Scale: 282.124294
- Level ID: 22 [Start Tile, End Tile]
Resolution: 0.03732276770595208
Scale: 141.062147
- Level ID: 23 [Start Tile, End Tile]
Resolution: 0.01866138385297604
Scale: 70.5310735
- Format: MIXED
- Compression Quality: 90
- Origin:
X: -4020900.0
Y: 1.99981E7
- Spatial Reference:
2193
Initial Extent: XMin: 1734399.9916796088
YMin: 5643599.991922742
XMax: 1921600.002937575
YMax: 5971200.006958837
Spatial Reference:
2193
Full Extent: XMin: 1734399.9916796088
YMin: 5643599.991922742
XMax: 1921600.002937575
YMax: 5971200.006958837
Spatial Reference:
2193
Min Scale: 1.47914382E8
Max Scale: 0.0
Min LOD: 2
Max LOD: 19
Units: esriMeters
Supported Image Format Types: MIXED
Export Tiles Allowed: true
Max Export Tiles Count: 100000
Resampling: true
Document Info: - Title: WRAPS 2017
- Author: TristanMc_waikatoregion
- Comments:
- Subject: Waikato Regional Aerial Photography Service (WRAPS) 2017 - Colour digital orthophotography over the Waikato Region captured between September 2016 and April 2019.
- Category:
- Keywords: WRAPS, 2017, Aerials, Orthophotos, Aerial Photography