WindScore (Map Service)
View In:
ArcGIS JavaScript
ArcGIS.com
WMTS
Current Version: 10.81
Service Description: The source data contains point features representing high wind event locations. These features were rasterized into a 100 meter grid in which each cell contains the number of wind events that occurred in that cell. The Focal Statistics tool was used to create a continuous 100 meter raster in which each cell indicates the number of wind events that occurred within a 10 mile radius of that cell. The values in this raster were divided by the number of years of data (55) to give the average annual number of high wind events within ten miles of each cell.
Map Name: Layers
Legend
All Layers and Tables
Layers:
Tables:
Description: The source data contains point features representing high wind event locations. These features were rasterized into a 100 meter grid in which each cell contains the number of wind events that occurred in that cell. The Focal Statistics tool was used to create a continuous 100 meter raster in which each cell indicates the number of wind events that occurred within a 10 mile radius of that cell. The values in this raster were divided by the number of years of data (55) to give the average annual number of high wind events within ten miles of each cell.
Copyright Text: NOAA NWS
Spatial Reference: 102100
Single Fused Map Cache: true
Capabilities: Map,TilesOnly
Tile Info:
- Height: 256
- Width: 256
- DPI: 96
- Levels of Detail: (# Levels: 11)
- Level ID: 0 [Start Tile, End Tile]
Resolution: 156543.033928
Scale: 5.91657527591555E8
- Level ID: 1 [Start Tile, End Tile]
Resolution: 78271.5169639999
Scale: 2.95828763795777E8
- Level ID: 2 [Start Tile, End Tile]
Resolution: 39135.7584820001
Scale: 1.47914381897889E8
- Level ID: 3 [Start Tile, End Tile]
Resolution: 19567.8792409999
Scale: 7.3957190948944E7
- Level ID: 4 [Start Tile, End Tile]
Resolution: 9783.93962049996
Scale: 3.6978595474472E7
- Level ID: 5 [Start Tile, End Tile]
Resolution: 4891.96981024998
Scale: 1.8489297737236E7
- Level ID: 6 [Start Tile, End Tile]
Resolution: 2445.98490512499
Scale: 9244648.868618
- Level ID: 7 [Start Tile, End Tile]
Resolution: 1222.99245256249
Scale: 4622324.434309
- Level ID: 8 [Start Tile, End Tile]
Resolution: 611.49622628138
Scale: 2311162.217155
- Level ID: 9 [Start Tile, End Tile]
Resolution: 305.748113140558
Scale: 1155581.108577
- Level ID: 10 [Start Tile, End Tile]
Resolution: 152.874056570411
Scale: 577790.554289
- Format: PNG
- Compression Quality: 0
- Origin:
X: -2.0037508342787E7
Y: 2.0037508342787E7
- Spatial Reference:
102100
Initial Extent: XMin: -3.3202618335893594E7
YMin: -9020924.188300215
XMax: 6744434.823485017
YMax: 2.010582480822309E7
Spatial Reference:
102100
Full Extent: XMin: -2.0037507067161843E7
YMin: 2143777.5703407093
XMax: 2.0037592932838157E7
YMax: 1.1552136475051068E7
Spatial Reference:
102100
Min Scale: 5.91657527591555E8
Max Scale: 577790.554289
Min LOD: 0
Max LOD: 10
Units: esriMeters
Supported Image Format Types: PNG
Export Tiles Allowed: false
Max Export Tiles Count: 100000
Document Info: - Title: WindScore
- Author: jbaranyiEM
- Comments:
- Subject: Density of wind events from 1955 - 2011
- Category:
- Keywords: Hazards, Wind