fviypfm_kyfcefnqwvkz (Map Service)
View In:
ArcGIS JavaScript
ArcGIS.com
WMTS
Current Version: 10.81
Service Description:
Global Administrative Areas. 2018. GADM database of Global Administrative Areas, version 3.6. Available from
https://gadm.org/.
Map Name: fviypfm_kyfcefnqwvkz
Legend
All Layers and Tables
Layers:
Tables:
Description:
Global Administrative Areas. 2018. GADM database of Global Administrative Areas, version 3.6. Available from
https://gadm.org/.
Copyright Text: GEBCO Compilation Group. 2020. GEBCO 2020 Grid. Available from https://doi.org/10.5285/a29c5465-b138-234d-e053-6c86abc040b9.
Global Administrative Areas. 2018. GADM database of Global Administrative Areas, version 3.6. Available from https://gadm.org/.
Natural Earth. 2021. Made with Natural Earth free vector and raster map data. Available from https://www.naturalearthdata.com/.
Spatial Reference: PROJCS["Lambert_Azimuthal_Equal_Area",GEOGCS["GCS_WGS_1984",DATUM["D_WGS_1984",SPHEROID["WGS_1984",6378137.0,298.257223563]],PRIMEM["Greenwich",0.0],UNIT["Degree",0.0174532925199433]],PROJECTION["Lambert_Azimuthal_Equal_Area"],PARAMETER["false_easting",0.0],PARAMETER["false_northing",0.0],PARAMETER["central_meridian",-90.0],PARAMETER["latitude_of_origin",15.0],UNIT["Meter",1.0]]
Single Fused Map Cache: true
Capabilities: Map,TilesOnly,Tilemap
Tile Info:
- Height: 256
- Width: 256
- DPI: 96
- Levels of Detail: (# Levels: 19)
- Level ID: 0 [Start Tile, End Tile]
Resolution: 99650.7188627238
Scale: 3.766326382213183E8
- Level ID: 1 [Start Tile, End Tile]
Resolution: 49825.3594313619
Scale: 1.8831631911065915E8
- Level ID: 2 [Start Tile, End Tile]
Resolution: 24912.67971568095
Scale: 9.415815955532958E7
- Level ID: 3 [Start Tile, End Tile]
Resolution: 12456.339857840476
Scale: 4.707907977766479E7
- Level ID: 4 [Start Tile, End Tile]
Resolution: 6228.169928920238
Scale: 2.3539539888832394E7
- Level ID: 5 [Start Tile, End Tile]
Resolution: 3114.084964460119
Scale: 1.1769769944416197E7
- Level ID: 6 [Start Tile, End Tile]
Resolution: 1557.0424822300595
Scale: 5884884.9722080985
- Level ID: 7 [Start Tile, End Tile]
Resolution: 778.5212411150297
Scale: 2942442.4861040493
- Level ID: 8 [Start Tile, End Tile]
Resolution: 389.26062055751487
Scale: 1471221.2430520246
- Level ID: 9 [Start Tile, End Tile]
Resolution: 194.63031027875743
Scale: 735610.6215260123
- Level ID: 10 [Start Tile, End Tile]
Resolution: 97.31515513937872
Scale: 367805.31076300616
- Level ID: 11 [Start Tile, End Tile]
Resolution: 48.65757756968936
Scale: 183902.65538150308
- Level ID: 12 [Start Tile, End Tile]
Resolution: 24.32878878484468
Scale: 91951.32769075154
- Level ID: 13 [Start Tile, End Tile]
Resolution: 12.16439439242234
Scale: 45975.66384537577
- Level ID: 14 [Start Tile, End Tile]
Resolution: 6.08219719621117
Scale: 22987.831922687885
- Level ID: 15 [Start Tile, End Tile]
Resolution: 3.041098598105585
Scale: 11493.915961343942
- Level ID: 16 [Start Tile, End Tile]
Resolution: 1.5205492990527925
Scale: 5746.957980671971
- Level ID: 17 [Start Tile, End Tile]
Resolution: 0.7602746495263962
Scale: 2873.4789903359856
- Level ID: 18 [Start Tile, End Tile]
Resolution: 0.3801373247631981
Scale: 1436.7394951679928
- Format: Mixed
- Compression Quality: 75
- Origin:
X: -1.2755292014428647E7
Y: 1.2755292014428647E7
- Spatial Reference:
PROJCS["Lambert_Azimuthal_Equal_Area",GEOGCS["GCS_WGS_1984",DATUM["D_WGS_1984",SPHEROID["WGS_1984",6378137.0,298.257223563]],PRIMEM["Greenwich",0.0],UNIT["Degree",0.0174532925199433]],PROJECTION["Lambert_Azimuthal_Equal_Area"],PARAMETER["false_easting",0.0],PARAMETER["false_northing",0.0],PARAMETER["central_meridian",-90.0],PARAMETER["latitude_of_origin",15.0],UNIT["Meter",1.0]]
Initial Extent: XMin: -1.7860596870524697E7
YMin: -1.6897364452128056E7
XMax: 1.823376289690329E7
YMax: 1.6714314484736102E7
Spatial Reference:
PROJCS["Lambert_Azimuthal_Equal_Area",GEOGCS["GCS_WGS_1984",DATUM["D_WGS_1984",SPHEROID["WGS_1984",6378137.0,298.257223563]],PRIMEM["Greenwich",0.0],UNIT["Degree",0.0174532925199433]],PROJECTION["Lambert_Azimuthal_Equal_Area"],PARAMETER["false_easting",0.0],PARAMETER["false_northing",0.0],PARAMETER["central_meridian",-90.0],PARAMETER["latitude_of_origin",15.0],UNIT["Meter",1.0]]
Full Extent: XMin: -2.5635198698457375E7
YMin: -2.065265277671641E7
XMax: 2.5635198698457375E7
YMax: 2.065265277671641E7
Spatial Reference:
PROJCS["Lambert_Azimuthal_Equal_Area",GEOGCS["GCS_WGS_1984",DATUM["D_WGS_1984",SPHEROID["WGS_1984",6378137.0,298.257223563]],PRIMEM["Greenwich",0.0],UNIT["Degree",0.0174532925199433]],PROJECTION["Lambert_Azimuthal_Equal_Area"],PARAMETER["false_easting",0.0],PARAMETER["false_northing",0.0],PARAMETER["central_meridian",-90.0],PARAMETER["latitude_of_origin",15.0],UNIT["Meter",1.0]]
Min Scale: 1.47914382E8
Max Scale: 0.0
Min LOD: 0
Max LOD: 9
Units: esriMeters
Supported Image Format Types: Mixed
Export Tiles Allowed: false
Max Export Tiles Count: 100000
Document Info: - Title: fviypfm_kyfcefnqwvkz
- Author: migratorybirds_audubon
- Comments:
- Subject: fviypfm_kyfcefnqwvkz
- Category:
- Keywords: fviypfm_kyfcefnqwvkz