WorldGeo_Physical_Climate_Mean_Temp_January (Map Service)
View In:
ArcGIS JavaScript
ArcGIS.com
WMTS
Current Version: 10.7
Service Description: Mean January temperatures for land areas of the world in degrees Celsius. Data from
WorldClim Global Climate Data daily January average temperatures from 1950-2000.
Map Name: Layers
Legend
All Layers and Tables
Layers:
Tables:
Description: Mean January temperatures for land areas of the world in degrees Celsius. Data from
WorldClim Global Climate Data daily January average temperatures from 1950-2000.
Copyright Text: WorldClim; Hijmans, R.J., S.E. Cameron, J.L. Parra, P.G. Jones and A. Jarvis, 2005. Very high resolution interpolated climate surfaces for global land areas. International Journal of Climatology 25: 1965-1978.
Spatial Reference: 102100
Single Fused Map Cache: true
Capabilities: Map,TilesOnly
Tile Info:
- Height: 256
- Width: 256
- DPI: 96
- Levels of Detail: (# Levels: 10)
- Level ID: 0 [Start Tile, End Tile]
Resolution: 156543.033928
Scale: 5.91657527591555E8
- Level ID: 1 [Start Tile, End Tile]
Resolution: 78271.5169639999
Scale: 2.95828763795777E8
- Level ID: 2 [Start Tile, End Tile]
Resolution: 39135.7584820001
Scale: 1.47914381897889E8
- Level ID: 3 [Start Tile, End Tile]
Resolution: 19567.8792409999
Scale: 7.3957190948944E7
- Level ID: 4 [Start Tile, End Tile]
Resolution: 9783.93962049996
Scale: 3.6978595474472E7
- Level ID: 5 [Start Tile, End Tile]
Resolution: 4891.96981024998
Scale: 1.8489297737236E7
- Level ID: 6 [Start Tile, End Tile]
Resolution: 2445.98490512499
Scale: 9244648.868618
- Level ID: 7 [Start Tile, End Tile]
Resolution: 1222.99245256249
Scale: 4622324.434309
- Level ID: 8 [Start Tile, End Tile]
Resolution: 611.49622628138
Scale: 2311162.217155
- Level ID: 9 [Start Tile, End Tile]
Resolution: 305.748113140558
Scale: 1155581.108577
- Format: PNG
- Compression Quality: 0
- Origin:
X: -2.0037508342787E7
Y: 2.0037508342787E7
- Spatial Reference:
102100
Initial Extent: XMin: -2.0538831545385048E7
YMin: -9436445.967576835
XMax: 2.021296908952132E7
YMax: 2.0298554326198064E7
Spatial Reference:
102100
Full Extent: XMin: -2.0037507067161843E7
YMin: -8399737.889818342
XMax: 2.0037507067161843E7
YMax: 3.0240971958386205E7
Spatial Reference:
102100
Min Scale: 5.91657527591555E8
Max Scale: 1155581.108577
Min LOD: 0
Max LOD: 9
Units: esriMeters
Supported Image Format Types: PNG
Export Tiles Allowed: false
Max Export Tiles Count: 100000
Document Info: - Title: WorldGeo_Physical_Climate_Mean_Temp_January
- Author: Maps.com_carto
- Comments:
- Subject: Global Mean January Temperatures in degrees Celsius.
- Category:
- Keywords: temperature, mean temperature, average temperature, climate, january