Population_Density_2015_tiles (Map Service)
View In:
ArcGIS JavaScript
ArcGIS.com
WMTS
Current Version: 10.61
Service Description: Estimates of human population for the year 2015 by 2.5 arc-minute grid cells. 2015 global population density from CIESIN Gridded Population of the World version 4. Center for International Earth Science Information Network - CIESIN - Columbia University. 2016. Gridded Population of the World, Version 4 (GPWv4): Population Density. Palisades, NY: NASA Socioeconomic Data and Applications Center (SEDAC). http://dx.doi.org/10.7927/H4NP22DQ Accessed 5 April 2017.
Map Name: Layers
Legend
All Layers and Tables
Layers:
Tables:
Description: Estimates of human population for the year 2015 by 2.5 arc-minute grid cells. 2015 global population density from CIESIN Gridded Population of the World version 4. Center for International Earth Science Information Network - CIESIN - Columbia University. 2016. Gridded Population of the World, Version 4 (GPWv4): Population Density. Palisades, NY: NASA Socioeconomic Data and Applications Center (SEDAC). http://dx.doi.org/10.7927/H4NP22DQ Accessed 5 April 2017.
Copyright Text: CIESIN Gridded Population of the World v4
Spatial Reference: 102100
Single Fused Map Cache: true
Capabilities: Map,TilesOnly
Tile Info:
- Height: 256
- Width: 256
- DPI: 96
- Levels of Detail: (# Levels: 10)
- Level ID: 0 [Start Tile, End Tile]
Resolution: 156543.033928
Scale: 5.91657527591555E8
- Level ID: 1 [Start Tile, End Tile]
Resolution: 78271.5169639999
Scale: 2.95828763795777E8
- Level ID: 2 [Start Tile, End Tile]
Resolution: 39135.7584820001
Scale: 1.47914381897889E8
- Level ID: 3 [Start Tile, End Tile]
Resolution: 19567.8792409999
Scale: 7.3957190948944E7
- Level ID: 4 [Start Tile, End Tile]
Resolution: 9783.93962049996
Scale: 3.6978595474472E7
- Level ID: 5 [Start Tile, End Tile]
Resolution: 4891.96981024998
Scale: 1.8489297737236E7
- Level ID: 6 [Start Tile, End Tile]
Resolution: 2445.98490512499
Scale: 9244648.868618
- Level ID: 7 [Start Tile, End Tile]
Resolution: 1222.99245256249
Scale: 4622324.434309
- Level ID: 8 [Start Tile, End Tile]
Resolution: 611.49622628138
Scale: 2311162.217155
- Level ID: 9 [Start Tile, End Tile]
Resolution: 305.748113140558
Scale: 1155581.108577
- Format: PNG
- Compression Quality: 0
- Origin:
X: -2.0037508342787E7
Y: 2.0037508342787E7
- Spatial Reference:
102100
Initial Extent: XMin: -2.065675616402655E7
YMin: -8621272.116770986
XMax: 2.0770514043945238E7
YMax: 1.9271333500202067E7
Spatial Reference:
102100
Full Extent: XMin: -2.0037507067161843E7
YMin: -8399737.88981653
XMax: 2.0037507067161843E7
YMax: 1.997186888042026E7
Spatial Reference:
102100
Min Scale: 5.91657527591555E8 (
@deprecated use minLOD)
Max Scale: 1155581.108577(
@deprecated use maxLOD)
Min LOD: 0
Max LOD: 9
Units: esriMeters
Supported Image Format Types: PNG
Export Tiles Allowed: false
Max Export Tiles Count: 100000
Document Info: - Title: Population_Density_2015_tiles
- Author: Maps.com_carto
- Comments:
- Subject: Estimates of human population for the year 2015 by 2.5 arc-minute grid cells. From CIESIN Gridded Population of the World version 4.
- Category:
- Keywords: population, population density, density, 2015