Math_CoastalChange_Landsat2015_tiles (Map Service)
View In:
ArcGIS JavaScript
ArcGIS.com
WMTS
Current Version: 10.7
Service Description: Landsat 8 image from 2015-09-19, displaying bands 7,5,3 for coastline delineation and green vegetation. Supports the GeoInquiries math lesson on "Who Stole My Beach? – Rates and Proportions".
Landsat 8 image path 22 row 40 from Sep. 19, 2015, cropped to area around Timbalier Island, Louisiana. USGS 2015, LANDSAT 8 OLI/TIRS Collection 1 - Path 22 Row 40 for Scene: LC08_L1TP_022040_20150919_20170225_01_T1, USGS Earth Resources Observation and Science (EROS) Center
Map Name: Layers
Legend
All Layers and Tables
Layers:
Tables:
Description: Landsat 8 image from 2015-09-19, displaying bands 7,5,3 for coastline delineation and green vegetation. Supports the GeoInquiries math lesson on "Who Stole My Beach? – Rates and Proportions".
Landsat 8 image path 22 row 40 from Sep. 19, 2015, cropped to area around Timbalier Island, Louisiana. USGS 2015, LANDSAT 8 OLI/TIRS Collection 1 - Path 22 Row 40 for Scene: LC08_L1TP_022040_20150919_20170225_01_T1, USGS Earth Resources Observation and Science (EROS) Center
Copyright Text: USGS, Maps.com
Spatial Reference: 102100
Single Fused Map Cache: true
Capabilities: Map,TilesOnly
Tile Info:
- Height: 256
- Width: 256
- DPI: 96
- Levels of Detail: (# Levels: 15)
- Level ID: 0 [Start Tile, End Tile]
Resolution: 156543.033928
Scale: 5.91657527591555E8
- Level ID: 1 [Start Tile, End Tile]
Resolution: 78271.5169639999
Scale: 2.95828763795777E8
- Level ID: 2 [Start Tile, End Tile]
Resolution: 39135.7584820001
Scale: 1.47914381897889E8
- Level ID: 3 [Start Tile, End Tile]
Resolution: 19567.8792409999
Scale: 7.3957190948944E7
- Level ID: 4 [Start Tile, End Tile]
Resolution: 9783.93962049996
Scale: 3.6978595474472E7
- Level ID: 5 [Start Tile, End Tile]
Resolution: 4891.96981024998
Scale: 1.8489297737236E7
- Level ID: 6 [Start Tile, End Tile]
Resolution: 2445.98490512499
Scale: 9244648.868618
- Level ID: 7 [Start Tile, End Tile]
Resolution: 1222.99245256249
Scale: 4622324.434309
- Level ID: 8 [Start Tile, End Tile]
Resolution: 611.49622628138
Scale: 2311162.217155
- Level ID: 9 [Start Tile, End Tile]
Resolution: 305.748113140558
Scale: 1155581.108577
- Level ID: 10 [Start Tile, End Tile]
Resolution: 152.874056570411
Scale: 577790.554289
- Level ID: 11 [Start Tile, End Tile]
Resolution: 76.4370282850732
Scale: 288895.277144
- Level ID: 12 [Start Tile, End Tile]
Resolution: 38.2185141425366
Scale: 144447.638572
- Level ID: 13 [Start Tile, End Tile]
Resolution: 19.1092570712683
Scale: 72223.819286
- Level ID: 14 [Start Tile, End Tile]
Resolution: 9.55462853563415
Scale: 36111.909643
- Format: JPEG
- Compression Quality: 75
- Origin:
X: -2.0037508342787E7
Y: 2.0037508342787E7
- Spatial Reference:
102100
Initial Extent: XMin: -1.0120575051266253E7
YMin: 3353659.521710998
XMax: -1.0016009196572274E7
YMax: 3418401.684668455
Spatial Reference:
102100
Full Extent: XMin: -1.012700049886766E7
YMin: 3349640.793712468
XMax: -1.0009583748970868E7
YMax: 3422420.412666985
Spatial Reference:
102100
Min Scale: 5.91657527591555E8
Max Scale: 36111.909643
Min LOD: 0
Max LOD: 14
Units: esriMeters
Supported Image Format Types: JPEG
Export Tiles Allowed: false
Max Export Tiles Count: 100000
Document Info: - Title: Math_CoastalChange_Landsat2015_tiles
- Author: Maps.com_carto
- Comments:
- Subject: Landsat 8 image 2015-09-19, bands 7,5,3 for coastline delineation.
- Category:
- Keywords: GeoInquiries, math, rates, proportions, beach erosion, Timbalier Island, Timbalier