Services Directory
Login
Home
>
Math_AreaComplexFigure_Trapezoid_tiles
JSON
|
WMTS
|
API Reference
Math_AreaComplexFigure_Trapezoid_tiles
(Map Service)
View In:
ArcGIS JavaScript
ArcGIS.com
WMTS
Current Version:
10.7
Service Description:
Map Name:
Layers
Legend
All Layers and Tables
Layers:
labels
(0)
Default
(1)
labels
(2)
Default
(3)
Arrows
(4)
Trapezoid
(5)
Tables:
Description:
Copyright Text:
Maps.com
Spatial Reference:
102100
Single Fused Map Cache:
true
Capabilities:
Map,TilesOnly
Tile Info:
Height:
256
Width:
256
DPI:
96
Levels of Detail:
(# Levels: 12)
Level ID:
0 [
Start Tile
,
End Tile
]
Resolution: 156543.033928
Scale: 5.91657527591555E8
Level ID:
1 [
Start Tile
,
End Tile
]
Resolution: 78271.5169639999
Scale: 2.95828763795777E8
Level ID:
2 [
Start Tile
,
End Tile
]
Resolution: 39135.7584820001
Scale: 1.47914381897889E8
Level ID:
3 [
Start Tile
,
End Tile
]
Resolution: 19567.8792409999
Scale: 7.3957190948944E7
Level ID:
4 [
Start Tile
,
End Tile
]
Resolution: 9783.93962049996
Scale: 3.6978595474472E7
Level ID:
5 [
Start Tile
,
End Tile
]
Resolution: 4891.96981024998
Scale: 1.8489297737236E7
Level ID:
6 [
Start Tile
,
End Tile
]
Resolution: 2445.98490512499
Scale: 9244648.868618
Level ID:
7 [
Start Tile
,
End Tile
]
Resolution: 1222.99245256249
Scale: 4622324.434309
Level ID:
8 [
Start Tile
,
End Tile
]
Resolution: 611.49622628138
Scale: 2311162.217155
Level ID:
9 [
Start Tile
,
End Tile
]
Resolution: 305.748113140558
Scale: 1155581.108577
Level ID:
10 [
Start Tile
,
End Tile
]
Resolution: 152.874056570411
Scale: 577790.554289
Level ID:
11 [
Start Tile
,
End Tile
]
Resolution: 76.4370282850732
Scale: 288895.277144
Format:
PNG
Compression Quality:
0
Origin:
X: -2.0037508342787E7
Y: 2.0037508342787E7
Spatial Reference:
102100
Initial Extent:
XMin: -8566890.95593173
YMin: 5356422.548415849
XMax: -8464020.153880913
YMax: 5507955.712480271
Spatial Reference:
102100
Full Extent:
XMin: -8869177.828215571
YMin: 5341082.186678439
XMax: -8484660.752588728
YMax: 5500492.539819635
Spatial Reference:
102100
Min Scale:
5.91657527591555E8
Max Scale:
288895.277144
Min LOD:
0
Max LOD:
11
Units:
esriMeters
Supported Image Format Types:
PNG
Export Tiles Allowed:
false
Max Export Tiles Count:
100000
Document Info:
Title:
Math_AreaComplexFigure_Trapezoid_tiles
Author:
Maps.com_carto
Comments:
Subject:
Trapezoid shape for the GeoInquiries math lesson on "Finding the Area of a Complex Figure."
Category:
Keywords:
GeoInquiries, area, math, geometry, trapezoid